Back
From: metabase:user:30ae4450-2aae-11df-837a-5e0a49663a4f
Subject: PASS Soar-Production-0.02 v5.16.2 GNU/Linux
Date: 2013-02-25T10:54:10Z
This distribution has been tested as part of the CPAN Testers
project, supporting the Perl programming language. See
http://wiki.cpantesters.org/ for more information or email
questions to cpan-testers-discuss@perl.org
--
Dear Nathan Gary Glenn,
This is a computer-generated report for Soar-Production-0.02
on perl 5.16.2, created by CPAN-Reporter-1.2009.
Thank you for uploading your work to CPAN. Congratulations!
All tests were successful.
Sections of this report:
* Tester comments
* Program output
* Prerequisites
* Environment and other context
------------------------------
TESTER COMMENTS
------------------------------
Additional comments from tester:
none provided
------------------------------
PROGRAM OUTPUT
------------------------------
Output from './Build test':
t/0-use.t ........................ ok
t/00-compile.t ................... ok
#
#
# Generated by Dist::Zilla::Plugin::ReportVersions::Tiny v1.08
# perl: 5.016002 (wanted 5.010) on linux from /home/c/perl5/perlbrew/perls/5.16.2i/bin/perl
#
# Carp => 1.26 (want any version)
# Data::Diver => 1.0101 (want any version)
# Data::Dumper => 2.135_06 (want any version)
# Exporter => 5.66 (want any version)
# File::Find => 1.20 (want any version)
# File::Spec => 3.40 (want any version)
# File::Spec::Functions => 3.40 (want any version)
# File::Temp => 0.22 (want any version)
# FindBin => 1.51 (want any version)
# Module::Build => 0.4003 (want 0.3601)
# Parse::RecDescent => 1.967009 (want any version)
# Pod::Coverage::TrustPod => module not found. (want any version)
# Soar::Production::Parser::PRDGrammar => 1.122860 (want any version)
# Test::Base => 0.60 (want any version)
# Test::Base::Filter => <undef> (want any version)
# Test::CPAN::Meta => module not found. (want any version)
# Test::Deep => 0.11 (want any version)
# Test::Exception => 0.31 (want any version)
# Test::More => 0.98 (want 0.88)
# Test::Pod => 1.45 (want 1.41)
# Test::Pod::Coverage => 1.08 (want 1.08)
# Test::Warn => 0.24 (want any version)
# base => 2.18 (want any version)
# parent => 0.225 (want any version)
# strict => 1.07 (want any version)
# utf8 => 1.09 (want any version)
# version => 0.9901 (want 0.9901)
# warnings => 1.13 (want any version)
#
# Thanks for using my code. I hope it works for you.
# If not, please try and include this output in the bug report.
# That will help me reproduce the issue and solve your problem.
#
t/000-report-versions-tiny.t ..... ok
t/1-basic.t ...................... ok
t/parser/00-use.t ................ ok
t/parser/01-bad_input.t .......... ok
t/parser/01.5-comments.t ......... ok
t/parser/02-split-productions.t .. ok
Subroutine main::is redefined at t/parser/03-production-names.t line 4.
t/parser/03-production-names.t ... ok
Subroutine main::is redefined at t/parser/04-documentation.t line 5.
t/parser/04-documentation.t ...... ok
Subroutine main::is redefined at t/parser/05-Flags.t line 5.
t/parser/05-Flags.t .............. ok
Subroutine main::is redefined at t/parser/06-State.t line 6.
t/parser/06-State.t .............. ok
Subroutine main::is redefined at t/parser/07-variables.t line 6.
t/parser/07-variables.t .......... ok
Subroutine main::is redefined at t/parser/08-attributes.t line 6.
t/parser/08-attributes.t ......... ok
Subroutine main::is redefined at t/parser/09-int.t line 6.
t/parser/09-int.t ................ ok
Subroutine main::is redefined at t/parser/10-float.t line 6.
t/parser/10-float.t .............. ok
Subroutine main::is redefined at t/parser/11-string.t line 5.
t/parser/11-string.t ............. ok
Subroutine main::is redefined at t/parser/12-quoted.t line 5.
t/parser/12-quoted.t ............. ok
Subroutine main::is redefined at t/parser/13-disjunct.t line 5.
t/parser/13-disjunct.t ........... ok
Subroutine main::is redefined at t/parser/14-conjunct.t line 5.
t/parser/14-conjunct.t ........... ok
Subroutine main::is redefined at t/parser/15-predicate.t line 5.
t/parser/15-predicate.t .......... ok
Subroutine main::is redefined at t/parser/16-preference.t line 6.
t/parser/16-preference.t ......... ok
Subroutine main::is redefined at t/parser/17-function.t line 5.
t/parser/17-function.t ........... ok
Subroutine main::is redefined at t/parser/18-negative.t line 5.
t/parser/18-negative.t ........... ok
Subroutine main::is redefined at t/parser/19-conjunctiveCond.t line 5.
t/parser/19-conjunctiveCond.t .... ok
t/parser/20-test_data.t .......... ok
t/printer/0-use.t ................ ok
t/printer/1-test_data.t .......... ok
All tests successful.
Files=28, Tests=1815, 122 wallclock secs ( 0.07 usr 1.43 sys + 111.43 cusr 5.51 csys = 118.44 CPU)
Result: PASS
------------------------------
PREREQUISITES
------------------------------
Prerequisite modules loaded:
requires:
Module Need Have
------------------------------------ ------ --------
base 0 2.18
Carp 0 1.26
Data::Dumper 0 2.135_06
Exporter 0 5.66
parent 0 0.225
Parse::RecDescent 0 1.967009
perl 5.010 5.016002
Soar::Production::Parser::PRDGrammar 0 1.122860
strict 0 1.07
warnings 0 1.13
build_requires:
Module Need Have
------------------------------------ ------ --------
Data::Diver 0 1.0101
File::Find 0 1.20
File::Spec 0 3.40
File::Spec::Functions 0 3.40
File::Temp 0 0.22
FindBin 0 1.51
Module::Build 0.3601 0.4003
Test::Base 0 0.60
Test::Base::Filter 0 0
Test::Deep 0 0.110
Test::Exception 0 0.31
Test::More 0.88 0.98
Test::Warn 0 0.24
utf8 0 1.09
configure_requires:
Module Need Have
------------------------------------ ------ --------
Module::Build 0.3601 0.4003
------------------------------
ENVIRONMENT AND OTHER CONTEXT
------------------------------
Environment variables:
LANG = ru_RU.utf8
PATH = /home/c/perl5/perlbrew/bin:/home/c/perl5/perlbrew/perls/5.16.2i/bin:/usr/local/bin:/usr/bin:/bin:/usr/local/games:/usr/games
PERL5LIB =
PERL5OPT =
PERL5_CPANPLUS_IS_RUNNING = 5761
PERL5_CPAN_IS_RUNNING = 5761
PERLBREW_MANPATH = /home/c/perl5/perlbrew/perls/5.16.2i/man
PERLBREW_PATH = /home/c/perl5/perlbrew/bin:/home/c/perl5/perlbrew/perls/5.16.2i/bin
PERLBREW_PERL = 5.16.2i
PERLBREW_ROOT = /home/c/perl5/perlbrew
PERLBREW_SKIP_INIT = 1
PERLBREW_VERSION = 0.58
SHELL = /bin/bash
TERM = xterm
Perl special variables (and OS-specific diagnostics, for MSWin32):
$^X = /home/c/perl5/perlbrew/perls/5.16.2i/bin/perl
$UID/$EUID = 1000 / 1000
$GID = 1000 24 25 27 29 30 44 46 108 109 115 1000 1001
$EGID = 1000 24 25 27 29 30 44 46 108 109 115 1000 1001
Perl module toolchain versions installed:
Module Have
------------------- --------
CPAN 1.9800
CPAN::Meta 2.120921
Cwd 3.40
ExtUtils::CBuilder 0.280206
ExtUtils::Command 1.17
ExtUtils::Install 1.58
ExtUtils::MakeMaker 6.63_02
ExtUtils::Manifest 1.61
ExtUtils::ParseXS 3.16
File::Spec 3.40
JSON 2.53
JSON::PP 2.27200
Module::Build 0.4003
Module::Signature 0.70
Parse::CPAN::Meta 1.4404
Test::Harness 3.23
Test::More 0.98
YAML 0.84
YAML::Syck 1.22
version 0.9901
--
Summary of my perl5 (revision 5 version 16 subversion 2) configuration:
Platform:
osname=linux, osvers=2.6.32-5-686, archname=i686-linux-thread-multi
uname='linux deb1 2.6.32-5-686 #1 smp sun sep 23 09:49:36 utc 2012 i686 gnulinux '
config_args='-de -Dprefix=/home/c/perl5/perlbrew/perls/5.16.2i -Dusethreads -Aeval:scriptdir=/home/c/perl5/perlbrew/perls/5.16.2i/bin'
hint=recommended, useposix=true, d_sigaction=define
useithreads=define, usemultiplicity=define
useperlio=define, d_sfio=undef, uselargefiles=define, usesocks=undef
use64bitint=undef, use64bitall=undef, uselongdouble=undef
usemymalloc=n, bincompat5005=undef
Compiler:
cc='cc', ccflags ='-D_REENTRANT -D_GNU_SOURCE -fno-strict-aliasing -pipe -fstack-protector -I/usr/local/include -D_LARGEFILE_SOURCE -D_FILE_OFFSET_BITS=64',
optimize='-O2',
cppflags='-D_REENTRANT -D_GNU_SOURCE -fno-strict-aliasing -pipe -fstack-protector -I/usr/local/include'
ccversion='', gccversion='4.4.5', gccosandvers=''
intsize=4, longsize=4, ptrsize=4, doublesize=8, byteorder=1234
d_longlong=define, longlongsize=8, d_longdbl=define, longdblsize=12
ivtype='long', ivsize=4, nvtype='double', nvsize=8, Off_t='off_t', lseeksize=8
alignbytes=4, prototype=define
Linker and Libraries:
ld='cc', ldflags =' -fstack-protector -L/usr/local/lib'
libpth=/usr/local/lib /lib/../lib /usr/lib/../lib /lib /usr/lib /usr/lib/i486-linux-gnu /usr/lib64
libs=-lnsl -lgdbm -ldb -ldl -lm -lcrypt -lutil -lpthread -lc -lgdbm_compat
perllibs=-lnsl -ldl -lm -lcrypt -lutil -lpthread -lc
libc=/lib/libc-2.11.3.so, so=so, useshrplib=false, libperl=libperl.a
gnulibc_version='2.11.3'
Dynamic Linking:
dlsrc=dl_dlopen.xs, dlext=so, d_dlsymun=undef, ccdlflags='-Wl,-E'
cccdlflags='-fPIC', lddlflags='-shared -O2 -L/usr/local/lib -fstack-protector'
Characteristics of this binary (from libperl):
Compile-time options: HAS_TIMES MULTIPLICITY PERLIO_LAYERS
PERL_DONT_CREATE_GVSV PERL_IMPLICIT_CONTEXT
PERL_MALLOC_WRAP PERL_PRESERVE_IVUV USE_ITHREADS
USE_LARGE_FILES USE_LOCALE USE_LOCALE_COLLATE
USE_LOCALE_CTYPE USE_LOCALE_NUMERIC USE_PERLIO
USE_PERL_ATOF USE_REENTRANT_API
Built under linux
Compiled at Jan 26 2013 16:12:36
%ENV:
PERL5LIB=""
PERL5OPT=""
PERL5_CPANPLUS_IS_RUNNING="5761"
PERL5_CPAN_IS_RUNNING="5761"
PERLBREW_MANPATH="/home/c/perl5/perlbrew/perls/5.16.2i/man"
PERLBREW_PATH="/home/c/perl5/perlbrew/bin:/home/c/perl5/perlbrew/perls/5.16.2i/bin"
PERLBREW_PERL="5.16.2i"
PERLBREW_ROOT="/home/c/perl5/perlbrew"
PERLBREW_SKIP_INIT="1"
PERLBREW_VERSION="0.58"
@INC:
/home/c/perl5/perlbrew/perls/5.16.2i/lib/site_perl/5.16.2/i686-linux-thread-multi
/home/c/perl5/perlbrew/perls/5.16.2i/lib/site_perl/5.16.2
/home/c/perl5/perlbrew/perls/5.16.2i/lib/5.16.2/i686-linux-thread-multi
/home/c/perl5/perlbrew/perls/5.16.2i/lib/5.16.2
.