Report for Net-SAML2-0.17

Back
From: metabase:user:320bfe00-2aae-11df-837a-5e0a49663a4f
Subject: PASS Net-SAML2-0.17 v5.24.1 RC3 GNU/Linux
Date: 2016-09-14T14:15:26Z

This distribution has been tested as part of the CPAN Testers
project, supporting the Perl programming language.  See
http://wiki.cpantesters.org/ for more information or email
questions to cpan-testers-discuss@perl.org


--
Dear Chris Andrews,

This is a computer-generated report for Net-SAML2-0.17
on perl 5.24.1, created by CPAN-Reporter-1.2018.

Thank you for uploading your work to CPAN.  Congratulations!
All tests were successful.

Sections of this report:

    * Tester comments
    * Program output
    * Prerequisites
    * Environment and other context

------------------------------
TESTER COMMENTS
------------------------------

Additional comments from tester:

this report is from an automated smoke testing program
and was not reviewed by a human for accuracy

------------------------------
PROGRAM OUTPUT
------------------------------

Output from '/usr/bin/make test':

make[1]: Entering directory '/tmp/loop_over_bdir-13570-6tyIvS/Net-SAML2-0.17-0/testapp'
Manifying 1 pod document
make[1]: Leaving directory '/tmp/loop_over_bdir-13570-6tyIvS/Net-SAML2-0.17-0/testapp'
make[1]: Entering directory '/tmp/loop_over_bdir-13570-6tyIvS/Net-SAML2-0.17-0/testapp'
PERL_DL_NONLAZY=1 "/tmp/basesmoker-reloperl-qOic/bin/perl" "-MExtUtils::Command::MM" "-MTest::Harness" "-e" "undef *Test::Harness::Switches; test_harness(0, '../blib/lib', '../blib/arch')" t/*.t
t/001_base.t ......... ok
t/002_index_route.t .. ok
All tests successful.
Files=2, Tests=4,  1 wallclock secs ( 0.01 usr  0.02 sys +  1.06 cusr  0.14 csys =  1.23 CPU)
Result: PASS
make[1]: Leaving directory '/tmp/loop_over_bdir-13570-6tyIvS/Net-SAML2-0.17-0/testapp'
PERL_DL_NONLAZY=1 "/tmp/basesmoker-reloperl-qOic/bin/perl" "-MExtUtils::Command::MM" "-MTest::Harness" "-e" "undef *Test::Harness::Switches; test_harness(0, 'inc', 'blib/lib', 'blib/arch')" t/*.t
t/00-basic.t ............. ok
t/01-create-idp.t ........ ok
t/02-create-sp.t ......... ok
t/03-assertions.t ........ ok
t/04-response.t .......... ok
t/05-soap-binding.t ...... ok
t/06-redirect-binding.t .. ok
t/07-logout-request.t .... ok
t/08-logout-response.t ... ok
t/09-authn-request.t ..... ok
t/10-artifact-resolve.t .. ok
t/11-more-metadata.t ..... ok
All tests successful.
Files=12, Tests=80,  7 wallclock secs ( 0.05 usr  0.04 sys +  5.93 cusr  0.55 csys =  6.57 CPU)
Result: PASS

------------------------------
PREREQUISITES
------------------------------

Prerequisite modules loaded:

requires:

    Module                     Need     Have     
    -------------------------- -------- ---------
    Class::Accessor            0        0.34     
    Crypt::OpenSSL::Bignum     0        0.06     
    Crypt::OpenSSL::DSA        0        0.15     
    Crypt::OpenSSL::Random     0        0.11     
    Crypt::OpenSSL::RSA        0        0.28     
    Crypt::OpenSSL::VerifyX509 0        0.10     
    Crypt::OpenSSL::X509       0        1.807    
    DateTime::Format::XSD      0        0.2      
    Digest::SHA1               0        2.13     
    File::Slurp                0        9999.19  
    IO::Compress::RawDeflate   0        2.069_001
    IO::Uncompress::RawInflate 0        2.069_001
    LWP::UserAgent             0        6.15     
    MIME::Base64               0        3.15     
    Moose                      0        2.1805   
    MooseX::Types              0        0.46     
    MooseX::Types::Common      0        0.001013 
    MooseX::Types::DateTime    0        0.13     
    MooseX::Types::URI         0        0.08     
    perl                       5.008001 5.024001 
    URI                        0        1.71     
    XML::CanonicalizeXML       0        0.05     
    XML::Generator             0        1.04     
    XML::XPath                 0        1.37     

build_requires:

    Module                     Need     Have     
    -------------------------- -------- ---------
    Dancer                     1.2000   1.3202   
    ExtUtils::MakeMaker        7.24     7.24     
    Test::More                 0.88     1.302056 
    WWW::Mechanize             1.66     1.78     
    YAML                       0        1.18     

configure_requires:

    Module                     Need     Have     
    -------------------------- -------- ---------
    ExtUtils::MakeMaker        6.56     7.24     


------------------------------
ENVIRONMENT AND OTHER CONTEXT
------------------------------

Environment variables:

    AUTOMATED_TESTING = 1
    LANG = C
    PATH = /home/sand/bin:/usr/local/bin:/usr/bin:/bin:/usr/games:/usr/local/perl/bin:/usr/X11/bin:/sbin:/usr/sbin
    PERL5LIB = 
    PERL5OPT = 
    PERL5_CPANPLUS_IS_RUNNING = 14393
    PERL5_CPAN_IS_RUNNING = 14393
    PERL_CANARY_STABILITY_NOPROMPT = 1
    PERL_MM_USE_DEFAULT = 1
    SHELL = /usr/bin/zsh
    TERM = screen

Perl special variables (and OS-specific diagnostics, for MSWin32):

    $^X = /tmp/basesmoker-reloperl-qOic/bin/perl
    $UID/$EUID = 1005 / 1005
    $GID = 1005 1005
    $EGID = 1005 1005

Perl module toolchain versions installed:

    Module              Have      
    ------------------- ----------
    CPAN                2.15      
    CPAN::Meta          2.150010  
    Cwd                 3.63_01   
    ExtUtils::CBuilder  0.280225  
    ExtUtils::Command   7.24      
    ExtUtils::Install   2.04      
    ExtUtils::MakeMaker 7.24      
    ExtUtils::Manifest  1.70      
    ExtUtils::ParseXS   3.31      
    File::Spec          3.63_01   
    JSON                2.90      
    JSON::PP            2.27300_01
    Module::Build       0.4220    
    Module::Signature   0.81      
    Parse::CPAN::Meta   2.150010  
    Test::Harness       3.36_01   
    Test::More          1.302056  
    YAML                1.18      
    YAML::Syck          1.29      
    version             0.9917    


--

Summary of my perl5 (revision 5 version 24 subversion 1) configuration:
  Commit id: 1b7abe20fcdca479e5720538eb76c42f71a979c3
  Platform:
    osname=linux, osvers=4.7.0-1-amd64, archname=x86_64-linux-thread-multi-ld
    uname='linux k93x64sid 4.7.0-1-amd64 #1 smp debian 4.7.2-1 (2016-08-28) x86_64 gnulinux '
    config_args='-Dprefix=/home/sand/src/perl/repoperls/installed-perls/host/k93x64sid/v5.24.1-RC3/a3f92 -Dmyhostname=k93x64sid -Dinstallusrbinperl=n -Uversiononly -Dusedevel -des -Ui_db -Dlibswanted=cl pthread socket inet nsl gdbm dbm malloc dl ld sun m crypt sec util c cposix posix ucb BSD gdbm_compat -Duseithreads -Duselongdouble -DDEBUGGING=-g'
    hint=recommended, useposix=true, d_sigaction=define
    useithreads=define, usemultiplicity=define
    use64bitint=define, use64bitall=define, uselongdouble=define
    usemymalloc=n, bincompat5005=undef
  Compiler:
    cc='cc', ccflags ='-D_REENTRANT -D_GNU_SOURCE -fwrapv -fno-strict-aliasing -pipe -fstack-protector-strong -I/usr/local/include -D_LARGEFILE_SOURCE -D_FILE_OFFSET_BITS=64',
    optimize='-O2 -g',
    cppflags='-D_REENTRANT -D_GNU_SOURCE -fwrapv -fno-strict-aliasing -pipe -fstack-protector-strong -I/usr/local/include'
    ccversion='', gccversion='6.2.0 20160901', gccosandvers=''
    intsize=4, longsize=8, ptrsize=8, doublesize=8, byteorder=12345678, doublekind=3
    d_longlong=define, longlongsize=8, d_longdbl=define, longdblsize=16, longdblkind=3
    ivtype='long', ivsize=8, nvtype='long double', nvsize=16, Off_t='off_t', lseeksize=8
    alignbytes=16, prototype=define
  Linker and Libraries:
    ld='cc', ldflags =' -fstack-protector-strong -L/usr/local/lib'
    libpth=/usr/local/lib /usr/lib/gcc/x86_64-linux-gnu/6/include-fixed /usr/include/x86_64-linux-gnu /usr/lib /lib/x86_64-linux-gnu /lib/../lib /usr/lib/x86_64-linux-gnu /usr/lib/../lib /lib
    libs=-lpthread -lnsl -ldl -lm -lcrypt -lutil -lc
    perllibs=-lpthread -lnsl -ldl -lm -lcrypt -lutil -lc
    libc=libc-2.24.so, so=so, useshrplib=false, libperl=libperl.a
    gnulibc_version='2.24'
  Dynamic Linking:
    dlsrc=dl_dlopen.xs, dlext=so, d_dlsymun=undef, ccdlflags='-Wl,-E'
    cccdlflags='-fPIC', lddlflags='-shared -O2 -g -L/usr/local/lib -fstack-protector-strong'


Characteristics of this binary (from libperl): 
  Compile-time options: HAS_TIMES MULTIPLICITY PERLIO_LAYERS
                        PERL_COPY_ON_WRITE PERL_DONT_CREATE_GVSV
                        PERL_HASH_FUNC_ONE_AT_A_TIME_HARD
                        PERL_IMPLICIT_CONTEXT PERL_MALLOC_WRAP
                        PERL_PRESERVE_IVUV PERL_USE_DEVEL USE_64_BIT_ALL
                        USE_64_BIT_INT USE_ITHREADS USE_LARGE_FILES
                        USE_LOCALE USE_LOCALE_COLLATE USE_LOCALE_CTYPE
                        USE_LOCALE_NUMERIC USE_LOCALE_TIME USE_LONG_DOUBLE
                        USE_PERLIO USE_PERL_ATOF USE_REENTRANT_API
  Locally applied patches:
	RC3
  Built under linux
  Compiled at Sep 14 2016 02:27:09
  %ENV:
    PERL5LIB=""
    PERL5OPT=""
    PERL5_CPANPLUS_IS_RUNNING="14393"
    PERL5_CPAN_IS_RUNNING="14393"
    PERL_CANARY_STABILITY_NOPROMPT="1"
    PERL_MM_USE_DEFAULT="1"
  @INC:
    /home/sand/src/perl/repoperls/installed-perls/host/k93x64sid/v5.24.1-RC3/a3f92/lib/site_perl/5.24.1/x86_64-linux-thread-multi-ld
    /home/sand/src/perl/repoperls/installed-perls/host/k93x64sid/v5.24.1-RC3/a3f92/lib/site_perl/5.24.1
    /home/sand/src/perl/repoperls/installed-perls/host/k93x64sid/v5.24.1-RC3/a3f92/lib/5.24.1/x86_64-linux-thread-multi-ld
    /home/sand/src/perl/repoperls/installed-perls/host/k93x64sid/v5.24.1-RC3/a3f92/lib/5.24.1
    .