Dist-Zilla-PluginBundle-BioPerl v0.27 Perl 5 v5.18.4 x86_64-linux

Status
Pass
From
Slaven Rezić (SREZIC)
Dist
Dist-Zilla-PluginBundle-BioPerl v0.27
Platform
Perl 5 v5.18.4 x86_64-linux
Date
2018-09-14 15:27:26
ID
af4a69e0-b832-11e8-a56a-92c6dee43d1f
This distribution has been tested as part of the CPAN Testers
project, supporting the Perl programming language.  See
http://wiki.cpantesters.org/ for more information or email
questions to cpan-testers-discuss@perl.org


--
Dear carandraug,

This is a computer-generated report for Dist-Zilla-PluginBundle-BioPerl-0.27
on perl 5.18.4, created by CPAN-Reporter-1.2018.

Thank you for uploading your work to CPAN.  Congratulations!
All tests were successful.

Sections of this report:

    * Tester comments
    * Program output
    * Prerequisites
    * Environment and other context

------------------------------
TESTER COMMENTS
------------------------------

Additional comments from tester:

none provided

------------------------------
PROGRAM OUTPUT
------------------------------

Output from 'make test':

PERL_DL_NONLAZY=1 "/opt/perl-5.18.4/bin/perl" "-MExtUtils::Command::MM" "-MTest::Harness" "-e" "undef *Test::Harness::Switches; test_harness(0, 'blib/lib', 'blib/arch')" t/*.t
t/00-compile.t ........... ok
t/author-eol.t ........... skipped: these tests are for testing by the author
t/author-mojibake.t ...... skipped: these tests are for testing by the author
t/author-no-tabs.t ....... skipped: these tests are for testing by the author
t/author-pod-coverage.t .. skipped: these tests are for testing by the author
t/author-pod-syntax.t .... skipped: these tests are for testing by the author
t/main.t ................. ok
All tests successful.
Files=7, Tests=3,  2 wallclock secs ( 0.02 usr  0.02 sys +  1.85 cusr  0.32 csys =  2.21 CPU)
Result: PASS

------------------------------
PREREQUISITES
------------------------------

Prerequisite modules loaded:

requires:

    Module                                          Need  Have    
    ----------------------------------------------- ----- --------
    Dist::Zilla::Plugin::AutoMetaResources          0     1.21    
    Dist::Zilla::Plugin::AutoPrereqs                0     6.012   
    Dist::Zilla::Plugin::Encoding                   0     6.012   
    Dist::Zilla::Plugin::Git::Check                 0     2.045   
    Dist::Zilla::Plugin::Git::Commit                0     2.045   
    Dist::Zilla::Plugin::Git::Tag                   0     2.045   
    Dist::Zilla::Plugin::MetaConfig                 0     6.012   
    Dist::Zilla::Plugin::MetaJSON                   0     6.012   
    Dist::Zilla::Plugin::MetaResources              0     6.012   
    Dist::Zilla::Plugin::MojibakeTests              0     0.8     
    Dist::Zilla::Plugin::NextRelease                0     6.012   
    Dist::Zilla::Plugin::PkgVersion                 0     6.012   
    Dist::Zilla::Plugin::PodCoverageTests           0     6.012   
    Dist::Zilla::Plugin::PodSyntaxTests             0     6.012   
    Dist::Zilla::Plugin::PodWeaver                  0     4.008   
    Dist::Zilla::Plugin::Test::Compile              0     2.056   
    Dist::Zilla::Plugin::Test::EOL                  0     0.19    
    Dist::Zilla::Plugin::Test::NoTabs               0     0.15    
    Dist::Zilla::PluginBundle::Basic                0     6.012   
    Dist::Zilla::Role::PluginBundle::Config::Slicer 0     0.201   
    Dist::Zilla::Role::PluginBundle::Easy           0     6.012   
    Dist::Zilla::Role::PluginBundle::PluginRemover  0     0.104   
    Moose                                           1.00  2.2011  
    MooseX::AttributeShortcuts                      0     0.036   
    MooseX::Types::Email                            0     0.007   
    MooseX::Types::Moose                            0     0.50    
    namespace::autoclean                            0     0.28    
    perl                                            5.006 5.018004
    Pod::Elemental::Transformer::List               0     0.102000
    Pod::Weaver::Config::Assembler                  0     4.015   
    Pod::Weaver::Plugin::EnsureUniqueSections       0     0.163250
    Pod::Weaver::Plugin::SingleEncoding             0     4.015   
    Pod::Weaver::Plugin::Transformer                0     4.015   
    Pod::Weaver::PluginBundle::CorePrep             0     4.015   
    Pod::Weaver::Section::Collect                   0     4.015   
    Pod::Weaver::Section::Contributors              0     0.009   
    Pod::Weaver::Section::GenerateSection           0     1.06    
    Pod::Weaver::Section::Leftovers                 0     4.015   
    Pod::Weaver::Section::Legal::Complicated        0     1.23    
    Pod::Weaver::Section::Name                      0     4.015   
    Pod::Weaver::Section::Region                    0     4.015   
    Pod::Weaver::Section::Version                   0     4.015   
    strict                                          0     1.07    
    utf8                                            0     1.10    
    warnings                                        0     1.18    

build_requires:

    Module                                          Need  Have    
    ----------------------------------------------- ----- --------
    ExtUtils::MakeMaker                             0     7.34    
    File::Spec                                      0     3.74    
    IO::Handle                                      0     1.39    
    IPC::Open3                                      0     1.13    
    Test::DZil                                      0     6.012   
    Test::Fatal                                     0     0.014   
    Test::More                                      0     1.302136

configure_requires:

    Module                                          Need  Have    
    ----------------------------------------------- ----- --------
    ExtUtils::MakeMaker                             0     7.34    


------------------------------
ENVIRONMENT AND OTHER CONTEXT
------------------------------

Environment variables:

    LANG = en_US.UTF-8
    PATH = /usr/local/bin:/usr/bin:/bin:/usr/local/sbin:/usr/sbin:/sbin:/home/cpansand/bin/linux-gnu:/home/cpansand/bin/sh:/home/cpansand/bin:/usr/games:/home/cpansand/devel:/home/eserte/src/srezic-misc/scripts
    PERL5LIB = 
    PERL5OPT = 
    PERL5_CPANPLUS_IS_RUNNING = 30454
    PERL5_CPAN_IS_RUNNING = 30454
    PERL5_CPAN_IS_RUNNING_IN_RECURSION = 29787,30454
    PERLDOC = -MPod::Perldoc::ToTextOverstrike
    PERL_BATCH = yes
    PERL_CANARY_STABILITY_NOPROMPT = 1
    PERL_CPAN_REPORTER_CONFIG = /var/tmp/cpansmoker-1023/2018091415/cpanreporter_000_config.ini
    PERL_EXTUTILS_AUTOINSTALL = --defaultdeps
    SHELL = /bin/zsh
    TERM = screen
    TMPDIR = /var/tmp/cpansmoker-1023/2018091415

Perl special variables (and OS-specific diagnostics, for MSWin32):

    $^X = /opt/perl-5.18.4/bin/perl
    $UID/$EUID = 1023 / 1023
    $GID = 1023 1023
    $EGID = 1023 1023

Perl module toolchain versions installed:

    Module              Have    
    ------------------- --------
    CPAN                2.16    
    CPAN::Meta          2.150010
    Cwd                 3.74    
    ExtUtils::CBuilder  0.280230
    ExtUtils::Command   7.34    
    ExtUtils::Install   2.14    
    ExtUtils::MakeMaker 7.34    
    ExtUtils::Manifest  1.71    
    ExtUtils::ParseXS   3.30    
    File::Spec          3.74    
    JSON                2.97001 
    JSON::PP            2.97001 
    Module::Build       0.4224  
    Module::Signature   0.81    
    Parse::CPAN::Meta   2.150010
    Test::Harness       3.42    
    Test::More          1.302136
    YAML                1.26    
    YAML::Syck          1.30    
    version             0.992   


--

Summary of my perl5 (revision 5 version 18 subversion 4) configuration:
   
  Platform:
    osname=linux, osvers=2.6.32-696.3.1.el6.x86_64, archname=x86_64-linux
    uname='linux centos6 2.6.32-696.3.1.el6.x86_64 #1 smp tue may 30 19:52:55 utc 2017 x86_64 x86_64 x86_64 gnulinux '
    config_args='-ds -e -Dprefix=/opt/perl-5.18.4 -Dcf_email=srezic@cpan.org'
    hint=recommended, useposix=true, d_sigaction=define
    useithreads=undef, usemultiplicity=undef
    useperlio=define, d_sfio=undef, uselargefiles=define, usesocks=undef
    use64bitint=define, use64bitall=define, uselongdouble=undef
    usemymalloc=n, bincompat5005=undef
  Compiler:
    cc='cc', ccflags ='-fno-strict-aliasing -pipe -fstack-protector -I/usr/local/include -D_LARGEFILE_SOURCE -D_FILE_OFFSET_BITS=64',
    optimize='-O2',
    cppflags='-fno-strict-aliasing -pipe -fstack-protector -I/usr/local/include'
    ccversion='', gccversion='4.4.7 20120313 (Red Hat 4.4.7-18)', gccosandvers=''
    intsize=4, longsize=8, ptrsize=8, doublesize=8, byteorder=12345678
    d_longlong=define, longlongsize=8, d_longdbl=define, longdblsize=16
    ivtype='long', ivsize=8, nvtype='double', nvsize=8, Off_t='off_t', lseeksize=8
    alignbytes=8, prototype=define
  Linker and Libraries:
    ld='cc', ldflags =' -fstack-protector -L/usr/local/lib'
    libpth=/usr/local/lib /lib/../lib64 /usr/lib/../lib64 /lib /usr/lib /lib64 /usr/lib64 /usr/local/lib64
    libs=-lnsl -lgdbm -ldb -ldl -lm -lcrypt -lutil -lc
    perllibs=-lnsl -ldl -lm -lcrypt -lutil -lc
    libc=, so=so, useshrplib=false, libperl=libperl.a
    gnulibc_version='2.12'
  Dynamic Linking:
    dlsrc=dl_dlopen.xs, dlext=so, d_dlsymun=undef, ccdlflags='-Wl,-E'
    cccdlflags='-fPIC', lddlflags='-shared -O2 -L/usr/local/lib -fstack-protector'


Characteristics of this binary (from libperl): 
  Compile-time options: HAS_TIMES PERLIO_LAYERS PERL_DONT_CREATE_GVSV
                        PERL_HASH_FUNC_ONE_AT_A_TIME_HARD PERL_MALLOC_WRAP
                        PERL_PRESERVE_IVUV PERL_SAWAMPERSAND USE_64_BIT_ALL
                        USE_64_BIT_INT USE_LARGE_FILES USE_LOCALE
                        USE_LOCALE_COLLATE USE_LOCALE_CTYPE
                        USE_LOCALE_NUMERIC USE_PERLIO USE_PERL_ATOF
  Built under linux
  Compiled at Jun 24 2017 09:25:31
  %ENV:
    PERL5LIB=""
    PERL5OPT=""
    PERL5_CPANPLUS_IS_RUNNING="30454"
    PERL5_CPAN_IS_RUNNING="30454"
    PERL5_CPAN_IS_RUNNING_IN_RECURSION="29787,30454"
    PERLDOC="-MPod::Perldoc::ToTextOverstrike"
    PERL_BATCH="yes"
    PERL_CANARY_STABILITY_NOPROMPT="1"
    PERL_CPAN_REPORTER_CONFIG="/var/tmp/cpansmoker-1023/2018091415/cpanreporter_000_config.ini"
    PERL_EXTUTILS_AUTOINSTALL="--defaultdeps"
  @INC:
    /opt/perl-5.18.4/lib/site_perl/5.18.4/x86_64-linux
    /opt/perl-5.18.4/lib/site_perl/5.18.4
    /opt/perl-5.18.4/lib/5.18.4/x86_64-linux
    /opt/perl-5.18.4/lib/5.18.4
    .