XS-Framework v1.6.0 Perl 5 v5.24.4 x86_64-linux

Status
Pass
From
Andreas J. König (ANDK)
Dist
XS-Framework v1.6.0
Platform
Perl 5 v5.24.4 x86_64-linux
Date
2025-03-28 09:26:10
ID
af80ab8e-0bb6-11f0-a904-b0f7b47da710
This distribution has been tested as part of the CPAN Testers
project, supporting the Perl programming language.  See
http://wiki.cpantesters.org/ for more information or email
questions to cpan-testers-discuss@perl.org


--
Dear Oleg Pronin,

This is a computer-generated report for XS-Framework-1.6.0
on perl 5.24.4, created by CPAN-Reporter-1.2018.

Thank you for uploading your work to CPAN.  Congratulations!
All tests were successful.

Sections of this report:

    * Tester comments
    * Program output
    * Prerequisites
    * Environment and other context

------------------------------
TESTER COMMENTS
------------------------------

Additional comments from tester:

this report is from an automated smoke testing program
and was not reviewed by a human for accuracy

------------------------------
PROGRAM OUTPUT
------------------------------

Output from '/usr/bin/make test':

"/home/sand/src/perl/repoperls/installed-perls/host/k93msid/v5.24.4/da1c/bin/perl" -MExtUtils::Command::MM -e 'cp_nonempty' -- Framework.bs blib/arch/auto/XS/Framework/Framework.bs 644
c++ -c  -Isrc -I/home/sand/src/perl/repoperls/installed-perls/host/k93msid/v5.24.4/da1c/lib/site_perl/5.24.4/x86_64-linux/next/XS.x/i -I/home/sand/src/perl/repoperls/installed-perls/host/k93msid/v5.24.4/da1c/lib/site_perl/5.24.4/XS/Install.x/i -I/home/sand/src/perl/repoperls/installed-perls/host/k93msid/v5.24.4/da1c/lib/site_perl/5.24.4/x86_64-linux/XS/libpanda.x/i -I/home/sand/src/perl/repoperls/installed-perls/host/k93msid/v5.24.4/da1c/lib/site_perl/5.24.4/x86_64-linux/XS/libcatch.x/i -Wall -Wextra  -std=c++14 -fwrapv -fno-strict-aliasing -pipe -fstack-protector-strong -I/usr/local/include -D_LARGEFILE_SOURCE -D_FILE_OFFSET_BITS=64 -D_FORTIFY_SOURCE=2 -o t/typemap/function.o -g -O0   -DVERSION=\"0.0.0\" -DXS_VERSION=\"0.0.0\" -fPIC "-I/home/sand/src/perl/repoperls/installed-perls/host/k93msid/v5.24.4/da1c/lib/5.24.4/x86_64-linux/CORE"   t/typemap/function.cc
c++ -c  -Isrc -I/home/sand/src/perl/repoperls/installed-perls/host/k93msid/v5.24.4/da1c/lib/site_perl/5.24.4/x86_64-linux/next/XS.x/i -I/home/sand/src/perl/repoperls/installed-perls/host/k93msid/v5.24.4/da1c/lib/site_perl/5.24.4/XS/Install.x/i -I/home/sand/src/perl/repoperls/installed-perls/host/k93msid/v5.24.4/da1c/lib/site_perl/5.24.4/x86_64-linux/XS/libpanda.x/i -I/home/sand/src/perl/repoperls/installed-perls/host/k93msid/v5.24.4/da1c/lib/site_perl/5.24.4/x86_64-linux/XS/libcatch.x/i -Wall -Wextra  -std=c++14 -fwrapv -fno-strict-aliasing -pipe -fstack-protector-strong -I/usr/local/include -D_LARGEFILE_SOURCE -D_FILE_OFFSET_BITS=64 -D_FORTIFY_SOURCE=2 -o t/typemap/ref.o -g -O0   -DVERSION=\"0.0.0\" -DXS_VERSION=\"0.0.0\" -fPIC "-I/home/sand/src/perl/repoperls/installed-perls/host/k93msid/v5.24.4/da1c/lib/5.24.4/x86_64-linux/CORE"   t/typemap/ref.cc
c++ -c  -Isrc -I/home/sand/src/perl/repoperls/installed-perls/host/k93msid/v5.24.4/da1c/lib/site_perl/5.24.4/x86_64-linux/next/XS.x/i -I/home/sand/src/perl/repoperls/installed-perls/host/k93msid/v5.24.4/da1c/lib/site_perl/5.24.4/XS/Install.x/i -I/home/sand/src/perl/repoperls/installed-perls/host/k93msid/v5.24.4/da1c/lib/site_perl/5.24.4/x86_64-linux/XS/libpanda.x/i -I/home/sand/src/perl/repoperls/installed-perls/host/k93msid/v5.24.4/da1c/lib/site_perl/5.24.4/x86_64-linux/XS/libcatch.x/i -Wall -Wextra  -std=c++14 -fwrapv -fno-strict-aliasing -pipe -fstack-protector-strong -I/usr/local/include -D_LARGEFILE_SOURCE -D_FILE_OFFSET_BITS=64 -D_FORTIFY_SOURCE=2 -o t/svapi/array.o -g -O0   -DVERSION=\"0.0.0\" -DXS_VERSION=\"0.0.0\" -fPIC "-I/home/sand/src/perl/repoperls/installed-perls/host/k93msid/v5.24.4/da1c/lib/5.24.4/x86_64-linux/CORE"   t/svapi/array.cc
c++ -c  -Isrc -I/home/sand/src/perl/repoperls/installed-perls/host/k93msid/v5.24.4/da1c/lib/site_perl/5.24.4/x86_64-linux/next/XS.x/i -I/home/sand/src/perl/repoperls/installed-perls/host/k93msid/v5.24.4/da1c/lib/site_perl/5.24.4/XS/Install.x/i -I/home/sand/src/perl/repoperls/installed-perls/host/k93msid/v5.24.4/da1c/lib/site_perl/5.24.4/x86_64-linux/XS/libpanda.x/i -I/home/sand/src/perl/repoperls/installed-perls/host/k93msid/v5.24.4/da1c/lib/site_perl/5.24.4/x86_64-linux/XS/libcatch.x/i -Wall -Wextra  -std=c++14 -fwrapv -fno-strict-aliasing -pipe -fstack-protector-strong -I/usr/local/include -D_LARGEFILE_SOURCE -D_FILE_OFFSET_BITS=64 -D_FORTIFY_SOURCE=2 -o t/svapi/glob.o -g -O0   -DVERSION=\"0.0.0\" -DXS_VERSION=\"0.0.0\" -fPIC "-I/home/sand/src/perl/repoperls/installed-perls/host/k93msid/v5.24.4/da1c/lib/5.24.4/x86_64-linux/CORE"   t/svapi/glob.cc
c++ -c  -Isrc -I/home/sand/src/perl/repoperls/installed-perls/host/k93msid/v5.24.4/da1c/lib/site_perl/5.24.4/x86_64-linux/next/XS.x/i -I/home/sand/src/perl/repoperls/installed-perls/host/k93msid/v5.24.4/da1c/lib/site_perl/5.24.4/XS/Install.x/i -I/home/sand/src/perl/repoperls/installed-perls/host/k93msid/v5.24.4/da1c/lib/site_perl/5.24.4/x86_64-linux/XS/libpanda.x/i -I/home/sand/src/perl/repoperls/installed-perls/host/k93msid/v5.24.4/da1c/lib/site_perl/5.24.4/x86_64-linux/XS/libcatch.x/i -Wall -Wextra  -std=c++14 -fwrapv -fno-strict-aliasing -pipe -fstack-protector-strong -I/usr/local/include -D_LARGEFILE_SOURCE -D_FILE_OFFSET_BITS=64 -D_FORTIFY_SOURCE=2 -o t/svapi/hash.o -g -O0   -DVERSION=\"0.0.0\" -DXS_VERSION=\"0.0.0\" -fPIC "-I/home/sand/src/perl/repoperls/installed-perls/host/k93msid/v5.24.4/da1c/lib/5.24.4/x86_64-linux/CORE"   t/svapi/hash.cc
c++ -c  -Isrc -I/home/sand/src/perl/repoperls/installed-perls/host/k93msid/v5.24.4/da1c/lib/site_perl/5.24.4/x86_64-linux/next/XS.x/i -I/home/sand/src/perl/repoperls/installed-perls/host/k93msid/v5.24.4/da1c/lib/site_perl/5.24.4/XS/Install.x/i -I/home/sand/src/perl/repoperls/installed-perls/host/k93msid/v5.24.4/da1c/lib/site_perl/5.24.4/x86_64-linux/XS/libpanda.x/i -I/home/sand/src/perl/repoperls/installed-perls/host/k93msid/v5.24.4/da1c/lib/site_perl/5.24.4/x86_64-linux/XS/libcatch.x/i -Wall -Wextra  -std=c++14 -fwrapv -fno-strict-aliasing -pipe -fstack-protector-strong -I/usr/local/include -D_LARGEFILE_SOURCE -D_FILE_OFFSET_BITS=64 -D_FORTIFY_SOURCE=2 -o t/svapi/io.o -g -O0   -DVERSION=\"0.0.0\" -DXS_VERSION=\"0.0.0\" -fPIC "-I/home/sand/src/perl/repoperls/installed-perls/host/k93msid/v5.24.4/da1c/lib/5.24.4/x86_64-linux/CORE"   t/svapi/io.cc
c++ -c  -Isrc -I/home/sand/src/perl/repoperls/installed-perls/host/k93msid/v5.24.4/da1c/lib/site_perl/5.24.4/x86_64-linux/next/XS.x/i -I/home/sand/src/perl/repoperls/installed-perls/host/k93msid/v5.24.4/da1c/lib/site_perl/5.24.4/XS/Install.x/i -I/home/sand/src/perl/repoperls/installed-perls/host/k93msid/v5.24.4/da1c/lib/site_perl/5.24.4/x86_64-linux/XS/libpanda.x/i -I/home/sand/src/perl/repoperls/installed-perls/host/k93msid/v5.24.4/da1c/lib/site_perl/5.24.4/x86_64-linux/XS/libcatch.x/i -Wall -Wextra  -std=c++14 -fwrapv -fno-strict-aliasing -pipe -fstack-protector-strong -I/usr/local/include -D_LARGEFILE_SOURCE -D_FILE_OFFSET_BITS=64 -D_FORTIFY_SOURCE=2 -o t/svapi/object.o -g -O0   -DVERSION=\"0.0.0\" -DXS_VERSION=\"0.0.0\" -fPIC "-I/home/sand/src/perl/repoperls/installed-perls/host/k93msid/v5.24.4/da1c/lib/5.24.4/x86_64-linux/CORE"   t/svapi/object.cc
c++ -c  -Isrc -I/home/sand/src/perl/repoperls/installed-perls/host/k93msid/v5.24.4/da1c/lib/site_perl/5.24.4/x86_64-linux/next/XS.x/i -I/home/sand/src/perl/repoperls/installed-perls/host/k93msid/v5.24.4/da1c/lib/site_perl/5.24.4/XS/Install.x/i -I/home/sand/src/perl/repoperls/installed-perls/host/k93msid/v5.24.4/da1c/lib/site_perl/5.24.4/x86_64-linux/XS/libpanda.x/i -I/home/sand/src/perl/repoperls/installed-perls/host/k93msid/v5.24.4/da1c/lib/site_perl/5.24.4/x86_64-linux/XS/libcatch.x/i -Wall -Wextra  -std=c++14 -fwrapv -fno-strict-aliasing -pipe -fstack-protector-strong -I/usr/local/include -D_LARGEFILE_SOURCE -D_FILE_OFFSET_BITS=64 -D_FORTIFY_SOURCE=2 -o t/svapi/ref.o -g -O0   -DVERSION=\"0.0.0\" -DXS_VERSION=\"0.0.0\" -fPIC "-I/home/sand/src/perl/repoperls/installed-perls/host/k93msid/v5.24.4/da1c/lib/5.24.4/x86_64-linux/CORE"   t/svapi/ref.cc
c++ -c  -Isrc -I/home/sand/src/perl/repoperls/installed-perls/host/k93msid/v5.24.4/da1c/lib/site_perl/5.24.4/x86_64-linux/next/XS.x/i -I/home/sand/src/perl/repoperls/installed-perls/host/k93msid/v5.24.4/da1c/lib/site_perl/5.24.4/XS/Install.x/i -I/home/sand/src/perl/repoperls/installed-perls/host/k93msid/v5.24.4/da1c/lib/site_perl/5.24.4/x86_64-linux/XS/libpanda.x/i -I/home/sand/src/perl/repoperls/installed-perls/host/k93msid/v5.24.4/da1c/lib/site_perl/5.24.4/x86_64-linux/XS/libcatch.x/i -Wall -Wextra  -std=c++14 -fwrapv -fno-strict-aliasing -pipe -fstack-protector-strong -I/usr/local/include -D_LARGEFILE_SOURCE -D_FILE_OFFSET_BITS=64 -D_FORTIFY_SOURCE=2 -o t/svapi/scalar.o -g -O0   -DVERSION=\"0.0.0\" -DXS_VERSION=\"0.0.0\" -fPIC "-I/home/sand/src/perl/repoperls/installed-perls/host/k93msid/v5.24.4/da1c/lib/5.24.4/x86_64-linux/CORE"   t/svapi/scalar.cc
c++ -c  -Isrc -I/home/sand/src/perl/repoperls/installed-perls/host/k93msid/v5.24.4/da1c/lib/site_perl/5.24.4/x86_64-linux/next/XS.x/i -I/home/sand/src/perl/repoperls/installed-perls/host/k93msid/v5.24.4/da1c/lib/site_perl/5.24.4/XS/Install.x/i -I/home/sand/src/perl/repoperls/installed-perls/host/k93msid/v5.24.4/da1c/lib/site_perl/5.24.4/x86_64-linux/XS/libpanda.x/i -I/home/sand/src/perl/repoperls/installed-perls/host/k93msid/v5.24.4/da1c/lib/site_perl/5.24.4/x86_64-linux/XS/libcatch.x/i -Wall -Wextra  -std=c++14 -fwrapv -fno-strict-aliasing -pipe -fstack-protector-strong -I/usr/local/include -D_LARGEFILE_SOURCE -D_FILE_OFFSET_BITS=64 -D_FORTIFY_SOURCE=2 -o t/svapi/scope.o -g -O0   -DVERSION=\"0.0.0\" -DXS_VERSION=\"0.0.0\" -fPIC "-I/home/sand/src/perl/repoperls/installed-perls/host/k93msid/v5.24.4/da1c/lib/5.24.4/x86_64-linux/CORE"   t/svapi/scope.cc
c++ -c  -Isrc -I/home/sand/src/perl/repoperls/installed-perls/host/k93msid/v5.24.4/da1c/lib/site_perl/5.24.4/x86_64-linux/next/XS.x/i -I/home/sand/src/perl/repoperls/installed-perls/host/k93msid/v5.24.4/da1c/lib/site_perl/5.24.4/XS/Install.x/i -I/home/sand/src/perl/repoperls/installed-perls/host/k93msid/v5.24.4/da1c/lib/site_perl/5.24.4/x86_64-linux/XS/libpanda.x/i -I/home/sand/src/perl/repoperls/installed-perls/host/k93msid/v5.24.4/da1c/lib/site_perl/5.24.4/x86_64-linux/XS/libcatch.x/i -Wall -Wextra  -std=c++14 -fwrapv -fno-strict-aliasing -pipe -fstack-protector-strong -I/usr/local/include -D_LARGEFILE_SOURCE -D_FILE_OFFSET_BITS=64 -D_FORTIFY_SOURCE=2 -o t/svapi/simple.o -g -O0   -DVERSION=\"0.0.0\" -DXS_VERSION=\"0.0.0\" -fPIC "-I/home/sand/src/perl/repoperls/installed-perls/host/k93msid/v5.24.4/da1c/lib/5.24.4/x86_64-linux/CORE"   t/svapi/simple.cc
c++ -c  -Isrc -I/home/sand/src/perl/repoperls/installed-perls/host/k93msid/v5.24.4/da1c/lib/site_perl/5.24.4/x86_64-linux/next/XS.x/i -I/home/sand/src/perl/repoperls/installed-perls/host/k93msid/v5.24.4/da1c/lib/site_perl/5.24.4/XS/Install.x/i -I/home/sand/src/perl/repoperls/installed-perls/host/k93msid/v5.24.4/da1c/lib/site_perl/5.24.4/x86_64-linux/XS/libpanda.x/i -I/home/sand/src/perl/repoperls/installed-perls/host/k93msid/v5.24.4/da1c/lib/site_perl/5.24.4/x86_64-linux/XS/libcatch.x/i -Wall -Wextra  -std=c++14 -fwrapv -fno-strict-aliasing -pipe -fstack-protector-strong -I/usr/local/include -D_LARGEFILE_SOURCE -D_FILE_OFFSET_BITS=64 -D_FORTIFY_SOURCE=2 -o t/svapi/stash.o -g -O0   -DVERSION=\"0.0.0\" -DXS_VERSION=\"0.0.0\" -fPIC "-I/home/sand/src/perl/repoperls/installed-perls/host/k93msid/v5.24.4/da1c/lib/5.24.4/x86_64-linux/CORE"   t/svapi/stash.cc
c++ -c  -Isrc -I/home/sand/src/perl/repoperls/installed-perls/host/k93msid/v5.24.4/da1c/lib/site_perl/5.24.4/x86_64-linux/next/XS.x/i -I/home/sand/src/perl/repoperls/installed-perls/host/k93msid/v5.24.4/da1c/lib/site_perl/5.24.4/XS/Install.x/i -I/home/sand/src/perl/repoperls/installed-perls/host/k93msid/v5.24.4/da1c/lib/site_perl/5.24.4/x86_64-linux/XS/libpanda.x/i -I/home/sand/src/perl/repoperls/installed-perls/host/k93msid/v5.24.4/da1c/lib/site_perl/5.24.4/x86_64-linux/XS/libcatch.x/i -Wall -Wextra  -std=c++14 -fwrapv -fno-strict-aliasing -pipe -fstack-protector-strong -I/usr/local/include -D_LARGEFILE_SOURCE -D_FILE_OFFSET_BITS=64 -D_FORTIFY_SOURCE=2 -o t/svapi/sub.o -g -O0   -DVERSION=\"0.0.0\" -DXS_VERSION=\"0.0.0\" -fPIC "-I/home/sand/src/perl/repoperls/installed-perls/host/k93msid/v5.24.4/da1c/lib/5.24.4/x86_64-linux/CORE"   t/svapi/sub.cc
c++ -c  -Isrc -I/home/sand/src/perl/repoperls/installed-perls/host/k93msid/v5.24.4/da1c/lib/site_perl/5.24.4/x86_64-linux/next/XS.x/i -I/home/sand/src/perl/repoperls/installed-perls/host/k93msid/v5.24.4/da1c/lib/site_perl/5.24.4/XS/Install.x/i -I/home/sand/src/perl/repoperls/installed-perls/host/k93msid/v5.24.4/da1c/lib/site_perl/5.24.4/x86_64-linux/XS/libpanda.x/i -I/home/sand/src/perl/repoperls/installed-perls/host/k93msid/v5.24.4/da1c/lib/site_perl/5.24.4/x86_64-linux/XS/libcatch.x/i -Wall -Wextra  -std=c++14 -fwrapv -fno-strict-aliasing -pipe -fstack-protector-strong -I/usr/local/include -D_LARGEFILE_SOURCE -D_FILE_OFFSET_BITS=64 -D_FORTIFY_SOURCE=2 -o t/svapi/sv.o -g -O0   -DVERSION=\"0.0.0\" -DXS_VERSION=\"0.0.0\" -fPIC "-I/home/sand/src/perl/repoperls/installed-perls/host/k93msid/v5.24.4/da1c/lib/5.24.4/x86_64-linux/CORE"   t/svapi/sv.cc
"/home/sand/src/perl/repoperls/installed-perls/host/k93msid/v5.24.4/da1c/bin/perl" -Ilib -MXS::Framework::ParseXS -MXS::Install::ParseXS "/home/sand/src/perl/repoperls/installed-perls/host/k93msid/v5.24.4/da1c/lib/site_perl/5.24.4/ExtUtils/xsubpp"  -hiertype -C++ -hiertype -C++ -typemap '/home/sand/src/perl/repoperls/installed-perls/host/k93msid/v5.24.4/da1c/lib/5.24.4/ExtUtils/typemap' -typemap '/home/sand/src/perl/repoperls/installed-perls/host/k93msid/v5.24.4/da1c/lib/site_perl/5.24.4/XS/Install.x/tm/typemap' -typemap '/home/sand/src/perl/repoperls/installed-perls/host/k93msid/v5.24.4/da1c/lib/site_perl/5.24.4/XS/Install.x/tm/typemap' -typemap '/tmp/loop_over_bdir-2639088-JPDXIt/XS-Framework-1.6.0-0/typemap' -typemap '/tmp/loop_over_bdir-2639088-JPDXIt/XS-Framework-1.6.0-0/typemap64' -typemap '/tmp/loop_over_bdir-2639088-JPDXIt/XS-Framework-1.6.0-0/typemap' -csuffix _xsgen.cc  t/MyTest.xs > t/MyTest.xsc
mv t/MyTest.xsc t/MyTest_xsgen.cc
c++ -c  -Isrc -I/home/sand/src/perl/repoperls/installed-perls/host/k93msid/v5.24.4/da1c/lib/site_perl/5.24.4/x86_64-linux/next/XS.x/i -I/home/sand/src/perl/repoperls/installed-perls/host/k93msid/v5.24.4/da1c/lib/site_perl/5.24.4/XS/Install.x/i -I/home/sand/src/perl/repoperls/installed-perls/host/k93msid/v5.24.4/da1c/lib/site_perl/5.24.4/x86_64-linux/XS/libpanda.x/i -I/home/sand/src/perl/repoperls/installed-perls/host/k93msid/v5.24.4/da1c/lib/site_perl/5.24.4/x86_64-linux/XS/libcatch.x/i -Wall -Wextra  -std=c++14 -fwrapv -fno-strict-aliasing -pipe -fstack-protector-strong -I/usr/local/include -D_LARGEFILE_SOURCE -D_FILE_OFFSET_BITS=64 -D_FORTIFY_SOURCE=2 -o t/MyTest_xsgen.o -g -O0   -DVERSION=\"0.0.0\" -DXS_VERSION=\"0.0.0\" -fPIC "-I/home/sand/src/perl/repoperls/installed-perls/host/k93msid/v5.24.4/da1c/lib/5.24.4/x86_64-linux/CORE"   t/MyTest_xsgen.cc
"/home/sand/src/perl/repoperls/installed-perls/host/k93msid/v5.24.4/da1c/bin/perl" -Ilib -MXS::Framework::ParseXS -MXS::Install::ParseXS "/home/sand/src/perl/repoperls/installed-perls/host/k93msid/v5.24.4/da1c/lib/site_perl/5.24.4/ExtUtils/xsubpp"  -hiertype -C++ -hiertype -C++ -typemap '/home/sand/src/perl/repoperls/installed-perls/host/k93msid/v5.24.4/da1c/lib/5.24.4/ExtUtils/typemap' -typemap '/home/sand/src/perl/repoperls/installed-perls/host/k93msid/v5.24.4/da1c/lib/site_perl/5.24.4/XS/Install.x/tm/typemap' -typemap '/home/sand/src/perl/repoperls/installed-perls/host/k93msid/v5.24.4/da1c/lib/site_perl/5.24.4/XS/Install.x/tm/typemap' -typemap '/tmp/loop_over_bdir-2639088-JPDXIt/XS-Framework-1.6.0-0/typemap' -typemap '/tmp/loop_over_bdir-2639088-JPDXIt/XS-Framework-1.6.0-0/typemap64' -typemap '/tmp/loop_over_bdir-2639088-JPDXIt/XS-Framework-1.6.0-0/typemap' -csuffix _xsgen.cc  t/typemap/typemap.xs > t/typemap/typemap.xsc
mv t/typemap/typemap.xsc t/typemap/typemap_xsgen.cc
c++ -c  -Isrc -I/home/sand/src/perl/repoperls/installed-perls/host/k93msid/v5.24.4/da1c/lib/site_perl/5.24.4/x86_64-linux/next/XS.x/i -I/home/sand/src/perl/repoperls/installed-perls/host/k93msid/v5.24.4/da1c/lib/site_perl/5.24.4/XS/Install.x/i -I/home/sand/src/perl/repoperls/installed-perls/host/k93msid/v5.24.4/da1c/lib/site_perl/5.24.4/x86_64-linux/XS/libpanda.x/i -I/home/sand/src/perl/repoperls/installed-perls/host/k93msid/v5.24.4/da1c/lib/site_perl/5.24.4/x86_64-linux/XS/libcatch.x/i -Wall -Wextra  -std=c++14 -fwrapv -fno-strict-aliasing -pipe -fstack-protector-strong -I/usr/local/include -D_LARGEFILE_SOURCE -D_FILE_OFFSET_BITS=64 -D_FORTIFY_SOURCE=2 -o t/typemap/typemap_xsgen.o -g -O0   -DVERSION=\"0.0.0\" -DXS_VERSION=\"0.0.0\" -fPIC "-I/home/sand/src/perl/repoperls/installed-perls/host/k93msid/v5.24.4/da1c/lib/5.24.4/x86_64-linux/CORE"   t/typemap/typemap_xsgen.cc
"/home/sand/src/perl/repoperls/installed-perls/host/k93msid/v5.24.4/da1c/bin/perl" -Ilib -MXS::Framework::ParseXS -MXS::Install::ParseXS "/home/sand/src/perl/repoperls/installed-perls/host/k93msid/v5.24.4/da1c/lib/site_perl/5.24.4/ExtUtils/xsubpp"  -hiertype -C++ -hiertype -C++ -typemap '/home/sand/src/perl/repoperls/installed-perls/host/k93msid/v5.24.4/da1c/lib/5.24.4/ExtUtils/typemap' -typemap '/home/sand/src/perl/repoperls/installed-perls/host/k93msid/v5.24.4/da1c/lib/site_perl/5.24.4/XS/Install.x/tm/typemap' -typemap '/home/sand/src/perl/repoperls/installed-perls/host/k93msid/v5.24.4/da1c/lib/site_perl/5.24.4/XS/Install.x/tm/typemap' -typemap '/tmp/loop_over_bdir-2639088-JPDXIt/XS-Framework-1.6.0-0/typemap' -typemap '/tmp/loop_over_bdir-2639088-JPDXIt/XS-Framework-1.6.0-0/typemap64' -typemap '/tmp/loop_over_bdir-2639088-JPDXIt/XS-Framework-1.6.0-0/typemap' -csuffix _xsgen.cc  t/typemap/object/object.xs > t/typemap/object/object.xsc
mv t/typemap/object/object.xsc t/typemap/object/object_xsgen.cc
c++ -c  -Isrc -I/home/sand/src/perl/repoperls/installed-perls/host/k93msid/v5.24.4/da1c/lib/site_perl/5.24.4/x86_64-linux/next/XS.x/i -I/home/sand/src/perl/repoperls/installed-perls/host/k93msid/v5.24.4/da1c/lib/site_perl/5.24.4/XS/Install.x/i -I/home/sand/src/perl/repoperls/installed-perls/host/k93msid/v5.24.4/da1c/lib/site_perl/5.24.4/x86_64-linux/XS/libpanda.x/i -I/home/sand/src/perl/repoperls/installed-perls/host/k93msid/v5.24.4/da1c/lib/site_perl/5.24.4/x86_64-linux/XS/libcatch.x/i -Wall -Wextra  -std=c++14 -fwrapv -fno-strict-aliasing -pipe -fstack-protector-strong -I/usr/local/include -D_LARGEFILE_SOURCE -D_FILE_OFFSET_BITS=64 -D_FORTIFY_SOURCE=2 -o t/typemap/object/object_xsgen.o -g -O0   -DVERSION=\"0.0.0\" -DXS_VERSION=\"0.0.0\" -fPIC "-I/home/sand/src/perl/repoperls/installed-perls/host/k93msid/v5.24.4/da1c/lib/5.24.4/x86_64-linux/CORE"   t/typemap/object/object_xsgen.cc
"/home/sand/src/perl/repoperls/installed-perls/host/k93msid/v5.24.4/da1c/bin/perl" -Ilib -MXS::Framework::ParseXS -MXS::Install::ParseXS "/home/sand/src/perl/repoperls/installed-perls/host/k93msid/v5.24.4/da1c/lib/site_perl/5.24.4/ExtUtils/xsubpp"  -hiertype -C++ -hiertype -C++ -typemap '/home/sand/src/perl/repoperls/installed-perls/host/k93msid/v5.24.4/da1c/lib/5.24.4/ExtUtils/typemap' -typemap '/home/sand/src/perl/repoperls/installed-perls/host/k93msid/v5.24.4/da1c/lib/site_perl/5.24.4/XS/Install.x/tm/typemap' -typemap '/home/sand/src/perl/repoperls/installed-perls/host/k93msid/v5.24.4/da1c/lib/site_perl/5.24.4/XS/Install.x/tm/typemap' -typemap '/tmp/loop_over_bdir-2639088-JPDXIt/XS-Framework-1.6.0-0/typemap' -typemap '/tmp/loop_over_bdir-2639088-JPDXIt/XS-Framework-1.6.0-0/typemap64' -typemap '/tmp/loop_over_bdir-2639088-JPDXIt/XS-Framework-1.6.0-0/typemap' -csuffix _xsgen.cc  t/typemap/callback_dispatcher.xs > t/typemap/callback_dispatcher.xsc
mv t/typemap/callback_dispatcher.xsc t/typemap/callback_dispatcher_xsgen.cc
c++ -c  -Isrc -I/home/sand/src/perl/repoperls/installed-perls/host/k93msid/v5.24.4/da1c/lib/site_perl/5.24.4/x86_64-linux/next/XS.x/i -I/home/sand/src/perl/repoperls/installed-perls/host/k93msid/v5.24.4/da1c/lib/site_perl/5.24.4/XS/Install.x/i -I/home/sand/src/perl/repoperls/installed-perls/host/k93msid/v5.24.4/da1c/lib/site_perl/5.24.4/x86_64-linux/XS/libpanda.x/i -I/home/sand/src/perl/repoperls/installed-perls/host/k93msid/v5.24.4/da1c/lib/site_perl/5.24.4/x86_64-linux/XS/libcatch.x/i -Wall -Wextra  -std=c++14 -fwrapv -fno-strict-aliasing -pipe -fstack-protector-strong -I/usr/local/include -D_LARGEFILE_SOURCE -D_FILE_OFFSET_BITS=64 -D_FORTIFY_SOURCE=2 -o t/typemap/callback_dispatcher_xsgen.o -g -O0   -DVERSION=\"0.0.0\" -DXS_VERSION=\"0.0.0\" -fPIC "-I/home/sand/src/perl/repoperls/installed-perls/host/k93msid/v5.24.4/da1c/lib/5.24.4/x86_64-linux/CORE"   t/typemap/callback_dispatcher_xsgen.cc
"/home/sand/src/perl/repoperls/installed-perls/host/k93msid/v5.24.4/da1c/bin/perl" -Ilib -MXS::Framework::ParseXS -MXS::Install::ParseXS "/home/sand/src/perl/repoperls/installed-perls/host/k93msid/v5.24.4/da1c/lib/site_perl/5.24.4/ExtUtils/xsubpp"  -hiertype -C++ -hiertype -C++ -typemap '/home/sand/src/perl/repoperls/installed-perls/host/k93msid/v5.24.4/da1c/lib/5.24.4/ExtUtils/typemap' -typemap '/home/sand/src/perl/repoperls/installed-perls/host/k93msid/v5.24.4/da1c/lib/site_perl/5.24.4/XS/Install.x/tm/typemap' -typemap '/home/sand/src/perl/repoperls/installed-perls/host/k93msid/v5.24.4/da1c/lib/site_perl/5.24.4/XS/Install.x/tm/typemap' -typemap '/tmp/loop_over_bdir-2639088-JPDXIt/XS-Framework-1.6.0-0/typemap' -typemap '/tmp/loop_over_bdir-2639088-JPDXIt/XS-Framework-1.6.0-0/typemap64' -typemap '/tmp/loop_over_bdir-2639088-JPDXIt/XS-Framework-1.6.0-0/typemap' -csuffix _xsgen.cc  t/cookbook/cookbook.xs > t/cookbook/cookbook.xsc
mv t/cookbook/cookbook.xsc t/cookbook/cookbook_xsgen.cc
c++ -c  -Isrc -I/home/sand/src/perl/repoperls/installed-perls/host/k93msid/v5.24.4/da1c/lib/site_perl/5.24.4/x86_64-linux/next/XS.x/i -I/home/sand/src/perl/repoperls/installed-perls/host/k93msid/v5.24.4/da1c/lib/site_perl/5.24.4/XS/Install.x/i -I/home/sand/src/perl/repoperls/installed-perls/host/k93msid/v5.24.4/da1c/lib/site_perl/5.24.4/x86_64-linux/XS/libpanda.x/i -I/home/sand/src/perl/repoperls/installed-perls/host/k93msid/v5.24.4/da1c/lib/site_perl/5.24.4/x86_64-linux/XS/libcatch.x/i -Wall -Wextra  -std=c++14 -fwrapv -fno-strict-aliasing -pipe -fstack-protector-strong -I/usr/local/include -D_LARGEFILE_SOURCE -D_FILE_OFFSET_BITS=64 -D_FORTIFY_SOURCE=2 -o t/cookbook/cookbook_xsgen.o -g -O0   -DVERSION=\"0.0.0\" -DXS_VERSION=\"0.0.0\" -fPIC "-I/home/sand/src/perl/repoperls/installed-perls/host/k93msid/v5.24.4/da1c/lib/5.24.4/x86_64-linux/CORE"   t/cookbook/cookbook_xsgen.cc
Running Mkbootstrap for MyTest ()
chmod 644 "MyTest.bs"
"/home/sand/src/perl/repoperls/installed-perls/host/k93msid/v5.24.4/da1c/bin/perl" -MExtUtils::Command::MM -e 'cp_nonempty' -- MyTest.bs blib/arch/auto/MyTest/MyTest.bs 644
rm -f blib/arch/auto/MyTest/MyTest.so
c++  -shared -O2 -g -L/usr/local/lib -fstack-protector-strong  t/typemap/function.o t/typemap/ref.o t/svapi/array.o t/svapi/glob.o t/svapi/hash.o t/svapi/io.o t/svapi/object.o t/svapi/ref.o t/svapi/scalar.o t/svapi/scope.o t/svapi/simple.o t/svapi/stash.o t/svapi/sub.o t/svapi/sv.o t/MyTest_xsgen.o t/typemap/typemap_xsgen.o t/typemap/object/object_xsgen.o t/typemap/callback_dispatcher_xsgen.o t/cookbook/cookbook_xsgen.o blib/arch/auto/XS/Framework/Framework.so -lunwind -o blib/arch/auto/MyTest/MyTest.so  \
      \
  
chmod 755 blib/arch/auto/MyTest/MyTest.so
Manifying 27 pod documents
Manifying 10 pod documents
PERL_DL_NONLAZY=1 "/home/sand/src/perl/repoperls/installed-perls/host/k93msid/v5.24.4/da1c/bin/perl" "-MExtUtils::Command::MM" "-MTest::Harness" "-e" "undef *Test::Harness::Switches; test_harness(0, 'blib/lib', 'blib/arch')" t/*.t t/*/*.t t/*/*/*.t
t/cookbook/recipe01.t ............... skipped: set TEST_FULL=1 to enable this test
t/cookbook/recipe02.t ............... skipped: set TEST_FULL=1 to enable this test
t/cookbook/recipe03.t ............... skipped: set TEST_FULL=1 to enable this test
t/cookbook/recipe04.t ............... skipped: set TEST_FULL=1 to enable this test
t/cookbook/recipe05.t ............... skipped: set TEST_FULL=1 to enable this test
t/cookbook/recipe06.t ............... skipped: set TEST_FULL=1 to enable this test
t/cookbook/recipe07.t ............... skipped: set TEST_FULL=1 to enable this test
t/cookbook/recipe08.t ............... skipped: set TEST_FULL=1 to enable this test
t/cookbook/recipe09.t ............... skipped: set TEST_FULL=1 to enable this test
t/cookbook/recipe10.t ............... skipped: set TEST_FULL=1 to enable this test
t/cookbook/recipe11.t ............... skipped: set TEST_FULL=1 to enable this test
t/cookbook/recipe12.t ............... skipped: set TEST_FULL=1 to enable this test
t/cookbook/recipe13.t ............... skipped: set TEST_FULL=1 to enable this test
t/payload.t ......................... ok
t/svapi/array.t ..................... ok
t/svapi/glob.t ...................... ok
t/svapi/hash.t ...................... ok
t/svapi/io.t ........................ ok
t/svapi/object.t .................... ok
t/svapi/ref.t ....................... ok
t/svapi/scalar.t .................... ok
t/svapi/scope.t ..................... ok
t/svapi/simple.t .................... ok
t/svapi/stash.t ..................... ok
t/svapi/sub.t ....................... ok
t/svapi/sv.t ........................ ok
t/typemap/callback_dispatcher.t ..... ok
t/typemap/const.t ................... ok
t/typemap/container.t ............... ok
t/typemap/error.t ................... ok
t/typemap/expected.t ................ ok
t/typemap/function.t ................ ok
t/typemap/not_null.t ................ ok
t/typemap/object/avhv.t ............. ok
t/typemap/object/backref-threads.t .. skipped: threaded perl required to run these tests
t/typemap/object/backref.t .......... ok
t/typemap/object/casting.t .......... ok
t/typemap/object/child.t ............ ok
t/typemap/object/foreign.t .......... ok
t/typemap/object/join.t ............. ok
t/typemap/object/mixin.t ............ ok
t/typemap/object/refcnt.t ........... ok
t/typemap/object/single.t ........... ok
t/typemap/object/static_cast.t ...... ok
t/typemap/object/threads.t .......... skipped: threaded perl required to run these tests
t/typemap/primitives.t .............. ok
t/typemap/ref.t ..................... ok
t/typemap/svapi.t ................... ok
t/typemap/svrefs.t .................. ok
t/upgrade.t ......................... ok
All tests successful.
Files=50, Tests=301,  6 wallclock secs ( 0.32 usr  0.06 sys +  3.04 cusr  0.81 csys =  4.23 CPU)
Result: PASS

------------------------------
PREREQUISITES
------------------------------

Prerequisite modules loaded:

requires:

    Module          Need     Have    
    --------------- -------- --------
    next::XS        v1.0.8   1.0.8   
    perl            5.022000 5.024004
    XS::Install     v1.4.0   1.4.0   
    XS::libpanda    v1.5.11  1.5.11  

build_requires:

    Module          Need     Have    
    --------------- -------- --------
    next::XS        v1.0.8   1.0.8   
    Test::Catch     v2.0.2   2.0.2   
    Test::Deep      0        1.204   
    Test::Exception 0        0.43    
    Test::More      0        1.302207
    Test::Simple    0.96     1.302207
    XS::libcatch    v3.7.1.1 3.7.1.1 
    XS::libpanda    v1.5.11  1.5.11  

configure_requires:

    Module          Need     Have    
    --------------- -------- --------
    next::XS        v1.0.8   1.0.8   
    Test::Catch     v2.0.2   2.0.2   
    XS::Install     v1.4.0   1.4.0   
    XS::libcatch    v3.7.1   3.7.1.1 
    XS::libpanda    v1.5.11  1.5.11  


------------------------------
ENVIRONMENT AND OTHER CONTEXT
------------------------------

Environment variables:

    AUTOMATED_TESTING = 1
    LANG = en_US.UTF-8
    LANGUAGE = en_US:en
    PATH = /home/sand/bin:/usr/local/bin:/usr/bin:/bin:/usr/games:/usr/local/perl/bin:/usr/X11/bin:/sbin:/usr/sbin
    PERL5LIB = 
    PERL5OPT = 
    PERL5_CPANPLUS_IS_RUNNING = 4004627
    PERL5_CPAN_IS_RUNNING = 4004627
    PERL_CANARY_STABILITY_NOPROMPT = 1
    PERL_MM_USE_DEFAULT = 1
    PERL_USE_UNSAFE_INC = 1
    SHELL = /usr/bin/zsh
    TERM = screen

Perl special variables (and OS-specific diagnostics, for MSWin32):

    $^X = /home/sand/src/perl/repoperls/installed-perls/host/k93msid/v5.24.4/da1c/bin/perl
    $UID/$EUID = 1005 / 1005
    $GID = 1005 1005
    $EGID = 1005 1005

Perl module toolchain versions installed:

    Module              Have    
    ------------------- --------
    CPAN                2.38    
    CPAN::Meta          2.150010
    Cwd                 3.75    
    ExtUtils::CBuilder  0.280236
    ExtUtils::Command   7.71_02 
    ExtUtils::Install   2.20    
    ExtUtils::MakeMaker 7.71_02 
    ExtUtils::Manifest  1.75    
    ExtUtils::ParseXS   3.51    
    File::Spec          3.75    
    JSON                4.10    
    JSON::PP            4.17_01 
    Module::Build       0.4234  
    Module::Signature   0.88    
    Parse::CPAN::Meta   2.150010
    Test::Harness       3.50    
    Test::More          1.302207
    YAML                1.30    
    YAML::Syck          1.34    
    version             0.9929  


--

Summary of my perl5 (revision 5 version 24 subversion 4) configuration:
  Derived from: 901dd848e31de6d0cacfb77c029b4e92c41a13ce
  Platform:
    osname=linux, osvers=5.16.0-5-amd64, archname=x86_64-linux
    uname='linux k93msid 5.16.0-5-amd64 #1 smp preempt debian 5.16.14-1 (2022-03-15) x86_64 gnulinux '
    config_args='-Dprefix=/home/sand/src/perl/repoperls/installed-perls/host/k93msid/v5.24.4/da1c -Dmyhostname=k93msid -Dinstallusrbinperl=n -Uversiononly -Dusedevel -des -Ui_db -Dlibswanted=cl pthread socket inet nsl gdbm dbm malloc dl ld sun m crypt sec util c cposix posix ucb BSD gdbm_compat -Uuseithreads -Uuselongdouble -DEBUGGING=-g'
    hint=recommended, useposix=true, d_sigaction=define
    useithreads=undef, usemultiplicity=undef
    use64bitint=define, use64bitall=define, uselongdouble=undef
    usemymalloc=n, bincompat5005=undef
  Compiler:
    cc='cc', ccflags ='-fwrapv -fno-strict-aliasing -pipe -fstack-protector-strong -I/usr/local/include -D_LARGEFILE_SOURCE -D_FILE_OFFSET_BITS=64 -D_FORTIFY_SOURCE=2',
    optimize='-O2 -g',
    cppflags='-fwrapv -fno-strict-aliasing -pipe -fstack-protector-strong -I/usr/local/include'
    ccversion='', gccversion='11.2.0', gccosandvers=''
    intsize=4, longsize=8, ptrsize=8, doublesize=8, byteorder=12345678, doublekind=3
    d_longlong=define, longlongsize=8, d_longdbl=define, longdblsize=16, longdblkind=3
    ivtype='long', ivsize=8, nvtype='double', nvsize=8, Off_t='off_t', lseeksize=8
    alignbytes=8, prototype=define
  Linker and Libraries:
    ld='cc', ldflags =' -fstack-protector-strong -L/usr/local/lib'
    libpth=/usr/local/lib /usr/include/x86_64-linux-gnu /usr/lib /lib/x86_64-linux-gnu /lib/../lib /usr/lib/x86_64-linux-gnu /usr/lib/../lib /lib
    libs=-lpthread -lnsl -ldl -lm -lcrypt -lutil -lc
    perllibs=-lpthread -lnsl -ldl -lm -lcrypt -lutil -lc
    libc=libc-2.33.so, so=so, useshrplib=false, libperl=libperl.a
    gnulibc_version='2.33'
  Dynamic Linking:
    dlsrc=dl_dlopen.xs, dlext=so, d_dlsymun=undef, ccdlflags='-Wl,-E'
    cccdlflags='-fPIC', lddlflags='-shared -O2 -g -L/usr/local/lib -fstack-protector-strong'


Characteristics of this binary (from libperl): 
  Compile-time options: HAS_TIMES PERLIO_LAYERS PERL_COPY_ON_WRITE
                        PERL_DONT_CREATE_GVSV
                        PERL_HASH_FUNC_ONE_AT_A_TIME_HARD PERL_MALLOC_WRAP
                        PERL_PRESERVE_IVUV PERL_USE_DEVEL USE_64_BIT_ALL
                        USE_64_BIT_INT USE_LARGE_FILES USE_LOCALE
                        USE_LOCALE_COLLATE USE_LOCALE_CTYPE
                        USE_LOCALE_NUMERIC USE_LOCALE_TIME USE_PERLIO
                        USE_PERL_ATOF
  Locally applied patches:
	uncommitted-changes
  Built under linux
  Compiled at Mar 19 2022 20:17:53
  %ENV:
    PERL5LIB=""
    PERL5OPT=""
    PERL5_CPANPLUS_IS_RUNNING="4004627"
    PERL5_CPAN_IS_RUNNING="4004627"
    PERL_CANARY_STABILITY_NOPROMPT="1"
    PERL_MM_USE_DEFAULT="1"
    PERL_USE_UNSAFE_INC="1"
  @INC:
    /home/sand/src/perl/repoperls/installed-perls/host/k93msid/v5.24.4/da1c/lib/site_perl/5.24.4/x86_64-linux
    /home/sand/src/perl/repoperls/installed-perls/host/k93msid/v5.24.4/da1c/lib/site_perl/5.24.4
    /home/sand/src/perl/repoperls/installed-perls/host/k93msid/v5.24.4/da1c/lib/5.24.4/x86_64-linux
    /home/sand/src/perl/repoperls/installed-perls/host/k93msid/v5.24.4/da1c/lib/5.24.4
    .