Net-Statsd-Tiny vv0.2.1 Perl 5 v5.10.1 x86_64-linux
- Status
- Pass
- From
- Slaven Rezić (SREZIC)
- Dist
-
Net-Statsd-Tiny vv0.2.1
- Platform
- Perl 5 v5.10.1 x86_64-linux
- Date
- 2018-02-06 09:32:44
- ID
- af828fd8-0b20-11e8-a9ff-8c019cf1da8c
This distribution has been tested as part of the CPAN Testers
project, supporting the Perl programming language. See
http://wiki.cpantesters.org/ for more information or email
questions to cpan-testers-discuss@perl.org
--
Dear Robert Rothenberg,
This is a computer-generated report for Net-Statsd-Tiny-v0.2.1
on perl 5.10.1, created by CPAN-Reporter-1.2018.
Thank you for uploading your work to CPAN. Congratulations!
All tests were successful.
Sections of this report:
* Tester comments
* Program output
* Prerequisites
* Environment and other context
------------------------------
TESTER COMMENTS
------------------------------
Additional comments from tester:
none provided
------------------------------
PROGRAM OUTPUT
------------------------------
Output from '/usr/bin/make test':
PERL_DL_NONLAZY=1 "/bbbike/perl-5.10.1/bin/perl" "-MExtUtils::Command::MM" "-MTest::Harness" "-e" "undef *Test::Harness::Switches; test_harness(0, 'blib/lib', 'blib/arch')" t/*.t
#
# Versions for all modules listed in MYMETA.json (including optional ones):
#
# === Configure Requires ===
#
# Module Want Have
# ------------------- ---- ----
# ExtUtils::MakeMaker any 7.24
#
# === Build Requires ===
#
# Module Want Have
# ------------------- ---- ----
# ExtUtils::MakeMaker any 7.24
#
# === Test Requires ===
#
# Module Want Have
# --------------------- ---- --------
# Carp any 1.38
# Devel::StrictMode any 0.003
# File::Spec any 3.62
# IO::Select any 1.17
# Module::Metadata any 1.000033
# Net::EmptyPort any undef
# Test::More any 1.302120
# Test::Roo any 1.004
# Test::Roo::DataDriven any v0.1.3
# Test::Roo::Role any 1.004
# Test::TCP 2.19 2.19
# curry any 1.000000
# if any 0.05
# lib any 0.62
# utf8 any 1.07
#
# === Test Recommends ===
#
# Module Want Have
# ---------- -------- --------
# CPAN::Meta 2.120900 2.150010
#
# === Runtime Requires ===
#
# Module Want Have
# -------------------- -------- --------
# IO::Socket 1.18 1.31
# IO::String any 1.08
# Moo 1.000000 2.003004
# MooX::TypeTiny any 0.001003
# Sub::Quote any 2.003001
# Sub::Util 1.40 1.49
# Type::Library any 1.002001
# Type::Utils any 1.002001
# Types::Standard any 1.002001
# namespace::autoclean any 0.28
# strict any 1.04
# warnings any 1.06
#
# === Runtime Recommends ===
#
# Module Want Have
# -------------- ---- -----
# Type::Tiny::XS any 0.012
#
t/00-report-prereqs.t ........ ok
t/01-basic.t ................. ok
t/author-critic.t ............ skipped: these tests are for testing by the author
t/author-eof.t ............... skipped: these tests are for testing by the author
t/author-eol.t ............... skipped: these tests are for testing by the author
t/author-no-tabs.t ........... skipped: these tests are for testing by the author
t/author-pod-coverage.t ...... skipped: these tests are for testing by the author
t/author-pod-linkcheck.t ..... skipped: these tests are for testing by the author
t/author-pod-syntax.t ........ skipped: these tests are for testing by the author
t/author-portability.t ....... skipped: these tests are for testing by the author
t/release-check-manifest.t ... skipped: these tests are for release candidate testing
t/release-fixme.t ............ skipped: these tests are for release candidate testing
t/release-kwalitee.t ......... skipped: these tests are for release candidate testing
t/release-minimum-version.t .. skipped: these tests are for release candidate testing
t/release-trailing-space.t ... skipped: these tests are for release candidate testing
All tests successful.
Files=15, Tests=25, 1 wallclock secs ( 0.01 usr 0.08 sys + 0.37 cusr 0.29 csys = 0.75 CPU)
Result: PASS
------------------------------
PREREQUISITES
------------------------------
Prerequisite modules loaded:
requires:
Module Need Have
--------------------- -------- --------
IO::Socket 1.18 1.31
IO::String 0 1.08
Moo 1.000000 2.003004
MooX::TypeTiny 0 0.001003
namespace::autoclean 0 0.28
perl 5.010000 5.010001
strict 0 1.04
Sub::Quote 0 2.003001
Sub::Util 1.40 1.49
Type::Library 0 1.002001
Type::Utils 0 1.002001
Types::Standard 0 1.002001
warnings 0 1.06
build_requires:
Module Need Have
--------------------- -------- --------
Carp 0 1.38
curry 0 1.000000
Devel::StrictMode 0 0.003
ExtUtils::MakeMaker 0 7.24
File::Spec 0 3.62
if 0 0.05
IO::Select 0 1.17
lib 0 0.62
Module::Metadata 0 1.000033
Net::EmptyPort 0 0
Test::More 0 1.302120
Test::Roo 0 1.004
Test::Roo::DataDriven 0 v0.1.3
Test::Roo::Role 0 1.004
Test::TCP 2.19 2.19
utf8 0 1.07
configure_requires:
Module Need Have
--------------------- -------- --------
ExtUtils::MakeMaker 0 7.24
------------------------------
ENVIRONMENT AND OTHER CONTEXT
------------------------------
Environment variables:
LANG = C
LC_ALL = de_DE.UTF-8
PATH = /usr/local/bin:/usr/bin:/bin:/usr/local/sbin:/usr/sbin:/sbin:/home/cpansand/bin/linux-gnu:/home/cpansand/bin/sh:/home/cpansand/bin:/usr/games:/home/cpansand/devel:/home/eserte/src/srezic-misc/scripts
PERL5LIB = /home/cpansand/.cpan/build/2018020609/Devel-StrictMode-0.003-1/blib/arch:/home/cpansand/.cpan/build/2018020609/Devel-StrictMode-0.003-1/blib/lib
PERL5OPT =
PERL5_CPANPLUS_IS_RUNNING = 16671
PERL5_CPAN_IS_RUNNING = 16671
PERL5_CPAN_IS_RUNNING_IN_RECURSION = 13363,16671
PERLDOC = -MPod::Perldoc::ToTextOverstrike
PERL_BATCH = yes
PERL_CANARY_STABILITY_NOPROMPT = 1
PERL_CPAN_REPORTER_CONFIG = /var/tmp/cpansmoker-1023/2018020609/cpanreporter_000_config.ini
PERL_EXTUTILS_AUTOINSTALL = --defaultdeps
PERL_PARALLEL_SMOKER = yes
PERL_USE_UNSAFE_INC = 1
SHELL = /bin/zsh
TERM = screen
TMPDIR = /var/tmp/cpansmoker-1023/2018020609
Perl special variables (and OS-specific diagnostics, for MSWin32):
$^X = /bbbike/perl-5.10.1/bin/perl
$UID/$EUID = 1023 / 1023
$GID = 1023 1023
$EGID = 1023 1023
Perl module toolchain versions installed:
Module Have
------------------- --------
CPAN 2.16
CPAN::Meta 2.150010
Cwd 3.62
ExtUtils::CBuilder 0.280230
ExtUtils::Command 7.24
ExtUtils::Install 2.12
ExtUtils::MakeMaker 7.24
ExtUtils::Manifest 1.70
ExtUtils::ParseXS 3.30
File::Spec 3.62
JSON 2.94
JSON::PP 2.27400
Module::Build 0.4224
Module::Signature 0.81
Parse::CPAN::Meta 2.150010
Test::Harness 3.39
Test::More 1.302120
YAML 1.23
YAML::Syck 1.30
version 0.9916
--
Summary of my perl5 (revision 5 version 10 subversion 1) configuration:
Platform:
osname=linux, osvers=3.16.0-4-amd64, archname=x86_64-linux
uname='linux eserte 3.16.0-4-amd64 #1 smp debian 3.16.7-ckt25-2 (2016-04-08) x86_64 gnulinux '
config_args='-ds -e -Dprefix=/opt/perl-5.10.1 -Dcf_email=srezic@cpan.org'
hint=recommended, useposix=true, d_sigaction=define
useithreads=undef, usemultiplicity=undef
useperlio=define, d_sfio=undef, uselargefiles=define, usesocks=undef
use64bitint=define, use64bitall=define, uselongdouble=undef
usemymalloc=n, bincompat5005=undef
Compiler:
cc='cc', ccflags ='-fno-strict-aliasing -pipe -fstack-protector -I/usr/local/include -D_LARGEFILE_SOURCE -D_FILE_OFFSET_BITS=64',
optimize='-O2',
cppflags='-fno-strict-aliasing -pipe -fstack-protector -I/usr/local/include'
ccversion='', gccversion='4.9.2', gccosandvers=''
intsize=4, longsize=8, ptrsize=8, doublesize=8, byteorder=12345678
d_longlong=define, longlongsize=8, d_longdbl=define, longdblsize=16
ivtype='long', ivsize=8, nvtype='double', nvsize=8, Off_t='off_t', lseeksize=8
alignbytes=8, prototype=define
Linker and Libraries:
ld='cc', ldflags =' -fstack-protector -L/usr/local/lib'
libpth=/usr/local/lib /lib/x86_64-linux-gnu /lib/../lib /usr/lib/x86_64-linux-gnu /usr/lib/../lib /lib /usr/lib
libs=-lnsl -ldl -lm -lcrypt -lutil -lc
perllibs=-lnsl -ldl -lm -lcrypt -lutil -lc
libc=libc-2.19.so, so=so, useshrplib=false, libperl=libperl.a
gnulibc_version='2.19'
Dynamic Linking:
dlsrc=dl_dlopen.xs, dlext=so, d_dlsymun=undef, ccdlflags='-Wl,-E'
cccdlflags='-fPIC', lddlflags='-shared -O2 -L/usr/local/lib -fstack-protector'
Characteristics of this binary (from libperl):
Compile-time options: PERL_DONT_CREATE_GVSV PERL_MALLOC_WRAP USE_64_BIT_ALL
USE_64_BIT_INT USE_LARGE_FILES USE_PERLIO
Locally applied patches:
Devel::PatchPerl 1.42
Built under linux
Compiled at May 7 2016 09:04:56
%ENV:
PERL5LIB="/home/cpansand/.cpan/build/2018020609/Devel-StrictMode-0.003-1/blib/arch:/home/cpansand/.cpan/build/2018020609/Devel-StrictMode-0.003-1/blib/lib"
PERL5OPT=""
PERL5_CPANPLUS_IS_RUNNING="16671"
PERL5_CPAN_IS_RUNNING="16671"
PERL5_CPAN_IS_RUNNING_IN_RECURSION="13363,16671"
PERLDOC="-MPod::Perldoc::ToTextOverstrike"
PERL_BATCH="yes"
PERL_CANARY_STABILITY_NOPROMPT="1"
PERL_CPAN_REPORTER_CONFIG="/var/tmp/cpansmoker-1023/2018020609/cpanreporter_000_config.ini"
PERL_EXTUTILS_AUTOINSTALL="--defaultdeps"
PERL_PARALLEL_SMOKER="yes"
PERL_USE_UNSAFE_INC="1"
@INC:
/home/cpansand/.cpan/build/2018020609/Devel-StrictMode-0.003-1/blib/arch
/home/cpansand/.cpan/build/2018020609/Devel-StrictMode-0.003-1/blib/lib
/opt/perl-5.10.1/lib/5.10.1/x86_64-linux
/opt/perl-5.10.1/lib/5.10.1
/opt/perl-5.10.1/lib/site_perl/5.10.1/x86_64-linux
/opt/perl-5.10.1/lib/site_perl/5.10.1
.