Report for DateTime-Format-Strptime-1.73

Back
From: metabase:user:30f4dfbe-2aae-11df-837a-5e0a49663a4f
Subject: PASS DateTime-Format-Strptime-1.73 v5.18.4 Mac OS X
Date: 2017-02-03T11:41:22Z

This distribution has been tested as part of the CPAN Testers
project, supporting the Perl programming language.  See
http://wiki.cpantesters.org/ for more information or email
questions to cpan-testers-discuss@perl.org


--
Dear Dave Rolsky,

This is a computer-generated report for DateTime-Format-Strptime-1.73
on perl 5.18.4, created by CPAN-Reporter-1.2018.

Thank you for uploading your work to CPAN.  Congratulations!
All tests were successful.

Sections of this report:

    * Tester comments
    * Program output
    * Prerequisites
    * Environment and other context

------------------------------
TESTER COMMENTS
------------------------------

Additional comments from tester:

this report is from an automated smoke testing program
and was not reviewed by a human for accuracy

------------------------------
PROGRAM OUTPUT
------------------------------

Output from '/sw/bin/make test':

PERL_DL_NONLAZY=1 "/Users/hornenj/perl5/perlbrew/perls/perl-5.18.4/bin/perl5.18.4" "-MExtUtils::Command::MM" "-MTest::Harness" "-e" "undef *Test::Harness::Switches; test_harness(0, 'blib/lib', 'blib/arch')" t/*.t
# 
# Versions for all modules listed in MYMETA.json (including optional ones):
# 
# === Configure Requires ===
# 
#     Module              Want Have
#     ------------------- ---- ----
#     ExtUtils::MakeMaker  any 7.22
# 
# === Configure Suggests ===
# 
#     Module      Want    Have
#     -------- ------- -------
#     JSON::PP 2.27300 2.27400
# 
# === Build Requires ===
# 
#     Module              Want Have
#     ------------------- ---- ----
#     ExtUtils::MakeMaker  any 7.22
# 
# === Test Requires ===
# 
#     Module              Want     Have
#     ------------------- ---- --------
#     ExtUtils::MakeMaker  any     7.22
#     File::Spec           any     3.47
#     Test::Builder        any 1.302075
#     Test::Fatal          any    0.014
#     Test::More          0.96 1.302075
#     Test::Warnings       any    0.026
#     lib                  any     0.63
#     utf8                 any     1.10
# 
# === Test Recommends ===
# 
#     Module         Want     Have
#     ---------- -------- --------
#     CPAN::Meta 2.120900 2.150001
# 
# === Runtime Requires ===
# 
#     Module                      Want  Have
#     --------------------------- ---- -----
#     Carp                         any  1.36
#     DateTime                    1.00  1.21
#     DateTime::Locale            1.05  1.12
#     DateTime::Locale::Base       any  1.12
#     DateTime::Locale::FromData   any  1.12
#     DateTime::TimeZone          2.09  2.09
#     Exporter                     any  5.70
#     Package::DeprecationManager 0.15  0.17
#     Params::ValidationCompiler   any  0.23
#     Specio                      0.33  0.34
#     Specio::Declare              any  0.34
#     Specio::Exporter             any  0.34
#     Specio::Library::Builtins    any  0.34
#     Specio::Library::String      any  0.34
#     Try::Tiny                    any  0.22
#     constant                     any  1.27
#     parent                       any 0.233
#     strict                       any  1.07
#     warnings                     any  1.18
# 
t/00-report-prereqs.t ... ok
t/basic.t ............... ok
Subroutine olson_version redefined at /Users/hornenj/.cpan/build/DateTime-TimeZone-2.09-1/blib/lib/DateTime/TimeZone/america/new_york.pm line 2008, <DATA> line 1.
Subroutine has_dst_changes redefined at /Users/hornenj/.cpan/build/DateTime-TimeZone-2.09-1/blib/lib/DateTime/TimeZone/america/new_york.pm line 2010, <DATA> line 1.
Subroutine _max_year redefined at /Users/hornenj/.cpan/build/DateTime-TimeZone-2.09-1/blib/lib/DateTime/TimeZone/america/new_york.pm line 2012, <DATA> line 1.
Subroutine _new_instance redefined at /Users/hornenj/.cpan/build/DateTime-TimeZone-2.09-1/blib/lib/DateTime/TimeZone/america/new_york.pm line 2014, <DATA> line 1.
Subroutine _last_offset redefined at /Users/hornenj/.cpan/build/DateTime-TimeZone-2.09-1/blib/lib/DateTime/TimeZone/america/new_york.pm line 2018, <DATA> line 1.
Subroutine _last_observance redefined at /Users/hornenj/.cpan/build/DateTime-TimeZone-2.09-1/blib/lib/DateTime/TimeZone/america/new_york.pm line 2056, <DATA> line 1.
Subroutine _rules redefined at /Users/hornenj/.cpan/build/DateTime-TimeZone-2.09-1/blib/lib/DateTime/TimeZone/america/new_york.pm line 2083, <DATA> line 1.
Subroutine olson_version redefined at /Users/hornenj/.cpan/build/DateTime-TimeZone-2.09-1/blib/lib/DateTime/TimeZone/amERicA/new_YORK.pm line 2008, <DATA> line 1.
Subroutine has_dst_changes redefined at /Users/hornenj/.cpan/build/DateTime-TimeZone-2.09-1/blib/lib/DateTime/TimeZone/amERicA/new_YORK.pm line 2010, <DATA> line 1.
Subroutine _max_year redefined at /Users/hornenj/.cpan/build/DateTime-TimeZone-2.09-1/blib/lib/DateTime/TimeZone/amERicA/new_YORK.pm line 2012, <DATA> line 1.
Subroutine _new_instance redefined at /Users/hornenj/.cpan/build/DateTime-TimeZone-2.09-1/blib/lib/DateTime/TimeZone/amERicA/new_YORK.pm line 2014, <DATA> line 1.
Subroutine _last_offset redefined at /Users/hornenj/.cpan/build/DateTime-TimeZone-2.09-1/blib/lib/DateTime/TimeZone/amERicA/new_YORK.pm line 2018, <DATA> line 1.
Subroutine _last_observance redefined at /Users/hornenj/.cpan/build/DateTime-TimeZone-2.09-1/blib/lib/DateTime/TimeZone/amERicA/new_YORK.pm line 2056, <DATA> line 1.
Subroutine _rules redefined at /Users/hornenj/.cpan/build/DateTime-TimeZone-2.09-1/blib/lib/DateTime/TimeZone/amERicA/new_YORK.pm line 2083, <DATA> line 1.
t/edge.t ................ ok
t/errors.t .............. ok
t/format-datetime.t ..... ok
t/format-with-locale.t .. ok
t/import.t .............. ok
t/locale-de.t ........... ok
t/locale-en.t ........... ok
t/locale-ga.t ........... ok
t/locale-pt.t ........... ok
t/locale-zh.t ........... ok
t/zones.t ............... ok
All tests successful.
Files=13, Tests=143,  2 wallclock secs ( 0.09 usr  0.03 sys +  1.86 cusr  0.31 csys =  2.29 CPU)
Result: PASS

------------------------------
PREREQUISITES
------------------------------

Prerequisite modules loaded:

requires:

    Module                      Need Have    
    --------------------------- ---- --------
    Carp                        0    1.36    
    constant                    0    1.27    
    DateTime                    1.00 1.21    
    DateTime::Locale            1.05 1.12    
    DateTime::Locale::Base      0    1.12    
    DateTime::Locale::FromData  0    1.12    
    DateTime::TimeZone          2.09 2.09    
    Exporter                    0    5.70    
    Package::DeprecationManager 0.15 0.17    
    Params::ValidationCompiler  0    0.23    
    parent                      0    0.233   
    Specio                      0.33 0.34    
    Specio::Declare             0    0.34    
    Specio::Exporter            0    0.34    
    Specio::Library::Builtins   0    0.34    
    Specio::Library::String     0    0.34    
    strict                      0    1.07    
    Try::Tiny                   0    0.22    
    warnings                    0    1.18    

build_requires:

    Module                      Need Have    
    --------------------------- ---- --------
    ExtUtils::MakeMaker         0    7.22    
    File::Spec                  0    3.47    
    lib                         0    0.63    
    Test::Builder               0    1.302075
    Test::Fatal                 0    0.014   
    Test::More                  0.96 1.302075
    Test::Warnings              0    0.026   
    utf8                        0    1.10    

configure_requires:

    Module                      Need Have    
    --------------------------- ---- --------
    ExtUtils::MakeMaker         0    7.22    


------------------------------
ENVIRONMENT AND OTHER CONTEXT
------------------------------

Environment variables:

    AUTOMATED_TESTING = 1
    LANG = en_US.UTF-8
    LC_ALL = POSIX
    LDFLAGS = 
    PATH = /Users/hornenj/perl5/perlbrew/bin:/Users/hornenj/perl5/perlbrew/perls/perl-5.18.4/bin:/Users/hornenj/perl5/perlbrew/bin:/Users/hornenj/bin:/sw/lib/perl5/ExtUtils:/sw/bin:/am/ncbiapdata/bin:/usr/bin:/bin:/usr/X11R6/bin:/netopt/ncbi_tools/bin:/usr/local/ncbi/blast/bin:/net/traces01.be-md.ncbi.nlm.nih.gov/trace_software/vdb/mac/release/x86_64/bin
    PERL5LIB = /Users/hornenj/.cpan/build/DateTime-TimeZone-2.09-1/blib/arch:/Users/hornenj/.cpan/build/DateTime-TimeZone-2.09-1/blib/lib:/Users/hornenj/.cpan/build/DateTime-Locale-1.12-0/blib/arch:/Users/hornenj/.cpan/build/DateTime-Locale-1.12-0/blib/lib:/Users/hornenj/.cpan/build/Params-ValidationCompiler-0.23-0/blib/arch:/Users/hornenj/.cpan/build/Params-ValidationCompiler-0.23-0/blib/lib:/Users/hornenj/.cpan/build/Test2-Plugin-NoWarnings-0.05-0/blib/arch:/Users/hornenj/.cpan/build/Test2-Plugin-NoWarnings-0.05-0/blib/lib:/Users/hornenj/.cpan/build/Specio-0.34-1/blib/arch:/Users/hornenj/.cpan/build/Specio-0.34-1/blib/lib:/Users/hornenj/.cpan/build/Test-Needs-0.002005-4/blib/arch:/Users/hornenj/.cpan/build/Test-Needs-0.002005-4/blib/lib:/Users/hornenj/.cpan/build/Scalar-List-Utils-1.47-3/blib/arch:/Users/hornenj/.cpan/build/Scalar-List-Utils-1.47-3/blib/lib
    PERL5OPT = 
    PERL5_CPANPLUS_IS_RUNNING = 86157
    PERL5_CPAN_IS_RUNNING = 86157
    PERL5_MINISMOKEBOX = 0.58
    PERLBREW_BASHRC_VERSION = 0.77
    PERLBREW_HOME = /Users/hornenj/.perlbrew
    PERLBREW_LIB = 
    PERLBREW_MANPATH = /Users/hornenj/perl5/perlbrew/perls/perl-5.18.4/man
    PERLBREW_PATH = /Users/hornenj/perl5/perlbrew/bin:/Users/hornenj/perl5/perlbrew/perls/perl-5.18.4/bin
    PERLBREW_PERL = perl-5.18.4
    PERLBREW_ROOT = /Users/hornenj/perl5/perlbrew
    PERLBREW_VERSION = 0.77
    PERL_EXTUTILS_AUTOINSTALL = --defaultdeps
    PERL_LOCAL_LIB_ROOT = 
    PERL_MM_USE_DEFAULT = 1
    SHELL = /bin/bash
    TERM = xterm-256color
    TMPDIR = /var/folders/pz/pd7y1qjs6s3cbk170cw50fjc000c61/T/
    ac_cv_path_INTLTOOL_PERL = /usr/bin/perl

Perl special variables (and OS-specific diagnostics, for MSWin32):

    $^X = /Users/hornenj/perl5/perlbrew/perls/perl-5.18.4/bin/perl5.18.4
    $UID/$EUID = 12481 / 12481
    $GID = 14 14 5344 37191 527 37223 241
    $EGID = 14 14 5344 37191 527 37223 241

Perl module toolchain versions installed:

    Module              Have    
    ------------------- --------
    CPAN                2.14    
    CPAN::Meta          2.150001
    Cwd                 3.47    
    ExtUtils::CBuilder  0.280223
    ExtUtils::Command   7.22    
    ExtUtils::Install   2.04    
    ExtUtils::MakeMaker 7.22    
    ExtUtils::Manifest  1.70    
    ExtUtils::ParseXS   3.30    
    File::Spec          3.47    
    JSON                2.90    
    JSON::PP            2.27400 
    Module::Build       0.4212  
    Module::Signature   n/a     
    Parse::CPAN::Meta   1.4422  
    Test::Harness       3.36    
    Test::More          1.302075
    YAML                1.21    
    YAML::Syck          1.29    
    version             0.9912  


--

Summary of my perl5 (revision 5 version 18 subversion 4) configuration:
   
  Platform:
    osname=darwin, osvers=13.4.0, archname=darwin-thread-multi-2level
    uname='darwin ncbimac2008.ncbi.nlm.nih.gov 13.4.0 darwin kernel version 13.4.0: sun aug 17 19:50:11 pdt 2014; root:xnu-2422.115.4~1release_x86_64 x86_64 '
    config_args='-de -Dprefix=/Users/hornenj/perl5/perlbrew/perls/perl-5.18.4 -Duseithreads -Dusemultiplicity -Dusedevel -Accflags=-O2 -W -Wformat=2 -Wswitch -Wshadow -Wwrite-strings -Wuninitialized -Wall -pipe -mtune=native -march=native -fomit-frame-pointer -msse2 -msse -mmmx -pedantic -D_FORTIFY_SOURCE=2 -Wpointer-arith -Wstrict-prototypes -fstack-protector -Wstack-protector -Wextra -Wbad-function-cast -Wcast-align -Wcast-qual -Wdisabled-optimization -Wendif-labels -Wfloat-equal -Wformat-nonliteral -Winline -Wmissing-declarations -Wmissing-prototypes -Wnested-externs -Wpointer-arith -Wundef -Wformat-security -fassociative-math -Acc=cc -Aeval:scriptdir=/Users/hornenj/perl5/perlbrew/perls/perl-5.18.4/bin'
    hint=recommended, useposix=true, d_sigaction=define
    useithreads=define, usemultiplicity=define
    useperlio=define, d_sfio=undef, uselargefiles=define, usesocks=undef
    use64bitint=define, use64bitall=define, uselongdouble=undef
    usemymalloc=n, bincompat5005=undef
  Compiler:
    cc=' cc', ccflags ='-fno-common -DPERL_DARWIN -O2 -W -Wformat=2 -Wswitch -Wshadow -Wwrite-strings -Wuninitialized -Wall -pipe -mtune=native -march=native -fomit-frame-pointer -msse2 -msse -mmmx -pedantic -D_FORTIFY_SOURCE=2 -Wpointer-arith -Wstrict-prototypes -fstack-protector -Wstack-protector -Wextra -Wbad-function-cast -Wcast-align -Wcast-qual -Wdisabled-optimization -Wendif-labels -Wfloat-equal -Wformat-nonliteral -Winline -Wmissing-declarations -Wmissing-prototypes -Wnested-externs -Wpointer-arith -Wundef -Wformat-security -fassociative-math -fno-strict-aliasing -I/usr/local/include',
    optimize='-O3',
    cppflags='-fno-common -DPERL_DARWIN -O2 -W -Wformat=2 -Wswitch -Wshadow -Wwrite-strings -Wuninitialized -Wall -pipe -mtune=native -march=native -fomit-frame-pointer -msse2 -msse -mmmx -pedantic -D_FORTIFY_SOURCE=2 -Wpointer-arith -Wstrict-prototypes -fstack-protector -Wstack-protector -Wextra -Wbad-function-cast -Wcast-align -Wcast-qual -Wdisabled-optimization -Wendif-labels -Wfloat-equal -Wformat-nonliteral -Winline -Wmissing-declarations -Wmissing-prototypes -Wnested-externs -Wpointer-arith -Wundef -Wformat-security -fassociative-math -fno-strict-aliasing -I/usr/local/include'
    ccversion='', gccversion='4.2.1 Compatible Apple LLVM 6.0 (clang-600.0.51)', gccosandvers=''
    intsize=4, longsize=8, ptrsize=8, doublesize=8, byteorder=12345678
    d_longlong=define, longlongsize=8, d_longdbl=define, longdblsize=16
    ivtype='long', ivsize=8, nvtype='double', nvsize=8, Off_t='off_t', lseeksize=8
    alignbytes=8, prototype=define
  Linker and Libraries:
    ld='env MACOSX_DEPLOYMENT_TARGET=10.3 cc', ldflags =' -fstack-protector -L/usr/local/lib'
    libpth=/usr/local/lib /usr/lib
    libs=-ldbm -ldl -lm -lutil -lc
    perllibs=-ldl -lm -lutil -lc
    libc=, so=dylib, useshrplib=false, libperl=libperl.a
    gnulibc_version=''
  Dynamic Linking:
    dlsrc=dl_dlopen.xs, dlext=bundle, d_dlsymun=undef, ccdlflags=' '
    cccdlflags=' ', lddlflags=' -bundle -undefined dynamic_lookup -L/usr/local/lib -fstack-protector'


Characteristics of this binary (from libperl): 
  Compile-time options: HAS_TIMES MULTIPLICITY PERLIO_LAYERS
                        PERL_DONT_CREATE_GVSV
                        PERL_HASH_FUNC_ONE_AT_A_TIME_HARD
                        PERL_IMPLICIT_CONTEXT PERL_MALLOC_WRAP
                        PERL_PRESERVE_IVUV PERL_SAWAMPERSAND PERL_USE_DEVEL
                        USE_64_BIT_ALL USE_64_BIT_INT USE_ITHREADS
                        USE_LARGE_FILES USE_LOCALE USE_LOCALE_COLLATE
                        USE_LOCALE_CTYPE USE_LOCALE_NUMERIC USE_PERLIO
                        USE_PERL_ATOF USE_REENTRANT_API
  Built under darwin
  Compiled at Nov 12 2014 08:22:09
  %ENV:
    PERL5LIB="/Users/hornenj/.cpan/build/DateTime-TimeZone-2.09-1/blib/arch:/Users/hornenj/.cpan/build/DateTime-TimeZone-2.09-1/blib/lib:/Users/hornenj/.cpan/build/DateTime-Locale-1.12-0/blib/arch:/Users/hornenj/.cpan/build/DateTime-Locale-1.12-0/blib/lib:/Users/hornenj/.cpan/build/Params-ValidationCompiler-0.23-0/blib/arch:/Users/hornenj/.cpan/build/Params-ValidationCompiler-0.23-0/blib/lib:/Users/hornenj/.cpan/build/Test2-Plugin-NoWarnings-0.05-0/blib/arch:/Users/hornenj/.cpan/build/Test2-Plugin-NoWarnings-0.05-0/blib/lib:/Users/hornenj/.cpan/build/Specio-0.34-1/blib/arch:/Users/hornenj/.cpan/build/Specio-0.34-1/blib/lib:/Users/hornenj/.cpan/build/Test-Needs-0.002005-4/blib/arch:/Users/hornenj/.cpan/build/Test-Needs-0.002005-4/blib/lib:/Users/hornenj/.cpan/build/Scalar-List-Utils-1.47-3/blib/arch:/Users/hornenj/.cpan/build/Scalar-List-Utils-1.47-3/blib/lib"
    PERL5OPT=""
    PERL5_CPANPLUS_IS_RUNNING="86157"
    PERL5_CPAN_IS_RUNNING="86157"
    PERL5_MINISMOKEBOX="0.58"
    PERLBREW_BASHRC_VERSION="0.77"
    PERLBREW_HOME="/Users/hornenj/.perlbrew"
    PERLBREW_LIB=""
    PERLBREW_MANPATH="/Users/hornenj/perl5/perlbrew/perls/perl-5.18.4/man"
    PERLBREW_PATH="/Users/hornenj/perl5/perlbrew/bin:/Users/hornenj/perl5/perlbrew/perls/perl-5.18.4/bin"
    PERLBREW_PERL="perl-5.18.4"
    PERLBREW_ROOT="/Users/hornenj/perl5/perlbrew"
    PERLBREW_VERSION="0.77"
    PERL_EXTUTILS_AUTOINSTALL="--defaultdeps"
    PERL_LOCAL_LIB_ROOT=""
    PERL_MM_USE_DEFAULT="1"
  @INC:
    /Users/hornenj/.cpan/build/DateTime-TimeZone-2.09-1/blib/arch
    /Users/hornenj/.cpan/build/DateTime-TimeZone-2.09-1/blib/lib
    /Users/hornenj/.cpan/build/DateTime-Locale-1.12-0/blib/arch
    /Users/hornenj/.cpan/build/DateTime-Locale-1.12-0/blib/lib
    /Users/hornenj/.cpan/build/Params-ValidationCompiler-0.23-0/blib/arch
    /Users/hornenj/.cpan/build/Params-ValidationCompiler-0.23-0/blib/lib
    /Users/hornenj/.cpan/build/Test2-Plugin-NoWarnings-0.05-0/blib/arch
    /Users/hornenj/.cpan/build/Test2-Plugin-NoWarnings-0.05-0/blib/lib
    /Users/hornenj/.cpan/build/Specio-0.34-1/blib/arch
    /Users/hornenj/.cpan/build/Specio-0.34-1/blib/lib
    /Users/hornenj/.cpan/build/Test-Needs-0.002005-4/blib/arch
    /Users/hornenj/.cpan/build/Test-Needs-0.002005-4/blib/lib
    /Users/hornenj/.cpan/build/Scalar-List-Utils-1.47-3/blib/arch
    /Users/hornenj/.cpan/build/Scalar-List-Utils-1.47-3/blib/lib
    /Users/hornenj/perl5/perlbrew/perls/perl-5.18.4/lib/site_perl/5.18.4/darwin-thread-multi-2level
    /Users/hornenj/perl5/perlbrew/perls/perl-5.18.4/lib/site_perl/5.18.4
    /Users/hornenj/perl5/perlbrew/perls/perl-5.18.4/lib/5.18.4/darwin-thread-multi-2level
    /Users/hornenj/perl5/perlbrew/perls/perl-5.18.4/lib/5.18.4
    .