Back
From: metabase:user:313dc9fe-2aae-11df-837a-5e0a49663a4f
Subject: PASS Text-Balanced-2.02 v5.12.3 GNU/Linux
Date: 2011-05-20T16:03:21Z
This distribution has been tested as part of the CPAN Testers
project, supporting the Perl programming language. See
http://wiki.cpantesters.org/ for more information or email
questions to cpan-testers-discuss@perl.org
--
Dear Adam Kennedy,
This is a computer-generated report for Text-Balanced-2.02
on perl 5.12.3, created by CPAN-Reporter-1.1902.
Thank you for uploading your work to CPAN. Congratulations!
All tests were successful.
Sections of this report:
* Tester comments
* Program output
* Prerequisites
* Environment and other context
------------------------------
TESTER COMMENTS
------------------------------
Additional comments from tester:
this report is from an automated smoke testing program
and was not reviewed by a human for accuracy
------------------------------
PROGRAM OUTPUT
------------------------------
Output from '/usr/bin/make test':
PERL_DL_NONLAZY=1 /home/perl5123/perl/perl "-MExtUtils::Command::MM" "-e" "test_harness(0, 'blib/lib', 'blib/arch')" t/*.t
t/01_compile.t .. ok
t/02_extbrk.t ... ok
t/03_extcbk.t ... ok
t/04_extdel.t ... ok
t/05_extmul.t ... ok
t/06_extqlk.t ... ok
t/07_exttag.t ... ok
t/08_extvar.t ... ok
t/09_gentag.t ... ok
t/97_meta.t ..... skipped: Test::CPAN::Meta 0.12 not available for testing
t/98_pod.t ...... ok
t/99_pmv.t ...... skipped: Perl::MinimumVersion 1.20 not available for testing
All tests successful.
Files=12, Tests=561, 2 wallclock secs ( 0.09 usr 0.03 sys + 0.42 cusr 0.03 csys = 0.57 CPU)
Result: PASS
------------------------------
PREREQUISITES
------------------------------
Prerequisite modules loaded:
requires:
Module Need Have
------------------- ---- ----
Test::More 0.47 0.98
configure_requires:
Module Need Have
------------------- ---- ----
ExtUtils::MakeMaker 0 6.56
------------------------------
ENVIRONMENT AND OTHER CONTEXT
------------------------------
Environment variables:
AUTOMATED_TESTING = 1
LANG = en_US.UTF-8
PATH = /usr/local/sbin:/usr/local/bin:/usr/sbin:/usr/bin:/sbin:/bin:/usr/games
PERL5LIB =
PERL5OPT =
PERL5_CPANPLUS_IS_RUNNING = 16172
PERL5_CPAN_IS_RUNNING = 16172
PERL5_CPAN_IS_RUNNING_IN_RECURSION = 30222,16172
PERL_CR_SMOKER_CURRENT = Text-Balanced-2.02
PERL_EXTUTILS_AUTOINSTALL = --defaultdeps
PERL_MM_USE_DEFAULT = 1
SHELL = /bin/bash
TERM = xterm
Perl special variables (and OS-specific diagnostics, for MSWin32):
$^X = /home/perl5123/perl/perl
$UID/$EUID = 1004 / 1004
$GID = 1004 1004
$EGID = 1004 1004
Perl module toolchain versions installed:
Module Have
------------------- --------
CPAN 1.94_56
Cwd 3.31
ExtUtils::CBuilder 0.280202
ExtUtils::Command 1.16
ExtUtils::Install 1.55
ExtUtils::MakeMaker 6.56
ExtUtils::Manifest 1.57
ExtUtils::ParseXS 2.21
File::Spec 3.31_01
Module::Build 0.3800
Module::Signature n/a
Test::Harness 3.17
Test::More 0.98
YAML 0.72
YAML::Syck 1.17
version 0.88
--
Summary of my perl5 (revision 5 version 12 subversion 3) configuration:
Platform:
osname=linux, osvers=2.6.35-28-generic-pae, archname=i686-linux-thread-multi-64int-ld
uname='linux higgsboson 2.6.35-28-generic-pae #49-ubuntu smp tue mar 1 14:58:06 utc 2011 i686 gnulinux '
config_args=''
hint=previous, useposix=true, d_sigaction=define
useithreads=define, usemultiplicity=define
useperlio=define, d_sfio=undef, uselargefiles=define, usesocks=undef
use64bitint=define, use64bitall=undef, uselongdouble=define
usemymalloc=n, bincompat5005=undef
Compiler:
cc='cc', ccflags ='-D_REENTRANT -D_GNU_SOURCE -fno-strict-aliasing -pipe -fstack-protector -I/usr/local/include -D_LARGEFILE_SOURCE -D_FILE_OFFSET_BITS=64',
optimize='-O2',
cppflags='-D_REENTRANT -D_GNU_SOURCE -fno-strict-aliasing -pipe -fstack-protector -I/usr/local/include -D_REENTRANT -D_GNU_SOURCE -fno-strict-aliasing -pipe -fstack-protector -I/usr/local/include -D_LARGEFILE_SOURCE -D_FILE_OFFSET_BITS=64'
ccversion='', gccversion='4.4.5', gccosandvers=''
intsize=4, longsize=4, ptrsize=4, doublesize=8, byteorder=12345678
d_longlong=define, longlongsize=8, d_longdbl=define, longdblsize=12
ivtype='long long', ivsize=8, nvtype='long double', nvsize=12, Off_t='off_t', lseeksize=8
alignbytes=4, prototype=define
Linker and Libraries:
ld='cc', ldflags =' -fstack-protector -L/usr/local/lib'
libpth=/usr/local/lib /lib /usr/lib /usr/lib64
libs=-lnsl -ldl -lm -lcrypt -lutil -lpthread -lc
perllibs=-lnsl -ldl -lm -lcrypt -lutil -lpthread -lc
libc=/lib/libc-2.12.1.so, so=so, useshrplib=false, libperl=libperl.a
gnulibc_version='2.12.1'
Dynamic Linking:
dlsrc=dl_dlopen.xs, dlext=so, d_dlsymun=undef, ccdlflags='-Wl,-E'
cccdlflags='-fPIC', lddlflags='-shared -O2 -L/usr/local/lib -fstack-protector'
Characteristics of this binary (from libperl):
Compile-time options: MULTIPLICITY PERL_DONT_CREATE_GVSV
PERL_IMPLICIT_CONTEXT PERL_MALLOC_WRAP USE_64_BIT_INT
USE_ITHREADS USE_LARGE_FILES USE_LONG_DOUBLE
USE_PERLIO USE_PERL_ATOF USE_REENTRANT_API
Built under linux
Compiled at Apr 9 2011 18:29:22
%ENV:
PERL5LIB=""
PERL5OPT=""
PERL5_CPANPLUS_IS_RUNNING="16172"
PERL5_CPAN_IS_RUNNING="16172"
PERL5_CPAN_IS_RUNNING_IN_RECURSION="30222,16172"
PERL_CR_SMOKER_CURRENT="Text-Balanced-2.02"
PERL_EXTUTILS_AUTOINSTALL="--defaultdeps"
PERL_MM_USE_DEFAULT="1"
@INC:
/home/perl5123/perl/lib
/home/perl5123/perl/lib
.