Back
From: metabase:user:838e5b0a-2bb6-1016-a696-43a2537fa0c6
Subject: PASS Soar-WM-0.04 v5.14.2
Date: 2013-01-17T11:15:17Z
This distribution has been tested as part of the CPAN Testers
project, supporting the Perl programming language. See
http://wiki.cpantesters.org/ for more information or email
questions to cpan-testers-discuss@perl.org
--
Dear Nathan Gary Glenn,
This is a computer-generated report for Soar-WM-0.04
on perl 5.14.2, created by CPAN-Reporter-1.2007.
Thank you for uploading your work to CPAN. Congratulations!
All tests were successful.
Sections of this report:
* Tester comments
* Program output
* Prerequisites
* Environment and other context
------------------------------
TESTER COMMENTS
------------------------------
Additional comments from tester:
this report is from an automated smoke testing program
and was not reviewed by a human for accuracy
------------------------------
PROGRAM OUTPUT
------------------------------
Output from 'C:\Users\DSolimano\Desktop\strawberry-perl-5.14.2.1-32bit-portable\perl\bin\perl.exe ./Build test':
t/00-compile.t ................ ok
#
#
# Generated by Dist::Zilla::Plugin::ReportVersions::Tiny v1.08
# perl: 5.014002 (wanted 5.010) on MSWin32 from C:\Users\DSolimano\Desktop\strawberry-perl-5.14.2.1-32bit-portable\perl\bin\perl.exe
#
# Carp => 1.26 (want any version)
# Data::Dumper => 2.131 (want any version)
# Data::Section::Simple => 0.03 (want any version)
# Exporter => 5.66 (want any version)
# File::Find => 1.19 (want any version)
# File::Spec => 3.33 (want any version)
# File::Temp => 0.22 (want any version)
# FindBin => 1.50 (want any version)
# Module::Build => 0.38 (want 0.3601)
# Pod::Coverage::TrustPod => module not found. (want any version)
# Test::CPAN::Meta => module not found. (want any version)
# Test::Deep => 0.11 (want any version)
# Test::More => 0.98 (want 0.88)
# Test::NoWarnings => 1.04 (want any version)
# Test::Pod => module not found. (want 1.41)
# Test::Pod::Coverage => module not found. (want 1.08)
# Test::Warn => 0.24 (want any version)
# autodie => 2.12 (want any version)
# base => 2.18 (want any version)
# strict => 1.04 (want any version)
# version => 0.99 (want 0.9901)
# warnings => 1.12 (want any version)
#
# Thanks for using my code. I hope it works for you.
# If not, please try and include this output in the bug report.
# That will help me reproduce the issue and solve your problem.
#
t/000-report-versions-tiny.t .. ok
t/01-slurp.t .................. ok
t/02-wm.t ..................... ok
t/03-traversal.t .............. ok
t/04-errors.t ................. ok
All tests successful.
Files=6, Tests=34, 10 wallclock secs ( 0.08 usr + 0.16 sys = 0.23 CPU)
Result: PASS
------------------------------
PREREQUISITES
------------------------------
Prerequisite modules loaded:
requires:
Module Need Have
--------------------- ------ --------
autodie 0 2.12
base 0 2.18
Carp 0 1.26
Exporter 0 5.66
perl 5.010 5.014002
strict 0 1.04
warnings 0 1.12
build_requires:
Module Need Have
--------------------- ------ --------
Data::Dumper 0 2.131
Data::Section::Simple 0 0.03
File::Find 0 1.19
File::Spec 0 3.33
File::Temp 0 0.22
FindBin 0 1.50
Module::Build 0.3601 0.3800
Test::Deep 0 0.110
Test::More 0.88 0.98
Test::NoWarnings 0 1.04
Test::Warn 0 0.24
configure_requires:
Module Need Have
--------------------- ------ --------
Module::Build 0.3601 0.3800
------------------------------
ENVIRONMENT AND OTHER CONTEXT
------------------------------
Environment variables:
AUTOMATED_TESTING = 1
COMSPEC = C:\Windows\system32\cmd.exe
NUMBER_OF_PROCESSORS = 8
PATH = C:\Users\DSolimano\Desktop\strawberry-perl-5.14.2.1-32bit-portable\perl\site\bin;C:\Users\DSolimano\Desktop\strawberry-perl-5.14.2.1-32bit-portable\perl\bin;C:\Users\DSolimano\Desktop\strawberry-perl-5.14.2.1-32bit-portable\c\bin;C:\Program Files\MiKTeX\2.9\miktex\bin;C:\Windows\system32;C:\Windows;C:\Windows\System32\Wbem;C:\Windows\System32\WindowsPowerShell\v1.0\;C:\rv\BIN;c:\Program Files\Microsoft SQL Server\100\Tools\Binn\;c:\Program Files\Microsoft SQL Server\100\DTS\Binn\;C:\strawberry\c\bin;C:\strawberry\perl\site\bin;C:\strawberry\perl\bin;C:\Program Files\Microsoft SQL Server\100\Tools\Binn\VSShell\Common7\IDE\;C:\Program Files\Microsoft Visual Studio 9.0\Common7\IDE\PrivateAssemblies\;C:\Program Files\ooRexx;C:\Program Files\Microsoft SQL Server\80\Tools\Binn\;C:\Program Files\Microsoft SQL Server\90\Tools\binn\;C:\Program Files\Microsoft SQL Server\90\DTS\Binn\;C:\Program Files\Microsoft SQL Server\90\Tools\Binn\VSShell\Common7\IDE\;C:\Program Files\Microsoft Visual Studio 8\Common7\IDE\PrivateAssemblies\;C:\Program Files\TortoiseSVN\bin;C:\Program Files\MIT\Kerberos\bin;C:\Users\DSolimano\AppData\Local\Fidessa\systemfiles
PERL5LIB = C:\Users\DSolimano\Desktop\strawberry-perl-5.14.2.1-32bit-portable\cpan\build\Data-Section-Simple-0.03-e1pURR/blib/arch;C:\Users\DSolimano\Desktop\strawberry-perl-5.14.2.1-32bit-portable\cpan\build\Data-Section-Simple-0.03-e1pURR/blib/lib
PERL5OPT =
PERL5_CPANPLUS_IS_RUNNING = 13692
PERL5_CPAN_IS_RUNNING = 13692
PERL5_CPAN_IS_RUNNING_IN_RECURSION = 7668,13692
PERL_CR_SMOKER_CURRENT = Soar-WM-0.04
PERL_EXTUTILS_AUTOINSTALL = --defaultdeps
PERL_JSON_BACKEND = JSON::XS
PERL_MM_USE_DEFAULT = 1
PERL_YAML_BACKEND = YAML
PROCESSOR_IDENTIFIER = x86 Family 6 Model 23 Stepping 6, GenuineIntel
TEMP = C:\Users\DSOLIM~1\AppData\Local\Temp
TERM = dumb
Perl special variables (and OS-specific diagnostics, for MSWin32):
$^X = C:\Users\DSolimano\Desktop\strawberry-perl-5.14.2.1-32bit-portable\perl\bin\perl.exe
$UID/$EUID = 0 / 0
$GID = 0
$EGID = 0
Win32::GetOSName = Win7
Win32::GetOSVersion = Service Pack 1, 6, 1, 7601, 2, 1, 0, 256, 1
Win32::FsType = NTFS
Win32::IsAdminUser = 1
Perl module toolchain versions installed:
Module Have
------------------- --------
CPAN 1.9800
CPAN::Meta 2.120921
Cwd 3.36
ExtUtils::CBuilder 0.280205
ExtUtils::Command 1.17
ExtUtils::Install 1.56
ExtUtils::MakeMaker 6.62
ExtUtils::Manifest 1.60
ExtUtils::ParseXS 3.15
File::Spec 3.33
JSON 2.53
JSON::PP 2.27200
Module::Build 0.3800
Module::Signature 0.68
Parse::CPAN::Meta 1.4404
Test::Harness 3.25
Test::More 0.98
YAML 0.84
YAML::Syck n/a
version 0.99
--
Summary of my perl5 (revision 5 version 14 subversion 2) configuration:
Platform:
osname=MSWin32, osvers=4.0, archname=MSWin32-x86-multi-thread
uname='Win32 strawberryperl 5.14.2.1-portable #1 Tue Nov 22 18:24:29 2011 i386'
config_args='undef'
hint=recommended, useposix=true, d_sigaction=undef
useithreads=define, usemultiplicity=define
useperlio=define, d_sfio=undef, uselargefiles=define, usesocks=undef
use64bitint=undef, use64bitall=undef, uselongdouble=undef
usemymalloc=n, bincompat5005=undef
Compiler:
cc='gcc', ccflags =' -s -O2 -DWIN32 -DPERL_TEXTMODE_SCRIPTS -DUSE_SITECUSTOMIZE -DPERL_IMPLICIT_CONTEXT -DPERL_IMPLICIT_SYS -fno-strict-aliasing -mms-bitfields',
optimize='-s -O2',
cppflags='-DWIN32'
ccversion='', gccversion='4.4.7', gccosandvers=''
intsize=4, longsize=4, ptrsize=4, doublesize=8, byteorder=1234
d_longlong=undef, longlongsize=8, d_longdbl=define, longdblsize=12
ivtype='long', ivsize=4, nvtype='double', nvsize=8, Off_t='long long', lseeksize=8
alignbytes=8, prototype=define
Linker and Libraries:
ld='g++.exe', ldflags ='-s -L"C:\Users\DSolimano\Desktop\strawberry-perl-5.14.2.1-32bit-portable\perl\lib\CORE" -L"C:\Users\DSolimano\Desktop\strawberry-perl-5.14.2.1-32bit-portable\c\lib"'
libpth=C:\Users\DSolimano\Desktop\strawberry-perl-5.14.2.1-32bit-portable\c\lib C:\Users\DSolimano\Desktop\strawberry-perl-5.14.2.1-32bit-portable\c\i686-w64-mingw32\lib
libs=-lmoldname -lkernel32 -luser32 -lgdi32 -lwinspool -lcomdlg32 -ladvapi32 -lshell32 -lole32 -loleaut32 -lnetapi32 -luuid -lws2_32 -lmpr -lwinmm -lversion -lodbc32 -lodbccp32 -lcomctl32
perllibs=-lmoldname -lkernel32 -luser32 -lgdi32 -lwinspool -lcomdlg32 -ladvapi32 -lshell32 -lole32 -loleaut32 -lnetapi32 -luuid -lws2_32 -lmpr -lwinmm -lversion -lodbc32 -lodbccp32 -lcomctl32
libc=, so=dll, useshrplib=true, libperl=libperl514.a
gnulibc_version=''
Dynamic Linking:
dlsrc=dl_win32.xs, dlext=dll, d_dlsymun=undef, ccdlflags=' '
cccdlflags=' ', lddlflags='-mdll -s -L"C:\Users\DSolimano\Desktop\strawberry-perl-5.14.2.1-32bit-portable\perl\lib\CORE" -L"C:\Users\DSolimano\Desktop\strawberry-perl-5.14.2.1-32bit-portable\c\lib"'
Characteristics of this binary (from libperl):
Compile-time options: MULTIPLICITY PERL_DONT_CREATE_GVSV
PERL_IMPLICIT_CONTEXT PERL_IMPLICIT_SYS
PERL_MALLOC_WRAP PERL_PRESERVE_IVUV PL_OP_SLAB_ALLOC
USE_ITHREADS USE_LARGE_FILES USE_PERLIO USE_PERL_ATOF
USE_SITECUSTOMIZE
Built under MSWin32
Compiled at Nov 22 2011 18:32:55
%ENV:
PERL5LIB="C:\Users\DSolimano\Desktop\strawberry-perl-5.14.2.1-32bit-portable\cpan\build\Data-Section-Simple-0.03-e1pURR/blib/arch;C:\Users\DSolimano\Desktop\strawberry-perl-5.14.2.1-32bit-portable\cpan\build\Data-Section-Simple-0.03-e1pURR/blib/lib"
PERL5_CPANPLUS_IS_RUNNING="13692"
PERL5_CPAN_IS_RUNNING="13692"
PERL5_CPAN_IS_RUNNING_IN_RECURSION="7668,13692"
PERL_CR_SMOKER_CURRENT="Soar-WM-0.04"
PERL_EXTUTILS_AUTOINSTALL="--defaultdeps"
PERL_JSON_BACKEND="JSON::XS"
PERL_MM_USE_DEFAULT="1"
PERL_YAML_BACKEND="YAML"
@INC:
C:\Users\DSolimano\Desktop\strawberry-perl-5.14.2.1-32bit-portable\cpan\build\Data-Section-Simple-0.03-e1pURR/blib/arch
C:\Users\DSolimano\Desktop\strawberry-perl-5.14.2.1-32bit-portable\cpan\build\Data-Section-Simple-0.03-e1pURR/blib/lib
C:/Users/DSolimano/Desktop/strawberry-perl-5.14.2.1-32bit-portable/perl/site/lib
C:/Users/DSolimano/Desktop/strawberry-perl-5.14.2.1-32bit-portable/perl/vendor/lib
C:/Users/DSolimano/Desktop/strawberry-perl-5.14.2.1-32bit-portable/perl/lib
.