Starman v0.4017 Perl 5 v5.36.1 x86_64-linux-quadmath

Status
Pass
From
Andreas J. König (ANDK)
Dist
Starman v0.4017
Platform
Perl 5 v5.36.1 x86_64-linux-quadmath
Date
2024-02-02 12:43:37
ID
af8e5b78-c1c8-11ee-a345-331cf039ac2a
This distribution has been tested as part of the CPAN Testers
project, supporting the Perl programming language.  See
http://wiki.cpantesters.org/ for more information or email
questions to cpan-testers-discuss@perl.org


--
Dear Tatsuhiko Miyagawa,

This is a computer-generated report for Starman-0.4017
on perl 5.36.1, created by CPAN-Reporter-1.2018.

Thank you for uploading your work to CPAN.  Congratulations!
All tests were successful.

Sections of this report:

    * Tester comments
    * Program output
    * Prerequisites
    * Environment and other context

------------------------------
TESTER COMMENTS
------------------------------

Additional comments from tester:

this report is from an automated smoke testing program
and was not reviewed by a human for accuracy

------------------------------
PROGRAM OUTPUT
------------------------------

Output from './Build test':

t/00_compile.t ........... ok
t/author-pod-syntax.t .... skipped: these tests are for testing by the author
2024/02/02-13:43:17 Starman::Server (type Net::Server::PreFork) starting! pid(154016)
Binding to TCP port 38733 on host 127.0.0.1 with IPv4
Setting gid to "1005 1005 1005"
2024/02/02-13:43:17 Server closing!
t/chunked_req.t .......... ok
t/chunked_termination.t .. ok
2024/02/02-13:43:17 Starman::Server (type Net::Server::PreFork) starting! pid(154024)
Binding to TCP port 45889 on host 127.0.0.1 with IPv4
Setting gid to "1005 1005 1005"
2024/02/02-13:43:17 Server closing!
t/chunked_zero_length.t .. ok
2024/02/02-13:43:18 Starman::Server (type Net::Server::PreFork) starting! pid(154031)
Binding to TCP port 39419 on host 127.0.0.1 with IPv4
Setting gid to "1005 1005 1005"
2024/02/02-13:43:18 Server closing!
t/early-hints.t .......... ok
2024/02/02-13:43:18 Starman::Server (type Net::Server::PreFork) starting! pid(154043)
Binding to TCP port 41385 on host 127.0.0.1 with IPv4
Setting gid to "1005 1005 1005"
2024/02/02-13:43:19 Server closing!
t/eintr.t ................ ok
2024/02/02-13:43:19 Starman::Server (type Net::Server::PreFork) starting! pid(154051)
Binding to TCP port 40501 on host 127.0.0.1 with IPv4
Setting gid to "1005 1005 1005"
2024/02/02-13:43:19 Server closing!
t/expect.t ............... ok
2024/02/02-13:43:20 Starman::Server (type Net::Server::PreFork) starting! pid(154058)
Binding to TCP port 44019 on host 127.0.0.1 with IPv4
Setting gid to "1005 1005 1005"
2024/02/02-13:43:20 Server closing!
2024/02/02-13:43:20 Starman::Server (type Net::Server::PreFork) starting! pid(154064)
Binding to TCP port 33901 on host 127.0.0.1 with IPv4
Setting gid to "1005 1005 1005"
2024/02/02-13:43:20 Server closing!
t/harakiri.t ............. ok
2024/02/02-13:43:20 Starman::Server (type Net::Server::PreFork) starting! pid(154094)
Binding to TCP port 42015 on host 127.0.0.1 with IPv4
Setting gid to "1005 1005 1005"
2024/02/02-13:43:20 Server closing!
t/lf_only_request.t ...... ok
2024/02/02-13:43:21 Starman::Server (type Net::Server::PreFork) starting! pid(154101)
Binding to TCP port 44773 on host 127.0.0.1 with IPv4
Setting gid to "1005 1005 1005"
2024/02/02-13:43:21 Server closing!
t/no_chunked_head.t ...... ok
t/release-findbin.t ...... skipped: these tests are for release candidate testing
t/release-rand.t ......... skipped: these tests are for release candidate testing
2024/02/02-13:43:21 Starman::Server (type Net::Server::PreFork) starting! pid(154112)
Binding to TCP port 42089 on host 127.0.0.1 with IPv4
Setting gid to "1005 1005 1005"
2024/02/02-13:43:21 Server closing!
t/single_zero.t .......... ok
2024/02/02-13:43:22 Starman::Server (type Net::Server::PreFork) starting! pid(154119)
Resolved [localhost]:45647 to [::1]:45647, IPv6
Resolved [localhost]:45647 to [127.0.0.1]:45647, IPv4
Binding to SSL port 45647 on host ::1 with IPv6
Binding to SSL port 45647 on host 127.0.0.1 with IPv4
Setting gid to "1005 1005 1005"
Passed serialize value of none is incompatible with multiple ports - using default serialize
Could not finalize SSL connection with client handle (SSL accept attempt failed error:0A000126:SSL routines::unexpected eof while reading)
2024/02/02-13:43:22 Server closing!
t/ssl.t .................. ok
2024/02/02-13:43:23 Starman::Server (type Net::Server::PreFork) starting! pid(154127)
Resolved [localhost]:42119 to [::1]:42119, IPv6
Resolved [localhost]:42119 to [127.0.0.1]:42119, IPv4
Binding to SSL port 42119 on host ::1 with IPv6
Binding to SSL port 42119 on host 127.0.0.1 with IPv4
Setting gid to "1005 1005 1005"
Passed serialize value of none is incompatible with multiple ports - using default serialize
Could not finalize SSL connection with client handle (SSL accept attempt failed error:0A000126:SSL routines::unexpected eof while reading)
2024/02/02-13:43:23 Server closing!
t/ssl_largebody.t ........ ok
2024/02/02-13:43:23 Starman::Server (type Net::Server::PreFork) starting! pid(154135)
Binding to TCP port 46393 on host 127.0.0.1 with IPv4
Setting gid to "1005 1005 1005"
2024/02/02-13:43:25 Server closing!
t/suite.t ................ ok
All tests successful.
Files=17, Tests=125,  9 wallclock secs ( 0.08 usr  0.10 sys +  3.20 cusr  1.19 csys =  4.57 CPU)
Result: PASS

------------------------------
PREREQUISITES
------------------------------

Prerequisite modules loaded:

requires:

    Module              Need     Have    
    ------------------- -------- --------
    Data::Dump          0        1.25    
    HTTP::Date          0        6.06    
    HTTP::Parser::XS    0        0.17    
    HTTP::Status        0        6.44    
    Net::Server         2.007    2.014   
    parent              0        0.241   
    perl                5.008001 5.036001
    Plack               0.9971   1.0050  
    Test::TCP           2.00     2.22    

build_requires:

    Module              Need     Have    
    ------------------- -------- --------
    LWP::UserAgent      0        6.68    
    Test::More          0        1.302195
    Test::Requires      0        0.11    

configure_requires:

    Module              Need     Have    
    ------------------- -------- --------
    Module::Build::Tiny 0.034    0.046   


------------------------------
ENVIRONMENT AND OTHER CONTEXT
------------------------------

Environment variables:

    AUTOMATED_TESTING = 1
    LANG = en_US.UTF-8
    LANGUAGE = en_US:en
    PATH = /home/sand/bin:/usr/local/bin:/usr/bin:/bin:/usr/games:/usr/local/perl/bin:/usr/X11/bin:/sbin:/usr/sbin
    PERL5LIB = 
    PERL5OPT = 
    PERL5_CPANPLUS_IS_RUNNING = 153421
    PERL5_CPAN_IS_RUNNING = 153421
    PERL_CANARY_STABILITY_NOPROMPT = 1
    PERL_MM_USE_DEFAULT = 1
    PERL_USE_UNSAFE_INC = 1
    SHELL = /usr/bin/zsh
    TERM = screen

Perl special variables (and OS-specific diagnostics, for MSWin32):

    $^X = /home/sand/src/perl/repoperls/installed-perls/host/k93msid/v5.36.1/ec94/bin/perl
    $UID/$EUID = 1005 / 1005
    $GID = 1005 1005
    $EGID = 1005 1005

Perl module toolchain versions installed:

    Module              Have    
    ------------------- --------
    CPAN                2.34    
    CPAN::Meta          2.150010
    Cwd                 3.84    
    ExtUtils::CBuilder  0.280236
    ExtUtils::Command   7.70    
    ExtUtils::Install   2.20    
    ExtUtils::MakeMaker 7.70    
    ExtUtils::Manifest  1.73    
    ExtUtils::ParseXS   3.51    
    File::Spec          3.84    
    JSON                4.10    
    JSON::PP            4.16    
    Module::Build       0.4232  
    Module::Signature   0.88    
    Parse::CPAN::Meta   2.150010
    Test::Harness       3.44    
    Test::More          1.302195
    YAML                1.30    
    YAML::Syck          1.34    
    version             0.9929  


--

Summary of my perl5 (revision 5 version 36 subversion 1) configuration:
  Commit id: 42e3343be621a2b9cdb98befd92de43cc0b7ef3e
  Platform:
    osname=linux
    osvers=6.1.0-7-amd64
    archname=x86_64-linux-quadmath
    uname='linux k93msid 6.1.0-7-amd64 #1 smp preempt_dynamic debian 6.1.20-1 (2023-03-19) x86_64 gnulinux '
    config_args='-Dprefix=/home/sand/src/perl/repoperls/installed-perls/host/k93msid/v5.36.1/ec94 -Dmyhostname=k93msid -Dinstallusrbinperl=n -Uversiononly -Dusedevel -des -Ui_db -Dlibswanted=cl pthread socket inet nsl gdbm dbm malloc dl ld sun m crypt sec util c cposix posix ucb BSD gdbm_compat -Uuseithreads -Uuselongdouble -DEBUGGING=both -Dusequadmath'
    hint=recommended
    useposix=true
    d_sigaction=define
    useithreads=undef
    usemultiplicity=undef
    use64bitint=define
    use64bitall=define
    uselongdouble=undef
    usemymalloc=n
    default_inc_excludes_dot=define
  Compiler:
    cc='cc'
    ccflags ='-fwrapv -DDEBUGGING -fno-strict-aliasing -pipe -fstack-protector-strong -I/usr/local/include -D_LARGEFILE_SOURCE -D_FILE_OFFSET_BITS=64 -D_FORTIFY_SOURCE=2'
    optimize='-O2 -g'
    cppflags='-fwrapv -DDEBUGGING -fno-strict-aliasing -pipe -fstack-protector-strong -I/usr/local/include'
    ccversion=''
    gccversion='12.2.0'
    gccosandvers=''
    intsize=4
    longsize=8
    ptrsize=8
    doublesize=8
    byteorder=12345678
    doublekind=3
    d_longlong=define
    longlongsize=8
    d_longdbl=define
    longdblsize=16
    longdblkind=3
    ivtype='long'
    ivsize=8
    nvtype='__float128'
    nvsize=16
    Off_t='off_t'
    lseeksize=8
    alignbytes=16
    prototype=define
  Linker and Libraries:
    ld='cc'
    ldflags =' -fstack-protector-strong -L/usr/local/lib'
    libpth=/usr/local/lib /usr/lib/x86_64-linux-gnu /usr/lib /usr/lib64
    libs=-lpthread -lnsl -ldl -lm -lcrypt -lutil -lc -lquadmath
    perllibs=-lpthread -lnsl -ldl -lm -lcrypt -lutil -lc -lquadmath
    libc=/lib/x86_64-linux-gnu/libc.so.6
    so=so
    useshrplib=false
    libperl=libperl.a
    gnulibc_version='2.36'
  Dynamic Linking:
    dlsrc=dl_dlopen.xs
    dlext=so
    d_dlsymun=undef
    ccdlflags='-Wl,-E'
    cccdlflags='-fPIC'
    lddlflags='-shared -O2 -g -L/usr/local/lib -fstack-protector-strong'


Characteristics of this binary (from libperl): 
  Compile-time options:
    DEBUGGING
    HAS_TIMES
    PERLIO_LAYERS
    PERL_COPY_ON_WRITE
    PERL_DONT_CREATE_GVSV
    PERL_MALLOC_WRAP
    PERL_OP_PARENT
    PERL_PRESERVE_IVUV
    PERL_USE_DEVEL
    USE_64_BIT_ALL
    USE_64_BIT_INT
    USE_LARGE_FILES
    USE_LOCALE
    USE_LOCALE_COLLATE
    USE_LOCALE_CTYPE
    USE_LOCALE_NUMERIC
    USE_LOCALE_TIME
    USE_PERLIO
    USE_PERL_ATOF
    USE_QUADMATH
  Built under linux
  Compiled at Apr 24 2023 03:35:17
  %ENV:
    PERL5LIB=""
    PERL5OPT=""
    PERL5_CPANPLUS_IS_RUNNING="153421"
    PERL5_CPAN_IS_RUNNING="153421"
    PERL_CANARY_STABILITY_NOPROMPT="1"
    PERL_MM_USE_DEFAULT="1"
    PERL_USE_UNSAFE_INC="1"
  @INC:
    /home/sand/src/perl/repoperls/installed-perls/host/k93msid/v5.36.1/ec94/lib/site_perl/5.36.1/x86_64-linux-quadmath
    /home/sand/src/perl/repoperls/installed-perls/host/k93msid/v5.36.1/ec94/lib/site_perl/5.36.1
    /home/sand/src/perl/repoperls/installed-perls/host/k93msid/v5.36.1/ec94/lib/5.36.1/x86_64-linux-quadmath
    /home/sand/src/perl/repoperls/installed-perls/host/k93msid/v5.36.1/ec94/lib/5.36.1
    .