Starman v0.4017 Perl 5 v5.39.6 x86_64-dragonfly-thread-multi
- Status
- Pass
- From
- Carlos Guevara
- Dist
-
Starman v0.4017
- Platform
- Perl 5 v5.39.6 x86_64-dragonfly-thread-multi
- Date
- 2023-11-20 16:13:04
- ID
- af9b2602-87bf-11ee-91e6-48c446aa7ba3
This distribution has been tested as part of the CPAN Testers
project, supporting the Perl programming language. See
http://wiki.cpantesters.org/ for more information or email
questions to cpan-testers-discuss@perl.org
--
Dear Tatsuhiko Miyagawa,
This is a computer-generated report for Starman-0.4017
on perl 5.39.6, created by CPAN-Reporter-1.2019.
Thank you for uploading your work to CPAN. Congratulations!
All tests were successful.
Sections of this report:
* Tester comments
* Program output
* Prerequisites
* Environment and other context
------------------------------
TESTER COMMENTS
------------------------------
Additional comments from tester:
this report is from an automated smoke testing program
and was not reviewed by a human for accuracy
------------------------------
PROGRAM OUTPUT
------------------------------
Output from './Build test':
t/00_compile.t ........... ok
t/author-pod-syntax.t .... skipped: these tests are for testing by the author
2023/11/20-11:12:58 Starman::Server (type Net::Server::PreFork) starting! pid(533098)
Binding to TCP port 1726 on host 127.0.0.1 with IPv4
Setting gid to "1002 1002 1002"
2023/11/20-11:12:58 Server closing!
t/chunked_req.t .......... ok
t/chunked_termination.t .. ok
2023/11/20-11:12:58 Starman::Server (type Net::Server::PreFork) starting! pid(533106)
Binding to TCP port 4851 on host 127.0.0.1 with IPv4
Setting gid to "1002 1002 1002"
2023/11/20-11:12:58 Server closing!
t/chunked_zero_length.t .. ok
2023/11/20-11:12:58 Starman::Server (type Net::Server::PreFork) starting! pid(533113)
Binding to TCP port 2138 on host 127.0.0.1 with IPv4
Setting gid to "1002 1002 1002"
2023/11/20-11:12:58 Server closing!
t/early-hints.t .......... ok
2023/11/20-11:12:58 Starman::Server (type Net::Server::PreFork) starting! pid(533120)
Binding to TCP port 2542 on host 127.0.0.1 with IPv4
Setting gid to "1002 1002 1002"
2023/11/20-11:13:01 Server closing!
t/eintr.t ................ ok
2023/11/20-11:13:01 Starman::Server (type Net::Server::PreFork) starting! pid(533128)
Binding to TCP port 2841 on host 127.0.0.1 with IPv4
Setting gid to "1002 1002 1002"
2023/11/20-11:13:01 Server closing!
t/expect.t ............... ok
2023/11/20-11:13:01 Starman::Server (type Net::Server::PreFork) starting! pid(533146)
Binding to TCP port 4039 on host 127.0.0.1 with IPv4
Setting gid to "1002 1002 1002"
2023/11/20-11:13:01 Server closing!
2023/11/20-11:13:01 Starman::Server (type Net::Server::PreFork) starting! pid(533152)
Binding to TCP port 2733 on host 127.0.0.1 with IPv4
Setting gid to "1002 1002 1002"
2023/11/20-11:13:01 Server closing!
t/harakiri.t ............. ok
2023/11/20-11:13:02 Starman::Server (type Net::Server::PreFork) starting! pid(533179)
Binding to TCP port 3502 on host 127.0.0.1 with IPv4
Setting gid to "1002 1002 1002"
2023/11/20-11:13:02 Server closing!
t/lf_only_request.t ...... ok
2023/11/20-11:13:02 Starman::Server (type Net::Server::PreFork) starting! pid(533186)
Binding to TCP port 2013 on host 127.0.0.1 with IPv4
Setting gid to "1002 1002 1002"
2023/11/20-11:13:02 Server closing!
t/no_chunked_head.t ...... ok
t/release-findbin.t ...... skipped: these tests are for release candidate testing
t/release-rand.t ......... skipped: these tests are for release candidate testing
2023/11/20-11:13:02 Starman::Server (type Net::Server::PreFork) starting! pid(533195)
Binding to TCP port 1139 on host 127.0.0.1 with IPv4
Setting gid to "1002 1002 1002"
2023/11/20-11:13:02 Server closing!
t/single_zero.t .......... ok
2023/11/20-11:13:02 Starman::Server (type Net::Server::PreFork) starting! pid(533202)
Resolved [localhost]:2001 to [::1]:2001, IPv6
Resolved [localhost]:2001 to [127.0.0.1]:2001, IPv4
Binding to SSL port 2001 on host ::1 with IPv6
Binding to SSL port 2001 on host 127.0.0.1 with IPv4
Setting gid to "1002 1002 1002"
Could not finalize SSL connection with client handle (SSL accept attempt failed)
2023/11/20-11:13:03 Server closing!
t/ssl.t .................. ok
2023/11/20-11:13:03 Starman::Server (type Net::Server::PreFork) starting! pid(533210)
Resolved [localhost]:2592 to [::1]:2592, IPv6
Resolved [localhost]:2592 to [127.0.0.1]:2592, IPv4
Binding to SSL port 2592 on host ::1 with IPv6
Binding to SSL port 2592 on host 127.0.0.1 with IPv4
Setting gid to "1002 1002 1002"
Could not finalize SSL connection with client handle (SSL accept attempt failed)
2023/11/20-11:13:03 Server closing!
t/ssl_largebody.t ........ ok
2023/11/20-11:13:03 Starman::Server (type Net::Server::PreFork) starting! pid(533218)
Binding to TCP port 2428 on host 127.0.0.1 with IPv4
Setting gid to "1002 1002 1002"
2023/11/20-11:13:04 Server closing!
t/suite.t ................ ok
All tests successful.
Files=17, Tests=125, 7 wallclock secs ( 0.05 usr 0.03 sys + 1.82 cusr 1.10 csys = 3.01 CPU)
Result: PASS
------------------------------
PREREQUISITES
------------------------------
Prerequisite modules loaded:
requires:
Module Need Have
------------------- -------- --------
Data::Dump 0 1.25
HTTP::Date 0 6.06
HTTP::Parser::XS 0 0.17
HTTP::Status 0 6.45
Net::Server 2.007 2.014
parent 0 0.241
perl 5.008001 5.039006
Plack 0.9971 1.0050
Test::TCP 2.00 2.22
build_requires:
Module Need Have
------------------- -------- --------
LWP::UserAgent 0 6.72
Test::More 0 1.302196
Test::Requires 0 0.11
configure_requires:
Module Need Have
------------------- -------- --------
Module::Build::Tiny 0.034 0.047
------------------------------
ENVIRONMENT AND OTHER CONTEXT
------------------------------
Environment variables:
AUTOMATED_TESTING = 1
DATE_MANIP_TEST_DM5 = 1
LC_ALL = C
NONINTERACTIVE_TESTING = 1
NO_NETWORK_TESTING = 1
PATH = /home/cpan/bin/perl/bin:/home/cpan/bin:/sbin:/bin:/usr/sbin:/usr/bin:/usr/games:/usr/local/sbin:/usr/local/bin:/usr/pkg/sbin:/usr/pkg/bin:/home/cpan/bin
PERL5LIB =
PERL5OPT =
PERL5_CPANPLUS_IS_RUNNING = 525383
PERL5_CPAN_IS_RUNNING = 525383
PERL_MM_USE_DEFAULT = 1
PERL_USE_UNSAFE_INC = 1
SHELL = /usr/local/bin/bash
TERM = screen
TMPDIR = /home/cpan/tmp
Perl special variables (and OS-specific diagnostics, for MSWin32):
$^X = /home/cpan/bin/perl/bin/perl5.39.6
$UID/$EUID = 1002 / 1002
$GID = 1002 1002
$EGID = 1002 1002
Perl module toolchain versions installed:
Module Have
------------------- --------
CPAN 2.36
CPAN::Meta 2.150010
Cwd 3.90
ExtUtils::CBuilder 0.280240
ExtUtils::Command 7.70
ExtUtils::Install 2.22
ExtUtils::MakeMaker 7.70
ExtUtils::Manifest 1.75
ExtUtils::ParseXS 3.51
File::Spec 3.90
JSON 4.10
JSON::PP 4.16
Module::Build 0.4234
Module::Signature n/a
Parse::CPAN::Meta 2.150010
Test2 1.302196
Test::Harness 3.48
Test::More 1.302196
YAML 1.30
YAML::Syck 1.34
version 0.9930
--
Summary of my perl5 (revision 5 version 39 subversion 6) configuration:
Commit id: 3d3715d9cdd99726132d3117adb282af723f7486
Platform:
osname=dragonfly
osvers=6.4-release
archname=x86_64-dragonfly-thread-multi
uname='dragonfly cjg-dragonfly6 6.4-release dragonfly v6.4.0-release #54: fri dec 30 09:06:50 pst 2022 root@pkgbox64.dragonflybsd.org:usrobjusrsrcsysx86_64_generic x86_64 '
config_args='-des -Dprefix=/home/cpan/bin/perl -Dscriptdir=/home/cpan/bin/perl/bin -Dusedevel -Duse64bitall -Duseithreads'
hint=recommended
useposix=true
d_sigaction=define
useithreads=define
usemultiplicity=define
use64bitint=define
use64bitall=define
uselongdouble=undef
usemymalloc=n
default_inc_excludes_dot=define
Compiler:
cc='cc'
ccflags ='-DHAS_FPSETMASK -DHAS_FLOATINGPOINT_H -DNO_POSIX_2008 -fwrapv -fno-strict-aliasing -pipe -fstack-protector-strong -I/usr/local/include -D_FORTIFY_SOURCE=2'
optimize='-O2'
cppflags='-DHAS_FPSETMASK -DHAS_FLOATINGPOINT_H -DNO_POSIX_2008 -fwrapv -fno-strict-aliasing -pipe -fstack-protector-strong -I/usr/local/include'
ccversion=''
gccversion='8.3 [DragonFly] Release/2019-02-22'
gccosandvers=''
intsize=4
longsize=8
ptrsize=8
doublesize=8
byteorder=12345678
doublekind=3
d_longlong=define
longlongsize=8
d_longdbl=define
longdblsize=16
longdblkind=3
ivtype='long'
ivsize=8
nvtype='double'
nvsize=8
Off_t='off_t'
lseeksize=8
alignbytes=8
prototype=define
Linker and Libraries:
ld='cc'
ldflags ='-pthread -Wl,-E -fstack-protector-strong -L/usr/local/lib'
libpth=/usr/lib /usr/local/lib
libs=-lpthread -ldl -lm -lcrypt -lutil -lc
perllibs=-lpthread -ldl -lm -lcrypt -lutil -lc
libc=
so=so
useshrplib=false
libperl=libperl.a
gnulibc_version=''
Dynamic Linking:
dlsrc=dl_dlopen.xs
dlext=so
d_dlsymun=undef
ccdlflags=' '
cccdlflags='-DPIC -fPIC'
lddlflags='-shared -L/usr/local/lib -fstack-protector-strong'
Characteristics of this binary (from libperl):
Compile-time options:
HAS_LONG_DOUBLE
HAS_STRTOLD
HAS_TIMES
MULTIPLICITY
PERLIO_LAYERS
PERL_COPY_ON_WRITE
PERL_DONT_CREATE_GVSV
PERL_HASH_FUNC_SIPHASH13
PERL_HASH_USE_SBOX32
PERL_MALLOC_WRAP
PERL_OP_PARENT
PERL_PRESERVE_IVUV
PERL_USE_DEVEL
PERL_USE_SAFE_PUTENV
USE_64_BIT_ALL
USE_64_BIT_INT
USE_ITHREADS
USE_LARGE_FILES
USE_LOCALE
USE_LOCALE_COLLATE
USE_LOCALE_CTYPE
USE_LOCALE_NUMERIC
USE_LOCALE_TIME
USE_PERLIO
USE_PERL_ATOF
USE_REENTRANT_API
USE_THREAD_SAFE_LOCALE
Built under dragonfly
Compiled at Nov 20 2023 03:43:15
%ENV:
PERL5LIB=""
PERL5OPT=""
PERL5_CPANPLUS_IS_RUNNING="525383"
PERL5_CPAN_IS_RUNNING="525383"
PERL_MM_USE_DEFAULT="1"
PERL_USE_UNSAFE_INC="1"
@INC:
/home/cpan/bin/perl/lib/site_perl/5.39.6/x86_64-dragonfly-thread-multi
/home/cpan/bin/perl/lib/site_perl/5.39.6
/home/cpan/bin/perl/lib/5.39.6/x86_64-dragonfly-thread-multi
/home/cpan/bin/perl/lib/5.39.6
.