Report for Package-Locator-0.009

Back
From: metabase:user:243d49fc-866b-11e2-aa44-71bf72408ccb
Subject: PASS Package-Locator-0.009 v5.16.3 GNU/Linux
Date: 2013-06-13T20:20:27Z

This distribution has been tested as part of the CPAN Testers
project, supporting the Perl programming language.  See
http://wiki.cpantesters.org/ for more information or email
questions to cpan-testers-discuss@perl.org


--
Dear Jeffrey Ryan Thalhammer,

This is a computer-generated report for Package-Locator-0.009
on perl 5.16.3, created by CPAN-Reporter-1.2010.

Thank you for uploading your work to CPAN.  Congratulations!
All tests were successful.

Sections of this report:

    * Tester comments
    * Program output
    * Prerequisites
    * Environment and other context

------------------------------
TESTER COMMENTS
------------------------------

Additional comments from tester:

none provided

------------------------------
PROGRAM OUTPUT
------------------------------

Output from './Build test':

t/00-compile.t ...... ok
t/02-functional.t ... ok
t/03-exceptions.t ... ok
t/04-cache.t ........ ok
t/05-cache-clear.t .. ok
t/06-index.t ........ ok
All tests successful.
Files=6, Tests=42,  3 wallclock secs ( 0.05 usr  0.02 sys +  3.42 cusr  0.19 csys =  3.68 CPU)
Result: PASS

------------------------------
PREREQUISITES
------------------------------

Prerequisite modules loaded:

requires:

    Module                     Need   Have    
    -------------------------- ------ --------
    Carp                       0      1.26    
    CPAN::DistnameInfo         0      0.12    
    File::Temp                 0      0.2301  
    IO::Zlib                   0      1.10    
    LWP::UserAgent             0      6.05    
    Moose                      0      2.0802  
    MooseX::MarkAsMethods      0      0.15    
    MooseX::Types::Path::Class 0      0.06    
    MooseX::Types::URI         0      0.03    
    Path::Class                0      0.32    
    perl                       5.006  5.016003
    URI                        0      1.60    
    URI::Escape                0      3.31    
    version                    0      0.9902  

build_requires:

    Module                     Need   Have    
    -------------------------- ------ --------
    File::Find                 0      1.20    
    FindBin                    0      1.51    
    Module::Build              0.3601 0.4005  
    strict                     0      1.07    
    Test::Exception            0      0.32    
    Test::More                 0      0.98    
    warnings                   0      1.13    

configure_requires:

    Module                     Need   Have    
    -------------------------- ------ --------
    Module::Build              0.3601 0.4005  


------------------------------
ENVIRONMENT AND OTHER CONTEXT
------------------------------

Environment variables:

    LANG = en_GB.UTF-8
    PATH = /usr/local/apache/bin:/usr/local/bin:/usr/local/sbin:/usr/local/bin:/sbin:/bin:/usr/sbin:/usr/bin:/root/bin
    PERL5LIB = 
    PERL5OPT = 
    PERL5_CPANPLUS_IS_RUNNING = 17531
    PERL5_CPAN_IS_RUNNING = 17531
    PERL5_CPAN_IS_RUNNING_IN_RECURSION = 15977,17531
    SHELL = /bin/bash
    TERM = xterm

Perl special variables (and OS-specific diagnostics, for MSWin32):

    $^X = /usr/local/bin/perl
    $UID/$EUID = 0 / 0
    $GID = 0 0 1 2 3 4 6 10
    $EGID = 0 0 1 2 3 4 6 10

Perl module toolchain versions installed:

    Module              Have    
    ------------------- --------
    CPAN                2.00    
    CPAN::Meta          2.131560
    Cwd                 3.40    
    ExtUtils::CBuilder  0.280206
    ExtUtils::Command   1.17    
    ExtUtils::Install   1.58    
    ExtUtils::MakeMaker 6.66    
    ExtUtils::Manifest  1.61    
    ExtUtils::ParseXS   3.18    
    File::Spec          3.40    
    JSON                2.59    
    JSON::PP            2.27200 
    Module::Build       0.4005  
    Module::Signature   0.73    
    Parse::CPAN::Meta   1.4404  
    Test::Harness       3.28    
    Test::More          0.98    
    YAML                0.84    
    YAML::Syck          1.25    
    version             0.9902  


--

Summary of my perl5 (revision 5 version 16 subversion 3) configuration:
   
  Platform:
    osname=linux, osvers=2.6.32-220.2.1.el6.x86_64, archname=x86_64-linux
    uname='linux cogendo1.dh.bytemark.co.uk 2.6.32-220.2.1.el6.x86_64 #1 smp fri dec 23 02:21:33 cst 2011 x86_64 x86_64 x86_64 gnulinux '
    config_args='-Dprefix=/usr/local'
    hint=recommended, useposix=true, d_sigaction=define
    useithreads=undef, usemultiplicity=undef
    useperlio=define, d_sfio=undef, uselargefiles=define, usesocks=undef
    use64bitint=define, use64bitall=define, uselongdouble=undef
    usemymalloc=n, bincompat5005=undef
  Compiler:
    cc='gcc', ccflags ='-m64 -mtune=nocona -fPIC -fno-strict-aliasing -pipe -fstack-protector -I/usr/local/include -D_LARGEFILE_SOURCE -D_FILE_OFFSET_BITS=64',
    optimize='-O2',
    cppflags='-m64 -mtune=nocona -fPIC -fno-strict-aliasing -pipe -fstack-protector -I/usr/local/include'
    ccversion='', gccversion='4.4.6 20120305 (Red Hat 4.4.6-4)', gccosandvers=''
    intsize=4, longsize=8, ptrsize=8, doublesize=8, byteorder=12345678
    d_longlong=define, longlongsize=8, d_longdbl=define, longdblsize=16
    ivtype='long', ivsize=8, nvtype='double', nvsize=8, Off_t='off_t', lseeksize=8
    alignbytes=8, prototype=define
  Linker and Libraries:
    ld='gcc', ldflags ='-m64 -mtune=nocona -fPIC -fno-strict-aliasing -pipe -fstack-protector -L/usr/local/lib'
    libpth=/usr/local/lib /lib/../lib64 /usr/lib/../lib64 /lib /usr/lib /lib64 /usr/lib64 /usr/local/lib64
    libs=-lnsl -ldl -lm -lcrypt -lutil -lc
    perllibs=-lnsl -ldl -lm -lcrypt -lutil -lc
    libc=/lib/libc-2.12.so, so=so, useshrplib=false, libperl=libperl.a
    gnulibc_version='2.12'
  Dynamic Linking:
    dlsrc=dl_dlopen.xs, dlext=so, d_dlsymun=undef, ccdlflags='-Wl,-E'
    cccdlflags='-m64 -mtune=nocona -fPIC -fno-strict-aliasing -pipe -fstack-protector -I/usr/local/include', lddlflags='-shared -O2 -L/usr/local/lib -fstack-protector  -m64 -mtune=nocona -fPIC -fno-strict-aliasing -pipe'


Characteristics of this binary (from libperl): 
  Compile-time options: HAS_TIMES PERLIO_LAYERS PERL_DONT_CREATE_GVSV
                        PERL_MALLOC_WRAP PERL_PRESERVE_IVUV USE_64_BIT_ALL
                        USE_64_BIT_INT USE_LARGE_FILES USE_LOCALE
                        USE_LOCALE_COLLATE USE_LOCALE_CTYPE
                        USE_LOCALE_NUMERIC USE_PERLIO USE_PERL_ATOF
  Built under linux
  Compiled at Mar 15 2013 20:52:34
  %ENV:
    PERL5LIB=""
    PERL5OPT=""
    PERL5_CPANPLUS_IS_RUNNING="17531"
    PERL5_CPAN_IS_RUNNING="17531"
    PERL5_CPAN_IS_RUNNING_IN_RECURSION="15977,17531"
  @INC:
    /usr/local/lib/perl5/site_perl/5.16.3/x86_64-linux
    /usr/local/lib/perl5/site_perl/5.16.3
    /usr/local/lib/perl5/5.16.3/x86_64-linux
    /usr/local/lib/perl5/5.16.3
    .