Back
From: metabase:user:b5d08ee0-c4e1-11e4-8722-f94d18e3ac47
Subject: PASS autodie-2.29 v5.20.2 GNU/Linux
Date: 2015-07-11T06:54:33Z
This distribution has been tested as part of the CPAN Testers
project, supporting the Perl programming language. See
http://wiki.cpantesters.org/ for more information or email
questions to cpan-testers-discuss@perl.org
--
Dear PJF,
This is a computer-generated report for autodie-2.29
on perl 5.20.2, created by App::cpanminus::reporter 0.13 (1.7027).
Thank you for uploading your work to CPAN. Congratulations!
All tests were successful.
Sections of this report:
* Tester comments
* Program output
* Prerequisites
* Environment and other context
------------------------------
TESTER COMMENTS
------------------------------
Additional comments from tester:
none provided
------------------------------
PROGRAM OUTPUT
------------------------------
Output from '':
Building and testing autodie-2.29
cp lib/autodie/hints.pm blib/lib/autodie/hints.pm
cp lib/autodie/Scope/Guard.pm blib/lib/autodie/Scope/Guard.pm
cp lib/autodie/Util.pm blib/lib/autodie/Util.pm
cp lib/Fatal.pm blib/lib/Fatal.pm
cp lib/autodie/skip.pm blib/lib/autodie/skip.pm
cp lib/autodie.pm blib/lib/autodie.pm
cp lib/autodie/Scope/GuardStack.pm blib/lib/autodie/Scope/GuardStack.pm
cp lib/autodie/exception.pm blib/lib/autodie/exception.pm
cp lib/autodie/exception/system.pm blib/lib/autodie/exception/system.pm
Manifying 9 pod documents
PERL_DL_NONLAZY=1 "/home/arpi/opt/perl5/perls/perl-5.20.2/bin/perl" "-MExtUtils::Command::MM" "-MTest::Harness" "-e" "undef *Test::Harness::Switches; test_harness(0, 'blib/lib', 'blib/arch')" t/*.t
t/00-load.t ...................... ok
t/args.t ......................... ok
t/author-critic.t ................ skipped: these tests are for testing by the author
t/autodie.t ...................... ok
t/backcompat.t ................... ok
t/basic_exceptions.t ............. ok
t/binmode.t ...................... ok
t/blog_hints.t ................... ok
t/caller.t ....................... ok
t/chmod.t ........................ ok
t/chown.t ........................ ok
t/context.t ...................... ok
t/context_lexical.t .............. ok
t/core-trampoline-slurp.t ........ ok
t/crickey.t ...................... ok
t/critic.t ....................... skipped: Author test. Set $ENV{AUTHOR_TESTING} to true to run.
t/dbmopen.t ...................... ok
t/eval_error.t ................... ok
t/exception_class.t .............. ok
t/exceptions.t ................... ok
t/exec.t ......................... ok
t/Fatal.t ........................ ok
t/filehandles.t .................. ok
t/fileno.t ....................... ok
t/flock.t ........................ ok
t/fork.t ......................... skipped: BSD::Resource required to test fork()
t/format-clobber.t ............... ok
# Sub::Identify is loaded
t/hints.t ........................ ok
t/hints_insist.t ................. ok
t/hints_pod_examples.t ........... ok
t/hints_provider_does.t .......... ok
t/hints_provider_easy_does_it.t .. ok
t/hints_provider_isa.t ........... ok
t/import-into.t .................. ok
t/internal-backcompat.t .......... ok
t/internal.t ..................... ok
t/kill.t ......................... ok
t/kwalitee.t ..................... skipped: Author test. Set $ENV{RELEASE_TESTING} to true to run.
t/lethal.t ....................... ok
t/lex58.t ........................ skipped: IPC::System::Simple required
t/mkdir.t ........................ ok
t/no_carp.t ...................... ok
t/open.t ......................... ok
t/pod-coverage.t ................. skipped: Author test. Set $ENV{AUTHOR_TESTING} to true to run.
t/pod.t .......................... skipped: Author test. Set $ENV{AUTHOR_TESTING} to true to run.
t/read.t ......................... ok
t/recv.t ......................... ok
t/release-pod-coverage.t ......... skipped: these tests are for release candidate testing
t/release-pod-syntax.t ........... skipped: these tests are for release candidate testing
t/repeat.t ....................... ok
t/rt-74246.t ..................... ok
t/scope_leak.t ................... ok
t/skip.t ......................... ok
t/socket.t ....................... skipped: Author test. Set $ENV{AUTHOR_TESTING} to true to run.
t/string-eval-basic.t ............ ok
t/string-eval-leak.t ............. ok
t/sysopen.t ...................... ok
t/system.t ....................... skipped: IPC::System::Simple not installed
t/truncate.t ..................... ok
t/unlink.t ....................... ok
t/user-context.t ................. ok
t/usersub.t ...................... ok
t/utf8_open.t .................... ok
t/utime.t ........................ ok
t/version.t ...................... skipped: Release test. Set $ENV{RELEASE_TESTING} to true to run.
t/version_tag.t .................. ok
All tests successful.
Files=66, Tests=496, 101 wallclock secs ( 3.95 usr 0.63 sys + 84.10 cusr 3.49 csys = 92.17 CPU)
Result: PASS
------------------------------
PREREQUISITES
------------------------------
Prerequisite modules loaded:
No requirements found
------------------------------
ENVIRONMENT AND OTHER CONTEXT
------------------------------
Environment variables:
LANG = en_GB.UTF-8
LC_ADDRESS = ro_RO.UTF-8
LC_IDENTIFICATION = ro_RO.UTF-8
LC_MEASUREMENT = ro_RO.UTF-8
LC_MONETARY = ro_RO.UTF-8
LC_NAME = ro_RO.UTF-8
LC_NUMERIC = ro_RO.UTF-8
LC_PAPER = ro_RO.UTF-8
LC_TELEPHONE = ro_RO.UTF-8
LC_TIME = ro_RO.UTF-8
PATH = /home/arpi/opt/perl5/bin:/home/arpi/opt/perl5/perls/stable/bin:/usr/local/sbin:/usr/local/bin:/usr/sbin:/usr/bin:/sbin:/bin:/usr/local/games:/usr/games
PERLBREW_BASHRC_VERSION = 0.73
PERLBREW_HOME = /home/arpi/.perlbrew
PERLBREW_MANPATH = /home/arpi/opt/perl5/perls/stable/man
PERLBREW_PATH = /home/arpi/opt/perl5/bin:/home/arpi/opt/perl5/perls/stable/bin
PERLBREW_PERL = stable
PERLBREW_ROOT = /home/arpi/opt/perl5
PERLBREW_VERSION = 0.73
SHELL = /bin/bash
TERM = screen-256color
Perl special variables (and OS-specific diagnostics, for MSWin32):
EGID = 100 4 20 24 27 29 44 46 60 100 105 999 1001 1002 1003
EUID = 1001
EXECUTABLE_NAME = /home/arpi/opt/perl5/perls/perl-5.20.2/bin/perl
GID = 100 4 20 24 27 29 44 46 60 100 105 999 1001 1002 1003
UID = 1001
Perl module toolchain versions installed:
Module Have
------------------- --------
CPAN 2.10
CPAN::Meta 2.150005
Cwd 3.48_01
ExtUtils::CBuilder 0.280223
ExtUtils::Command 1.20
ExtUtils::Install 2.04
ExtUtils::MakeMaker 7.04
ExtUtils::Manifest 1.70
ExtUtils::ParseXS 3.24
File::Spec 3.48_01
JSON 2.90
JSON::PP 2.27300
Module::Build 0.4214
Module::Signature n/a
Parse::CPAN::Meta 1.4417
Test::Harness 3.35
Test::More 1.001014
YAML 1.15
YAML::Syck n/a
version 0.9912
--
Summary of my perl5 (revision 5 version 20 subversion 2) configuration:
Platform:
osname=linux, osvers=3.18.7+, archname=armv6l-linux-thread-multi-64int
uname='linux coral01.plenum.ro 3.18.7+ #755 preempt thu feb 12 17:14:31 gmt 2015 armv6l gnulinux '
config_args='-de -Dprefix=/home/arpi/opt/perl5/perls/perl-5.20.2 -Dusethreads -Duselargefiles -Duse64bitint -Dusesitecustomize -Duseshrplib -Dinc_version_list=none -Dpager=/bin/less -Doptimize=-O2 -Dcf_by=Plenum.ro -Dcf_email=arpad.szasz@plenum.ro -Uuserelocatableinc -UDEBUGGING -Aeval:scriptdir=/home/arpi/opt/perl5/perls/perl-5.20.2/bin'
hint=recommended, useposix=true, d_sigaction=define
useithreads=define, usemultiplicity=define
use64bitint=define, use64bitall=undef, uselongdouble=undef
usemymalloc=n, bincompat5005=undef
Compiler:
cc='cc', ccflags ='-D_REENTRANT -D_GNU_SOURCE -fwrapv -fno-strict-aliasing -pipe -fstack-protector -I/usr/local/include -D_LARGEFILE_SOURCE -D_FILE_OFFSET_BITS=64',
optimize='-O2',
cppflags='-D_REENTRANT -D_GNU_SOURCE -fwrapv -fno-strict-aliasing -pipe -fstack-protector -I/usr/local/include'
ccversion='', gccversion='4.6.3', gccosandvers=''
intsize=4, longsize=4, ptrsize=4, doublesize=8, byteorder=12345678
d_longlong=define, longlongsize=8, d_longdbl=define, longdblsize=8
ivtype='long long', ivsize=8, nvtype='double', nvsize=8, Off_t='off_t', lseeksize=8
alignbytes=8, prototype=define
Linker and Libraries:
ld='cc', ldflags =' -fstack-protector -L/usr/local/lib'
libpth=/usr/local/lib /usr/lib/gcc/arm-linux-gnueabihf/4.6/include-fixed /usr/include/arm-linux-gnueabihf /usr/lib /lib/arm-linux-gnueabihf /lib /usr/lib/arm-linux-gnueabihf
libs=-lnsl -ldl -lm -lcrypt -lutil -lpthread -lc
perllibs=-lnsl -ldl -lm -lcrypt -lutil -lpthread -lc
libc=libc-2.13.so, so=so, useshrplib=true, libperl=libperl.so
gnulibc_version='2.13'
Dynamic Linking:
dlsrc=dl_dlopen.xs, dlext=so, d_dlsymun=undef, ccdlflags='-Wl,-E -Wl,-rpath,/home/arpi/opt/perl5/perls/perl-5.20.2/lib/5.20.2/armv6l-linux-thread-multi-64int/CORE'
cccdlflags='-fPIC', lddlflags='-shared -O2 -L/usr/local/lib -fstack-protector'
Characteristics of this binary (from libperl):
Compile-time options: HAS_TIMES MULTIPLICITY PERLIO_LAYERS
PERL_DONT_CREATE_GVSV
PERL_HASH_FUNC_ONE_AT_A_TIME_HARD
PERL_IMPLICIT_CONTEXT PERL_MALLOC_WRAP
PERL_NEW_COPY_ON_WRITE PERL_PRESERVE_IVUV
USE_64_BIT_INT USE_ITHREADS USE_LARGE_FILES
USE_LOCALE USE_LOCALE_COLLATE USE_LOCALE_CTYPE
USE_LOCALE_NUMERIC USE_PERLIO USE_PERL_ATOF
USE_REENTRANT_API USE_SITECUSTOMIZE
Locally applied patches:
Devel::PatchPerl 1.30
Built under linux
Compiled at Mar 7 2015 13:40:31
%ENV:
PERLBREW_BASHRC_VERSION="0.73"
PERLBREW_HOME="/home/arpi/.perlbrew"
PERLBREW_MANPATH="/home/arpi/opt/perl5/perls/stable/man"
PERLBREW_PATH="/home/arpi/opt/perl5/bin:/home/arpi/opt/perl5/perls/stable/bin"
PERLBREW_PERL="stable"
PERLBREW_ROOT="/home/arpi/opt/perl5"
PERLBREW_VERSION="0.73"
@INC:
/home/arpi/opt/perl5/perls/perl-5.20.2/lib/site_perl/5.20.2/armv6l-linux-thread-multi-64int
/home/arpi/opt/perl5/perls/perl-5.20.2/lib/site_perl/5.20.2
/home/arpi/opt/perl5/perls/perl-5.20.2/lib/5.20.2/armv6l-linux-thread-multi-64int
/home/arpi/opt/perl5/perls/perl-5.20.2/lib/5.20.2
.