CPAN-Testers-ParseReport v0.4.5 Perl 5 v5.14.0 amd64-netbsd

Status
Pass
From
Nigel Horne
Dist
CPAN-Testers-ParseReport v0.4.5
Platform
Perl 5 v5.14.0 amd64-netbsd
Date
2018-12-30 07:01:10
ID
afc807fc-0c00-11e9-b4e3-6dc962b887d7
This distribution has been tested as part of the CPAN Testers
project, supporting the Perl programming language.  See
http://wiki.cpantesters.org/ for more information or email
questions to cpan-testers-discuss@perl.org


--
Dear Andreas J. Koenig,

This is a computer-generated report for CPAN-Testers-ParseReport-0.4.5
on perl 5.14.0, created by CPAN-Reporter-1.2018.

Thank you for uploading your work to CPAN.  Congratulations!
All tests were successful.

Sections of this report:

    * Tester comments
    * Program output
    * Prerequisites
    * Environment and other context

------------------------------
TESTER COMMENTS
------------------------------

Additional comments from tester:

this report is from an automated smoke testing program
and was not reviewed by a human for accuracy

------------------------------
PROGRAM OUTPUT
------------------------------

Output from '/usr/bin/make test':

PERL_DL_NONLAZY=1 "/home/njh/perl5/perlbrew/perls/perl-5.14.0/bin/perl" "-MExtUtils::Command::MM" "-MTest::Harness" "-e" "undef *Test::Harness::Switches; test_harness(0, 'blib/lib', 'blib/arch')" t/*.t
# Testing CPAN::Testers::ParseReport 0.4.5, Perl 5.014000, /home/njh/perl5/perlbrew/perls/perl-5.14.0/bin/perl
t/00-load.t ............ ok
t/01-metayaml.t ........ skipped: Test::CPAN::Meta 0.12 required for testing META.yml
t/ctgetreports.t ....... ok
t/ctgr-live.t .......... skipped: envariable AUTHOR_TEST not set
t/nytprof.t ............ skipped: envariable AUTHOR_TEST not set
t/parse_long_report.t .. skipped: envariable AUTHOR_TEST not set
t/pod-coverage.t ....... ok
t/pod.t ................ ok
t/run.t ................ ok
All tests successful.
Files=9, Tests=103, 14 wallclock secs ( 0.08 usr  0.03 sys + 11.67 cusr  1.50 csys = 13.28 CPU)
Result: PASS

------------------------------
PREREQUISITES
------------------------------

Prerequisite modules loaded:

requires:

    Module                     Need     Have    
    -------------------------- -------- --------
    Class::ISA                 0        0.36    
    Compress::Zlib             0        2.033   
    CPAN::Meta::Converter      2.110440 2.150010
    CPAN::Meta::YAML           0.018    0.018   
    DateTime                   0        1.50    
    DateTime::Format::Strptime 0        1.75    
    ExtUtils::MakeMaker        6.48     7.34    
    File::Path                 1.08     2.16    
    File::Spec                 3.75     3.75    
    Getopt::Long               0        2.5     
    Hash::Util                 0        0.11    
    HTML::Entities             0        3.69    
    JSON::PP                   2.97001  2.97001 
    JSON::XS                   0        4.0     
    List::AllUtils             0        0.15    
    LWP::UserAgent             0        6.36    
    MIME::QuotedPrint          3.07     3.13    
    Parse::CPAN::Meta          2.150010 2.150010
    perl                       5.008    5.014000
    Pod::Usage                 1.33     1.69    
    Statistics::Regression     0        0.53    
    Test::More                 0        1.302140
    Test::Pod                  0        1.52    
    Time::Local                1.11     1.28    
    version                    0.9924   0.9924  

build_requires:

    Module                     Need     Have    
    -------------------------- -------- --------
    ExtUtils::MakeMaker        0        7.34    

configure_requires:

    Module                     Need     Have    
    -------------------------- -------- --------
    ExtUtils::MakeMaker        0        7.34    


------------------------------
ENVIRONMENT AND OTHER CONTEXT
------------------------------

Environment variables:

    AUTOMATED_TESTING = 1
    NONINTERACTIVE_TESTING = 1
    PATH = /home/njh/perl5/perlbrew/bin:/home/njh/perl5/perlbrew/perls/perl-5.14.0/bin:/home/njh/src/njh/smoker/bin:/usr/bin:/bin:/usr/pkg/bin:/usr/local/bin
    PERL5LIB = /home/njh/.cpan/build/Statistics-Regression-0.53-3/blib/arch:/home/njh/.cpan/build/Statistics-Regression-0.53-3/blib/lib:/home/njh/.cpan/build/List-AllUtils-0.15-3/blib/arch:/home/njh/.cpan/build/List-AllUtils-0.15-3/blib/lib:/home/njh/.cpan/build/List-UtilsBy-0.11-3/blib/arch:/home/njh/.cpan/build/List-UtilsBy-0.11-3/blib/lib:/home/njh/.cpan/build/JSON-XS-4.0-3/blib/arch:/home/njh/.cpan/build/JSON-XS-4.0-3/blib/lib:/home/njh/.cpan/build/Types-Serialiser-1.0-3/blib/arch:/home/njh/.cpan/build/Types-Serialiser-1.0-3/blib/lib:/home/njh/.cpan/build/common-sense-3.74-3/blib/arch:/home/njh/.cpan/build/common-sense-3.74-3/blib/lib:/home/njh/.cpan/build/Canary-Stability-2012-3/blib/arch:/home/njh/.cpan/build/Canary-Stability-2012-3/blib/lib:/home/njh/.cpan/build/Class-ISA-0.36-3/blib/arch:/home/njh/.cpan/build/Class-ISA-0.36-3/blib/lib:/home/njh/.cpan/build/Mojolicious-Plugin-Piwik-0.26_1-3/blib/arch:/home/njh/.cpan/build/Mojolicious-Plugin-Piwik-0.26_1-3/blib/lib:/home/njh/.cpan/build/Mojolicious-8.10-3/blib/arch:/home/njh/.cpan/build/Mojolicious-8.10-3/blib/lib
    PERL5OPT = 
    PERL5_CPANPLUS_IS_RUNNING = 28069
    PERL5_CPAN_IS_RUNNING = 28069
    PERLBREW_HOME = /home/njh/.perlbrew
    PERLBREW_MANPATH = /home/njh/perl5/perlbrew/perls/perl-5.14.0/man
    PERLBREW_PATH = /home/njh/perl5/perlbrew/bin:/home/njh/perl5/perlbrew/perls/perl-5.14.0/bin
    PERLBREW_PERL = perl-5.14.0
    PERLBREW_ROOT = /home/njh/perl5/perlbrew
    PERLBREW_SHELLRC_VERSION = 0.82
    PERLBREW_VERSION = 0.82
    PERL_MM_USE_DEFAULT = 1
    PERL_USE_UNSAFE_INC = 1
    SHELL = /bin/sh
    TMPDIR = /tmp/testwrapper.19352

Perl special variables (and OS-specific diagnostics, for MSWin32):

    $^X = /home/njh/perl5/perlbrew/perls/perl-5.14.0/bin/perl
    $UID/$EUID = 1000 / 1000
    $GID = 100 100 0
    $EGID = 100 100 0

Perl module toolchain versions installed:

    Module              Have    
    ------------------- --------
    CPAN                2.22    
    CPAN::Meta          2.150010
    Cwd                 3.75    
    ExtUtils::CBuilder  0.280230
    ExtUtils::Command   7.34    
    ExtUtils::Install   2.14    
    ExtUtils::MakeMaker 7.34    
    ExtUtils::Manifest  1.71    
    ExtUtils::ParseXS   3.35    
    File::Spec          3.75    
    JSON                4.00    
    JSON::PP            2.97001 
    Module::Build       0.4224  
    Module::Signature   n/a     
    Parse::CPAN::Meta   2.150010
    Test::Harness       3.42    
    Test::More          1.302140
    YAML                1.27    
    YAML::Syck          1.31    
    version             0.9924  


--

Summary of my perl5 (revision 5 version 14 subversion 0) configuration:
   
  Platform:
    osname=netbsd, osvers=7.1.2, archname=amd64-netbsd
    uname='netbsd vultr2.bandsman.co.uk 7.1.2 netbsd 7.1.2 (generic.201803151611z) amd64 '
    config_args='-de -Dprefix=/home/njh/perl5/perlbrew/perls/perl-5.14.0 -Aeval:scriptdir=/home/njh/perl5/perlbrew/perls/perl-5.14.0/bin'
    hint=recommended, useposix=true, d_sigaction=define
    useithreads=undef, usemultiplicity=undef
    useperlio=define, d_sfio=undef, uselargefiles=define, usesocks=undef
    use64bitint=define, use64bitall=define, uselongdouble=undef
    usemymalloc=n, bincompat5005=undef
  Compiler:
    cc='cc', ccflags ='-fno-strict-aliasing -pipe -fstack-protector -I/usr/pkg/include',
    optimize='-O',
    cppflags='-fno-strict-aliasing -pipe -fstack-protector -I/usr/pkg/include'
    ccversion='', gccversion='4.8.5', gccosandvers=''
    intsize=4, longsize=8, ptrsize=8, doublesize=8, byteorder=12345678
    d_longlong=define, longlongsize=8, d_longdbl=define, longdblsize=16
    ivtype='long', ivsize=8, nvtype='double', nvsize=8, Off_t='off_t', lseeksize=8
    alignbytes=8, prototype=define
  Linker and Libraries:
    ld='cc', ldflags =' -Wl,-rpath,/usr/pkg/lib -Wl,-rpath,/usr/local/lib -fstack-protector -L/usr/pkg/lib'
    libpth=/usr/pkg/lib /lib /usr/lib
    libs=-lm -lcrypt -lutil -lc -lposix
    perllibs=-lm -lcrypt -lutil -lc -lposix
    libc=/lib/libc.so, so=so, useshrplib=false, libperl=libperl.a
    gnulibc_version=''
  Dynamic Linking:
    dlsrc=dl_dlopen.xs, dlext=so, d_dlsymun=undef, ccdlflags='-Wl,-E '
    cccdlflags='-DPIC -fPIC ', lddlflags='-shared  -L/usr/pkg/lib -fstack-protector'


Characteristics of this binary (from libperl): 
  Compile-time options: PERL_DONT_CREATE_GVSV PERL_MALLOC_WRAP
                        PERL_PRESERVE_IVUV USE_64_BIT_ALL USE_64_BIT_INT
                        USE_LARGE_FILES USE_PERLIO USE_PERL_ATOF
  Locally applied patches:
	Devel::PatchPerl 1.48
  Built under netbsd
  Compiled at Sep 26 2018 19:41:37
  %ENV:
    PERL5LIB="/home/njh/.cpan/build/Statistics-Regression-0.53-3/blib/arch:/home/njh/.cpan/build/Statistics-Regression-0.53-3/blib/lib:/home/njh/.cpan/build/List-AllUtils-0.15-3/blib/arch:/home/njh/.cpan/build/List-AllUtils-0.15-3/blib/lib:/home/njh/.cpan/build/List-UtilsBy-0.11-3/blib/arch:/home/njh/.cpan/build/List-UtilsBy-0.11-3/blib/lib:/home/njh/.cpan/build/JSON-XS-4.0-3/blib/arch:/home/njh/.cpan/build/JSON-XS-4.0-3/blib/lib:/home/njh/.cpan/build/Types-Serialiser-1.0-3/blib/arch:/home/njh/.cpan/build/Types-Serialiser-1.0-3/blib/lib:/home/njh/.cpan/build/common-sense-3.74-3/blib/arch:/home/njh/.cpan/build/common-sense-3.74-3/blib/lib:/home/njh/.cpan/build/Canary-Stability-2012-3/blib/arch:/home/njh/.cpan/build/Canary-Stability-2012-3/blib/lib:/home/njh/.cpan/build/Class-ISA-0.36-3/blib/arch:/home/njh/.cpan/build/Class-ISA-0.36-3/blib/lib:/home/njh/.cpan/build/Mojolicious-Plugin-Piwik-0.26_1-3/blib/arch:/home/njh/.cpan/build/Mojolicious-Plugin-Piwik-0.26_1-3/blib/lib:/home/njh/.cpan/build/Mojolicious-8.10-3/blib/arch:/home/njh/.cpan/build/Mojolicious-8.10-3/blib/lib"
    PERL5OPT=""
    PERL5_CPANPLUS_IS_RUNNING="28069"
    PERL5_CPAN_IS_RUNNING="28069"
    PERLBREW_HOME="/home/njh/.perlbrew"
    PERLBREW_MANPATH="/home/njh/perl5/perlbrew/perls/perl-5.14.0/man"
    PERLBREW_PATH="/home/njh/perl5/perlbrew/bin:/home/njh/perl5/perlbrew/perls/perl-5.14.0/bin"
    PERLBREW_PERL="perl-5.14.0"
    PERLBREW_ROOT="/home/njh/perl5/perlbrew"
    PERLBREW_SHELLRC_VERSION="0.82"
    PERLBREW_VERSION="0.82"
    PERL_MM_USE_DEFAULT="1"
    PERL_USE_UNSAFE_INC="1"
  @INC:
    /home/njh/.cpan/build/Statistics-Regression-0.53-3/blib/arch
    /home/njh/.cpan/build/Statistics-Regression-0.53-3/blib/lib
    /home/njh/.cpan/build/List-AllUtils-0.15-3/blib/arch
    /home/njh/.cpan/build/List-AllUtils-0.15-3/blib/lib
    /home/njh/.cpan/build/List-UtilsBy-0.11-3/blib/arch
    /home/njh/.cpan/build/List-UtilsBy-0.11-3/blib/lib
    /home/njh/.cpan/build/JSON-XS-4.0-3/blib/arch
    /home/njh/.cpan/build/JSON-XS-4.0-3/blib/lib
    /home/njh/.cpan/build/Types-Serialiser-1.0-3/blib/arch
    /home/njh/.cpan/build/Types-Serialiser-1.0-3/blib/lib
    /home/njh/.cpan/build/common-sense-3.74-3/blib/arch
    /home/njh/.cpan/build/common-sense-3.74-3/blib/lib
    /home/njh/.cpan/build/Canary-Stability-2012-3/blib/arch
    /home/njh/.cpan/build/Canary-Stability-2012-3/blib/lib
    /home/njh/.cpan/build/Class-ISA-0.36-3/blib/arch
    /home/njh/.cpan/build/Class-ISA-0.36-3/blib/lib
    /home/njh/.cpan/build/Mojolicious-Plugin-Piwik-0.26_1-3/blib/arch
    /home/njh/.cpan/build/Mojolicious-Plugin-Piwik-0.26_1-3/blib/lib
    /home/njh/.cpan/build/Mojolicious-8.10-3/blib/arch
    /home/njh/.cpan/build/Mojolicious-8.10-3/blib/lib
    /home/njh/perl5/perlbrew/perls/perl-5.14.0/lib/site_perl/5.14.0/amd64-netbsd
    /home/njh/perl5/perlbrew/perls/perl-5.14.0/lib/site_perl/5.14.0
    /home/njh/perl5/perlbrew/perls/perl-5.14.0/lib/5.14.0/amd64-netbsd
    /home/njh/perl5/perlbrew/perls/perl-5.14.0/lib/5.14.0
    .