Dist-Zilla-Plugin-OnlyCorePrereqs v0.025 Perl 5 v5.41.1 amd64-freebsd-thread-multi
- Status
- Pass
- From
- Carlos Guevara
- Dist
-
Dist-Zilla-Plugin-OnlyCorePrereqs v0.025
- Platform
- Perl 5 v5.41.1 amd64-freebsd-thread-multi
- Date
- 2024-06-21 06:58:38
- ID
- afd2920c-2f9b-11ef-8b87-db7f29cadb79
This distribution has been tested as part of the CPAN Testers
project, supporting the Perl programming language. See
http://wiki.cpantesters.org/ for more information or email
questions to cpan-testers-discuss@perl.org
--
Dear Karen Etheridge,
This is a computer-generated report for Dist-Zilla-Plugin-OnlyCorePrereqs-0.025
on perl 5.41.1, created by CPAN-Reporter-1.2019.
Thank you for uploading your work to CPAN. Congratulations!
All tests were successful.
Sections of this report:
* Tester comments
* Program output
* Prerequisites
* Environment and other context
------------------------------
TESTER COMMENTS
------------------------------
Additional comments from tester:
this report is from an automated smoke testing program
and was not reviewed by a human for accuracy
------------------------------
PROGRAM OUTPUT
------------------------------
Output from '/usr/bin/make test':
PERL_DL_NONLAZY=1 "/home/cpan/bin/perl/bin/perl5.41.1" "-MExtUtils::Command::MM" "-MTest::Harness" "-e" "undef *Test::Harness::Switches; test_harness(0, 'blib/lib', 'blib/arch')" t/*.t
#
# Versions for all modules listed in MYMETA.json (including optional ones):
#
# === Configure Requires ===
#
# Module Want Have
# ------------------- ----- --------
# ExtUtils::MakeMaker any 7.70
# perl 5.010 5.041001
#
# === Build Requires ===
#
# Module Want Have
# ------------------- ---- ----
# ExtUtils::MakeMaker any 7.70
#
# === Test Requires ===
#
# Module Want Have
# ------------------- ----- --------
# ExtUtils::MakeMaker any 7.70
# File::Spec any 3.90
# List::Util any 1.63
# Moose::Util any 2.2207
# Path::Tiny any 0.146
# Test::DZil any 6.032
# Test::Deep any 1.204
# Test::Fatal any 0.017
# Test::More 0.88 1.302199
# if any 0.0610
# perl 5.010 5.041001
#
# === Test Recommends ===
#
# Module Want Have
# ---------- -------- --------
# CPAN::Meta 2.120900 2.150010
#
# === Runtime Requires ===
#
# Module Want Have
# ----------------------------- ---------- ----------
# CPAN::DistnameInfo any 0.12
# CPAN::Meta::Requirements 2.121 2.143
# Dist::Zilla 4.300039 6.032
# Dist::Zilla::Role::AfterBuild any 6.032
# Encode any 3.21
# HTTP::Headers any 6.46
# HTTP::Tiny any 0.088
# Module::CoreList 5.20150214 5.20240620
# Moose any 2.2207
# Moose::Util::TypeConstraints any 2.2207
# MooseX::Types::Perl 0.101340 0.101344
# YAML::Tiny any 1.74
# namespace::autoclean any 0.29
# perl 5.010 5.041001
# strict any 1.13
# version any 0.9932
# warnings any 1.70
#
# === Other Modules ===
#
# Module Have
# --------------------- --------
# CPAN::Meta::Validator 2.150010
# Encode 3.21
# File::Temp 0.2311
# JSON::PP 4.16
# Module::Runtime 0.016
# Pod::Coverage 0.23
# Sub::Name 0.27
# YAML 1.31
# autodie 2.37
# feature 1.90
#
t/00-report-prereqs.t ............ ok
t/01-basic.t ..................... ok
t/02-deprecated.t ................ ok
t/03-specific-version.t .......... ok
t/04-no-check-module-versions.t .. skipped: the check_module_versions option has been removed
t/05-check-dual-life-versions.t .. ok
t/06-phases.t .................... ok
t/07-skip.t ...................... ok
t/08-perl-prereq.t ............... ok
t/09-also-disallow.t ............. ok
t/zzz-check-breaks.t ............. ok
All tests successful.
Files=11, Tests=63, 6 wallclock secs ( 0.04 usr 0.00 sys + 6.31 cusr 0.36 csys = 6.71 CPU)
Result: PASS
------------------------------
PREREQUISITES
------------------------------
Prerequisite modules loaded:
requires:
Module Need Have
----------------------------- ---------- ----------
CPAN::DistnameInfo 0 0.12
CPAN::Meta::Requirements 2.121 2.143
Dist::Zilla 4.300039 6.032
Dist::Zilla::Role::AfterBuild 0 6.032
Encode 0 3.21
HTTP::Headers 0 6.46
HTTP::Tiny 0 0.088
Module::CoreList 5.20150214 5.20240620
Moose 0 2.2207
Moose::Util::TypeConstraints 0 2.2207
MooseX::Types::Perl 0.101340 0.101344
namespace::autoclean 0 0.29
perl 5.010 5.041001
strict 0 1.13
version 0 0.9932
warnings 0 1.70
YAML::Tiny 0 1.74
build_requires:
Module Need Have
----------------------------- ---------- ----------
ExtUtils::MakeMaker 0 7.70
File::Spec 0 3.90
if 0 0.0610
List::Util 0 1.63
Moose::Util 0 2.2207
Path::Tiny 0 0.146
Test::Deep 0 1.204
Test::DZil 0 6.032
Test::Fatal 0 0.017
Test::More 0.88 1.302199
configure_requires:
Module Need Have
----------------------------- ---------- ----------
ExtUtils::MakeMaker 0 7.70
perl 5.010 5.041001
------------------------------
ENVIRONMENT AND OTHER CONTEXT
------------------------------
Environment variables:
AUTOMATED_TESTING = 1
DATE_MANIP_TEST_DM5 = 1
LANG = C.UTF-8
LC_ALL = C
NONINTERACTIVE_TESTING = 1
NO_NETWORK_TESTING = 1
PATH = /home/cpan/bin/perl/bin:/home/cpan/bin:/sbin:/bin:/usr/sbin:/usr/bin:/usr/local/sbin:/usr/local/bin:/home/cpan/bin
PERL5LIB =
PERL5OPT =
PERL5_CPANPLUS_IS_RUNNING = 74126
PERL5_CPAN_IS_RUNNING = 74126
PERL_MM_USE_DEFAULT = 1
PERL_USE_UNSAFE_INC = 1
SHELL = /usr/local/bin/bash
TERM = screen
TMPDIR = /home/cpan/tmp
Perl special variables (and OS-specific diagnostics, for MSWin32):
$^X = /home/cpan/bin/perl/bin/perl5.41.1
$UID/$EUID = 1002 / 1002
$GID = 1002 1002
$EGID = 1002 1002
Perl module toolchain versions installed:
Module Have
------------------- --------
CPAN 2.36
CPAN::Meta 2.150010
Cwd 3.90
ExtUtils::CBuilder 0.280240
ExtUtils::Command 7.70
ExtUtils::Install 2.22
ExtUtils::MakeMaker 7.70
ExtUtils::Manifest 1.75
ExtUtils::ParseXS 3.51
File::Spec 3.90
JSON 4.10
JSON::PP 4.16
Module::Build 0.4234
Module::Signature 0.88
Parse::CPAN::Meta 2.150010
Test2 1.302199
Test::Harness 3.48
Test::More 1.302199
YAML 1.31
YAML::Syck 1.34
version 0.9932
--
Summary of my perl5 (revision 5 version 41 subversion 1) configuration:
Commit id: 21017bd9c17f9305a374d89ddeef03359350ad7e
Platform:
osname=freebsd
osvers=14.1-release
archname=amd64-freebsd-thread-multi
uname='freebsd cjg-freebsd14 14.1-release freebsd 14.1-release releng14.1-n267679-10e31f0946d8 generic amd64 '
config_args='-des -Dprefix=/home/cpan/bin/perl -Dscriptdir=/home/cpan/bin/perl/bin -Dusedevel -Duse64bitall -Duseithreads'
hint=recommended
useposix=true
d_sigaction=define
useithreads=define
usemultiplicity=define
use64bitint=define
use64bitall=define
uselongdouble=undef
usemymalloc=n
default_inc_excludes_dot=define
Compiler:
cc='cc'
ccflags ='-DHAS_FPSETMASK -DHAS_FLOATINGPOINT_H -DNO_POSIX_2008_LOCALE -fno-strict-aliasing -pipe -fstack-protector-strong -I/usr/local/include'
optimize='-O2'
cppflags='-DHAS_FPSETMASK -DHAS_FLOATINGPOINT_H -DNO_POSIX_2008_LOCALE -fno-strict-aliasing -pipe -fstack-protector-strong -I/usr/local/include'
ccversion=''
gccversion='FreeBSD Clang 18.1.5 (https://github.com/llvm/llvm-project.git llvmorg-18.1.5-0-g617a15a9eac9)'
gccosandvers=''
intsize=4
longsize=8
ptrsize=8
doublesize=8
byteorder=12345678
doublekind=3
d_longlong=define
longlongsize=8
d_longdbl=define
longdblsize=16
longdblkind=3
ivtype='long'
ivsize=8
nvtype='double'
nvsize=8
Off_t='off_t'
lseeksize=8
alignbytes=8
prototype=define
Linker and Libraries:
ld='cc'
ldflags ='-pthread -Wl,-E -fstack-protector-strong -L/usr/local/lib'
libpth=/usr/lib /usr/local/lib /usr/lib/clang/18/lib
libs=-lpthread -lgdbm -ldl -lm -lcrypt -lutil
perllibs=-lpthread -ldl -lm -lcrypt -lutil
libc=
so=so
useshrplib=false
libperl=libperl.a
gnulibc_version=''
Dynamic Linking:
dlsrc=dl_dlopen.xs
dlext=so
d_dlsymun=undef
ccdlflags=' '
cccdlflags='-DPIC -fPIC'
lddlflags='-shared -L/usr/local/lib -fstack-protector-strong'
Characteristics of this binary (from libperl):
Compile-time options:
HAS_LONG_DOUBLE
HAS_STRTOLD
HAS_TIMES
MULTIPLICITY
PERLIO_LAYERS
PERL_COPY_ON_WRITE
PERL_DONT_CREATE_GVSV
PERL_HASH_FUNC_SIPHASH13
PERL_HASH_USE_SBOX32
PERL_MALLOC_WRAP
PERL_OP_PARENT
PERL_PRESERVE_IVUV
PERL_USE_DEVEL
PERL_USE_SAFE_PUTENV
USE_64_BIT_ALL
USE_64_BIT_INT
USE_ITHREADS
USE_LARGE_FILES
USE_LOCALE
USE_LOCALE_COLLATE
USE_LOCALE_CTYPE
USE_LOCALE_NUMERIC
USE_LOCALE_TIME
USE_PERLIO
USE_PERL_ATOF
USE_REENTRANT_API
Built under freebsd
Compiled at Jun 20 2024 20:11:20
%ENV:
PERL5LIB=""
PERL5OPT=""
PERL5_CPANPLUS_IS_RUNNING="74126"
PERL5_CPAN_IS_RUNNING="74126"
PERL_MM_USE_DEFAULT="1"
PERL_USE_UNSAFE_INC="1"
@INC:
/home/cpan/bin/perl/lib/site_perl/5.41.1/amd64-freebsd-thread-multi
/home/cpan/bin/perl/lib/site_perl/5.41.1
/home/cpan/bin/perl/lib/5.41.1/amd64-freebsd-thread-multi
/home/cpan/bin/perl/lib/5.41.1
.