Qiime2-Reader v0.10.1 Perl 5 v5.31.7 x86_64-linux

Status
Pass
From
Andreas J. K├Ânig (ANDK)
Dist
Qiime2-Reader v0.10.1
Platform
Perl 5 v5.31.7 x86_64-linux
Date
2020-01-23T14:43:15
ID
afeeb3ae-3dee-11ea-8f15-381e561f184e
This distribution has been tested as part of the CPAN Testers
project, supporting the Perl programming language.  See
http://wiki.cpantesters.org/ for more information or email
questions to cpan-testers-discuss@perl.org


--
Dear Andrea Telatin,

This is a computer-generated report for Qiime2-Reader-0.10.1
on perl 5.31.7, created by CPAN-Reporter-1.2018.

Thank you for uploading your work to CPAN.  Congratulations!
All tests were successful.

Sections of this report:

    * Tester comments
    * Program output
    * Prerequisites
    * Environment and other context

------------------------------
TESTER COMMENTS
------------------------------

Additional comments from tester:

this report is from an automated smoke testing program
and was not reviewed by a human for accuracy

------------------------------
PROGRAM OUTPUT
------------------------------

Output from '/usr/bin/make test':

PERL_DL_NONLAZY=1 "/home/sand/src/perl/repoperls/installed-perls/host/k93buster/v5.31.7/215c/bin/perl" "-MExtUtils::Command::MM" "-MTest::Harness" "-e" "undef *Test::Harness::Switches; test_harness(0, 'blib/lib', 'blib/arch')" t/*.t
t/10_basic_test.t ................. ok
t/11_load.t ....................... ok
Not a valid artifact /tmp/loop_over_bdir-29197-JHn0Zv/Qiime2-Reader-0.10.1-0/t/../data/bad_artifact.zip:
 [Qiime2::Reader ERROR]
 /tmp/loop_over_bdir-29197-JHn0Zv/Qiime2-Reader-0.10.1-0/data/bad_artifact.zip is not a valid artifact:
  "{id}/directory/data" structure expected, found:
  "d27b6a68-5c6e-46d9-9866-7b4d46cca533/"
 ------------------------------------------------------------
t/11_not_a_valid_artifact.t ....... ok
Raise exception:
 [Qiime2::Reader ERROR]
 /tmp/loop_over_bdir-29197-JHn0Zv/Qiime2-Reader-0.10.1-0/data/sample_metadata.tsv is not a ZIP file
 ------------------------------------------------------------
t/11_not_a_zip.t .................. ok
Not a valid artifact /tmp/loop_over_bdir-29197-JHn0Zv/Qiime2-Reader-0.10.1-0/t/../data/non_artifact.zip:
 [Qiime2::Reader ERROR]
 /tmp/loop_over_bdir-29197-JHn0Zv/Qiime2-Reader-0.10.1-0/data/non_artifact.zip is not a valid artifact:
  "{id}/directory/data" structure expected, found:
  "README.md"
 ------------------------------------------------------------
t/11_not_an_artifact.t ............ ok
t/release-00-pod.t ................ skipped: these tests are for release candidate testing
t/release-03-minimum-standards.t .. skipped: these tests are for release candidate testing
t/release-05-changes.t ............ skipped: these tests are for release candidate testing
All tests successful.
Files=8, Tests=10,  1 wallclock secs ( 0.02 usr  0.04 sys +  0.58 cusr  0.26 csys =  0.90 CPU)
Result: PASS

------------------------------
PREREQUISITES
------------------------------

Prerequisite modules loaded:

requires:

    Module              Need  Have    
    ------------------- ----- --------
    Capture::Tiny       0.48  0.48    
    Carp                1.2   1.50    
    Data::Dumper        2.1   2.174   
    FindBin             1.3   1.51    
    perl                5.018 5.031007
    YAML::PP            0.018 0.018   

build_requires:

    Module              Need  Have    
    ------------------- ----- --------
    ExtUtils::MakeMaker 0     7.42    

configure_requires:

    Module              Need  Have    
    ------------------- ----- --------
    Devel::CheckBin     0     0.04    
    ExtUtils::MakeMaker 0     7.42    

opt_requires:

    Module              Need  Have    
    ------------------- ----- --------
    File::Which         0     1.23    


------------------------------
ENVIRONMENT AND OTHER CONTEXT
------------------------------

Environment variables:

    AUTOMATED_TESTING = 1
    LANG = C
    PATH = /home/sand/bin:/usr/local/bin:/usr/bin:/bin:/usr/games:/usr/local/perl/bin:/usr/X11/bin:/sbin:/usr/sbin
    PERL5LIB = /tmp/loop_over_bdir-29197-JHn0Zv/YAML-PP-0.018-0/blib/arch:/tmp/loop_over_bdir-29197-JHn0Zv/YAML-PP-0.018-0/blib/lib:/tmp/loop_over_bdir-29197-JHn0Zv/Test-Warn-0.36-0/blib/arch:/tmp/loop_over_bdir-29197-JHn0Zv/Test-Warn-0.36-0/blib/lib:/tmp/loop_over_bdir-29197-JHn0Zv/Sub-Uplevel-0.2800-0/blib/arch:/tmp/loop_over_bdir-29197-JHn0Zv/Sub-Uplevel-0.2800-0/blib/lib:/tmp/loop_over_bdir-29197-JHn0Zv/Test-Deep-1.128-0/blib/arch:/tmp/loop_over_bdir-29197-JHn0Zv/Test-Deep-1.128-0/blib/lib:/tmp/loop_over_bdir-29197-JHn0Zv/Devel-CheckBin-0.04-0/blib/arch:/tmp/loop_over_bdir-29197-JHn0Zv/Devel-CheckBin-0.04-0/blib/lib
    PERL5OPT = 
    PERL5_CPANPLUS_IS_RUNNING = 12256
    PERL5_CPAN_IS_RUNNING = 12256
    PERL_CANARY_STABILITY_NOPROMPT = 1
    PERL_MM_USE_DEFAULT = 1
    PERL_USE_UNSAFE_INC = 1
    SHELL = /usr/bin/zsh
    TERM = screen

Perl special variables (and OS-specific diagnostics, for MSWin32):

    $^X = /home/sand/src/perl/repoperls/installed-perls/host/k93buster/v5.31.7/215c/bin/perl
    $UID/$EUID = 1005 / 1005
    $GID = 1005 1005
    $EGID = 1005 1005

Perl module toolchain versions installed:

    Module              Have    
    ------------------- --------
    CPAN                2.27    
    CPAN::Meta          2.150010
    Cwd                 3.78    
    ExtUtils::CBuilder  0.280233
    ExtUtils::Command   7.42    
    ExtUtils::Install   2.14    
    ExtUtils::MakeMaker 7.42    
    ExtUtils::Manifest  1.72    
    ExtUtils::ParseXS   3.40    
    File::Spec          3.78    
    JSON                4.02    
    JSON::PP            4.04    
    Module::Build       0.4229  
    Module::Signature   0.83    
    Parse::CPAN::Meta   2.150010
    Test::Harness       3.42    
    Test::More          1.302170
    YAML                1.29    
    YAML::Syck          1.31    
    version             0.9924  


--

Summary of my perl5 (revision 5 version 31 subversion 7) configuration:
  Commit id: 149c28f951d2545c6202ec3774ce28d3fdb482a8
  Platform:
    osname=linux
    osvers=4.14.0-3-amd64
    archname=x86_64-linux
    uname='linux k93buster 4.14.0-3-amd64 #1 smp debian 4.14.12-2 (2018-01-06) x86_64 gnulinux '
    config_args='-Dprefix=/home/sand/src/perl/repoperls/installed-perls/host/k93buster/v5.31.7/215c -Dmyhostname=k93buster -Dinstallusrbinperl=n -Uversiononly -Dusedevel -des -Ui_db -Dlibswanted=cl pthread socket inet nsl gdbm dbm malloc dl ld sun m crypt sec util c cposix posix ucb BSD gdbm_compat -Uuseithreads -Uuselongdouble -DEBUGGING=-g'
    hint=recommended
    useposix=true
    d_sigaction=define
    useithreads=undef
    usemultiplicity=undef
    use64bitint=define
    use64bitall=define
    uselongdouble=undef
    usemymalloc=n
    default_inc_excludes_dot=define
    bincompat5005=undef
  Compiler:
    cc='cc'
    ccflags ='-fwrapv -fno-strict-aliasing -pipe -fstack-protector-strong -I/usr/local/include -D_LARGEFILE_SOURCE -D_FILE_OFFSET_BITS=64 -D_FORTIFY_SOURCE=2'
    optimize='-O2 -g'
    cppflags='-fwrapv -fno-strict-aliasing -pipe -fstack-protector-strong -I/usr/local/include'
    ccversion=''
    gccversion='8.3.0'
    gccosandvers=''
    intsize=4
    longsize=8
    ptrsize=8
    doublesize=8
    byteorder=12345678
    doublekind=3
    d_longlong=define
    longlongsize=8
    d_longdbl=define
    longdblsize=16
    longdblkind=3
    ivtype='long'
    ivsize=8
    nvtype='double'
    nvsize=8
    Off_t='off_t'
    lseeksize=8
    alignbytes=8
    prototype=define
  Linker and Libraries:
    ld='cc'
    ldflags =' -fstack-protector-strong -L/usr/local/lib'
    libpth=/usr/local/lib /usr/lib/gcc/x86_64-linux-gnu/8/include-fixed /usr/include/x86_64-linux-gnu /usr/lib /lib/x86_64-linux-gnu /lib/../lib /usr/lib/x86_64-linux-gnu /usr/lib/../lib /lib
    libs=-lpthread -lnsl -ldl -lm -lcrypt -lutil -lc
    perllibs=-lpthread -lnsl -ldl -lm -lcrypt -lutil -lc
    libc=libc-2.28.so
    so=so
    useshrplib=false
    libperl=libperl.a
    gnulibc_version='2.28'
  Dynamic Linking:
    dlsrc=dl_dlopen.xs
    dlext=so
    d_dlsymun=undef
    ccdlflags='-Wl,-E'
    cccdlflags='-fPIC'
    lddlflags='-shared -O2 -g -L/usr/local/lib -fstack-protector-strong'


Characteristics of this binary (from libperl): 
  Compile-time options:
    HAS_TIMES
    PERLIO_LAYERS
    PERL_COPY_ON_WRITE
    PERL_DONT_CREATE_GVSV
    PERL_MALLOC_WRAP
    PERL_OP_PARENT
    PERL_PRESERVE_IVUV
    PERL_USE_DEVEL
    USE_64_BIT_ALL
    USE_64_BIT_INT
    USE_LARGE_FILES
    USE_LOCALE
    USE_LOCALE_COLLATE
    USE_LOCALE_CTYPE
    USE_LOCALE_NUMERIC
    USE_LOCALE_TIME
    USE_PERLIO
    USE_PERL_ATOF
  Built under linux
  Compiled at Dec 21 2019 06:45:30
  %ENV:
    PERL5LIB="/tmp/loop_over_bdir-29197-JHn0Zv/YAML-PP-0.018-0/blib/arch:/tmp/loop_over_bdir-29197-JHn0Zv/YAML-PP-0.018-0/blib/lib:/tmp/loop_over_bdir-29197-JHn0Zv/Test-Warn-0.36-0/blib/arch:/tmp/loop_over_bdir-29197-JHn0Zv/Test-Warn-0.36-0/blib/lib:/tmp/loop_over_bdir-29197-JHn0Zv/Sub-Uplevel-0.2800-0/blib/arch:/tmp/loop_over_bdir-29197-JHn0Zv/Sub-Uplevel-0.2800-0/blib/lib:/tmp/loop_over_bdir-29197-JHn0Zv/Test-Deep-1.128-0/blib/arch:/tmp/loop_over_bdir-29197-JHn0Zv/Test-Deep-1.128-0/blib/lib:/tmp/loop_over_bdir-29197-JHn0Zv/Devel-CheckBin-0.04-0/blib/arch:/tmp/loop_over_bdir-29197-JHn0Zv/Devel-CheckBin-0.04-0/blib/lib"
    PERL5OPT=""
    PERL5_CPANPLUS_IS_RUNNING="12256"
    PERL5_CPAN_IS_RUNNING="12256"
    PERL_CANARY_STABILITY_NOPROMPT="1"
    PERL_MM_USE_DEFAULT="1"
    PERL_USE_UNSAFE_INC="1"
  @INC:
    /tmp/loop_over_bdir-29197-JHn0Zv/YAML-PP-0.018-0/blib/arch
    /tmp/loop_over_bdir-29197-JHn0Zv/YAML-PP-0.018-0/blib/lib
    /tmp/loop_over_bdir-29197-JHn0Zv/Test-Warn-0.36-0/blib/arch
    /tmp/loop_over_bdir-29197-JHn0Zv/Test-Warn-0.36-0/blib/lib
    /tmp/loop_over_bdir-29197-JHn0Zv/Sub-Uplevel-0.2800-0/blib/arch
    /tmp/loop_over_bdir-29197-JHn0Zv/Sub-Uplevel-0.2800-0/blib/lib
    /tmp/loop_over_bdir-29197-JHn0Zv/Test-Deep-1.128-0/blib/arch
    /tmp/loop_over_bdir-29197-JHn0Zv/Test-Deep-1.128-0/blib/lib
    /tmp/loop_over_bdir-29197-JHn0Zv/Devel-CheckBin-0.04-0/blib/arch
    /tmp/loop_over_bdir-29197-JHn0Zv/Devel-CheckBin-0.04-0/blib/lib
    /home/sand/src/perl/repoperls/installed-perls/host/k93buster/v5.31.7/215c/lib/site_perl/5.31.7/x86_64-linux
    /home/sand/src/perl/repoperls/installed-perls/host/k93buster/v5.31.7/215c/lib/site_perl/5.31.7
    /home/sand/src/perl/repoperls/installed-perls/host/k93buster/v5.31.7/215c/lib/5.31.7/x86_64-linux
    /home/sand/src/perl/repoperls/installed-perls/host/k93buster/v5.31.7/215c/lib/5.31.7
    .