Report for ExtUtils-CChecker-0.07

Back
From: metabase:user:a7913ca2-be66-11df-8972-c4a8702c8abc
Subject: PASS ExtUtils-CChecker-0.07 v5.14.1 GNU/Linux
Date: 2011-12-04T07:50:51Z

This distribution has been tested as part of the CPAN Testers
project, supporting the Perl programming language.  See
http://wiki.cpantesters.org/ for more information or email
questions to cpan-testers-discuss@perl.org


--
Dear Paul Evans,

This is a computer-generated report for ExtUtils-CChecker-0.07
on perl 5.14.1, created by CPAN-Reporter-1.2002.

Thank you for uploading your work to CPAN.  Congratulations!
All tests were successful.

Sections of this report:

    * Tester comments
    * Program output
    * Prerequisites
    * Environment and other context

------------------------------
TESTER COMMENTS
------------------------------

Additional comments from tester:

none provided

------------------------------
PROGRAM OUTPUT
------------------------------

Output from './Build test':

t/00use.t ........... ok
test-1.c:1: error: expected ‘=’, ‘,’, ‘;’, ‘asm’ or ‘__attribute__’ before ‘bar’
t/01run.t ........... ok
test-1.c:1: error: expected ‘=’, ‘,’, ‘;’, ‘asm’ or ‘__attribute__’ before ‘bar’
t/02assert.t ........ ok
t/03accessors.t ..... ok
t/04module_build.t .. ok
t/05defines_to.t .... ok
t/99pod.t ........... ok
All tests successful.
Files=7, Tests=25,  3 wallclock secs ( 0.05 usr  0.03 sys +  1.62 cusr  0.40 csys =  2.10 CPU)
Result: PASS

------------------------------
PREREQUISITES
------------------------------

Prerequisite modules loaded:

requires:

    Module             Need Have    
    ------------------ ---- --------
    ExtUtils::CBuilder 0    0.280203

build_requires:

    Module             Need Have    
    ------------------ ---- --------
    Module::Build      0    0.3800  
    Test::Fatal        0    0.008   
    Test::More         0    0.98    

configure_requires:

    Module             Need Have    
    ------------------ ---- --------
    Module::Build      0.36 0.3800  


------------------------------
ENVIRONMENT AND OTHER CONTEXT
------------------------------

Environment variables:

    LANG = zh_TW.utf8
    LANGUAGE = zh_TW.utf8
    LC_ALL = zh_TW.utf8
    LC_COLLATE = zh_TW.utf8
    LC_CTYPE = zh_TW.utf8
    LC_MESSAGES = zh_TW.utf8
    LC_MONETARY = zh_TW.utf8
    LC_NUMERIC = zh_TW.utf8
    LC_TIME = zh_TW.utf8
    PATH = /home/imacat/bin:/bin:/usr/bin:/usr/local/bin
    PERL5LIB = /home/imacat/.cpan/build/Test-Fatal-0.008-n2OItM/blib/arch:/home/imacat/.cpan/build/Test-Fatal-0.008-n2OItM/blib/lib:/home/imacat/.cpan/build/Try-Tiny-0.11-QJbn25/blib/arch:/home/imacat/.cpan/build/Try-Tiny-0.11-QJbn25/blib/lib:/home/imacat/lib/perl5
    PERL5OPT = 
    PERL5_CPANPLUS_IS_RUNNING = 28977
    PERL5_CPAN_IS_RUNNING = 28977
    SHELL = /bin/zsh
    TERM = xterm

Perl special variables (and OS-specific diagnostics, for MSWin32):

    $^X = /usr/bin/perl
    $UID/$EUID = 1000 / 1000
    $GID = 100 0 4 20 24 25 27 29 34 38 40 44 46 50 100 106 1000
    $EGID = 100 0 4 20 24 25 27 29 34 38 40 44 46 50 100 106 1000

Perl module toolchain versions installed:

    Module              Have    
    ------------------- --------
    CPAN                1.9800  
    CPAN::Meta          2.112621
    Cwd                 3.36    
    ExtUtils::CBuilder  0.280203
    ExtUtils::Command   1.17    
    ExtUtils::Install   1.56    
    ExtUtils::MakeMaker 6.62    
    ExtUtils::Manifest  1.60    
    ExtUtils::ParseXS   3.05    
    File::Spec          3.33    
    JSON                2.53    
    JSON::PP            2.27200 
    Module::Build       0.3800  
    Module::Signature   0.68    
    Parse::CPAN::Meta   1.4401  
    Test::Harness       3.23    
    Test::More          0.98    
    YAML                0.77    
    YAML::Syck          n/a     
    version             0.95    


--

Summary of my perl5 (revision 5 version 14 subversion 1) configuration:
   
  Platform:
    osname=linux, osvers=2.6.32-5-amd64, archname=x86_64-linux-thread-multi-ld
    uname='linux rinse 2.6.32-5-amd64 #1 smp wed may 18 23:13:22 utc 2011 x86_64 gnulinux '
    config_args='-s -d -Dprefix=/usr -Dusethreads -Duselongdouble -Doptimize=-O3 -DDEBUGGING=-g -Dotherlibdirs=/usr/lib/perl5:/usr/share/perl5 -Dinc_version_list=none -Duseshrplib=true -Dcf_email=imacat@mail.imacat.idv.tw -Dpager=/usr/bin/sensible-pager'
    hint=recommended, useposix=true, d_sigaction=define
    useithreads=define, usemultiplicity=define
    useperlio=define, d_sfio=undef, uselargefiles=define, usesocks=undef
    use64bitint=define, use64bitall=define, uselongdouble=define
    usemymalloc=n, bincompat5005=undef
  Compiler:
    cc='cc', ccflags ='-D_REENTRANT -D_GNU_SOURCE -fno-strict-aliasing -pipe -fstack-protector -I/usr/local/include -D_LARGEFILE_SOURCE -D_FILE_OFFSET_BITS=64',
    optimize='-O3 -g',
    cppflags='-D_REENTRANT -D_GNU_SOURCE -fno-strict-aliasing -pipe -fstack-protector -I/usr/local/include'
    ccversion='', gccversion='4.4.5', gccosandvers=''
    intsize=4, longsize=8, ptrsize=8, doublesize=8, byteorder=12345678
    d_longlong=define, longlongsize=8, d_longdbl=define, longdblsize=16
    ivtype='long', ivsize=8, nvtype='long double', nvsize=16, Off_t='off_t', lseeksize=8
    alignbytes=16, prototype=define
  Linker and Libraries:
    ld='cc', ldflags =' -fstack-protector -L/usr/local/lib'
    libpth=/usr/local/lib /lib/../lib /usr/lib/../lib /lib /usr/lib /lib64 /usr/lib64
    libs=-lnsl -lgdbm -ldb -ldl -lm -lcrypt -lutil -lpthread -lc -lgdbm_compat
    perllibs=-lnsl -ldl -lm -lcrypt -lutil -lpthread -lc
    libc=/lib/libc-2.11.2.so, so=so, useshrplib=true, libperl=libperl.so
    gnulibc_version='2.11.2'
  Dynamic Linking:
    dlsrc=dl_dlopen.xs, dlext=so, d_dlsymun=undef, ccdlflags='-Wl,-E -Wl,-rpath,/usr/lib/perl5/5.14.1/x86_64-linux-thread-multi-ld/CORE'
    cccdlflags='-fPIC', lddlflags='-shared -O3 -g -L/usr/local/lib -fstack-protector'


Characteristics of this binary (from libperl): 
  Compile-time options: MULTIPLICITY PERL_DONT_CREATE_GVSV
                        PERL_IMPLICIT_CONTEXT PERL_MALLOC_WRAP
                        PERL_PRESERVE_IVUV USE_64_BIT_ALL USE_64_BIT_INT
                        USE_ITHREADS USE_LARGE_FILES USE_LONG_DOUBLE
                        USE_PERLIO USE_PERL_ATOF USE_REENTRANT_API
  Built under linux
  Compiled at Jun 23 2011 11:16:42
  %ENV:
    PERL5LIB="/home/imacat/.cpan/build/Test-Fatal-0.008-n2OItM/blib/arch:/home/imacat/.cpan/build/Test-Fatal-0.008-n2OItM/blib/lib:/home/imacat/.cpan/build/Try-Tiny-0.11-QJbn25/blib/arch:/home/imacat/.cpan/build/Try-Tiny-0.11-QJbn25/blib/lib:/home/imacat/lib/perl5"
    PERL5OPT=""
    PERL5_CPANPLUS_IS_RUNNING="28977"
    PERL5_CPAN_IS_RUNNING="28977"
  @INC:
    /home/imacat/.cpan/build/Test-Fatal-0.008-n2OItM/blib/arch
    /home/imacat/.cpan/build/Test-Fatal-0.008-n2OItM/blib/lib
    /home/imacat/.cpan/build/Try-Tiny-0.11-QJbn25/blib/arch
    /home/imacat/.cpan/build/Try-Tiny-0.11-QJbn25/blib/lib
    /home/imacat/lib/perl5
    /usr/lib/perl5/site_perl/5.14.1/x86_64-linux-thread-multi-ld
    /usr/lib/perl5/site_perl/5.14.1
    /usr/lib/perl5/5.14.1/x86_64-linux-thread-multi-ld
    /usr/lib/perl5/5.14.1
    /usr/lib/perl5/5.14.1/x86_64-linux-thread-multi-ld
    /usr/lib/perl5/5.14.1
    /usr/lib/perl5
    /usr/share/perl5
    .