Back
From: metabase:user:30f4dfbe-2aae-11df-837a-5e0a49663a4f
Subject: PASS DBIx-Connector-0.52 v5.10.0 NetBSD
Date: 2012-09-06T19:18:49Z
This distribution has been tested as part of the CPAN Testers
project, supporting the Perl programming language. See
http://wiki.cpantesters.org/ for more information or email
questions to cpan-testers-discuss@perl.org
--
Dear David E. Wheeler,
This is a computer-generated report for DBIx-Connector-0.52
on perl 5.10.0, created by CPAN-Reporter-1.2006.
Thank you for uploading your work to CPAN. Congratulations!
All tests were successful.
Sections of this report:
* Tester comments
* Program output
* Prerequisites
* Environment and other context
------------------------------
TESTER COMMENTS
------------------------------
Additional comments from tester:
this report is from an automated smoke testing program
and was not reviewed by a human for accuracy
------------------------------
PROGRAM OUTPUT
------------------------------
Output from './Build test':
Use of uninitialized value $Test::Harness::Switches in length at /home/njh/perl5/perlbrew/perls/perl-5.10.0/lib/5.10.0/Module/Build/Base.pm line 2767.
t/base.t .......... ok
t/driver.t ........ ok
t/load.t .......... ok
t/pod-coverage.t .. ok
t/pod.t ........... ok
t/run.t ........... ok
t/run_fixup.t ..... ok
t/run_ping.t ...... ok
t/svp.t ........... ok
t/svp_fixup.t ..... ok
t/svp_live.t ...... skipped: Set DBICTEST_DSN _USER and _PASS to run savepoint tests
t/svp_ping.t ...... ok
t/txn.t ........... ok
t/txn_fixup.t ..... ok
t/txn_ping.t ...... ok
All tests successful.
Files=15, Tests=770, 2 wallclock secs ( 0.18 usr 0.04 sys + 1.45 cusr 0.29 csys = 1.96 CPU)
Result: PASS
------------------------------
PREREQUISITES
------------------------------
Prerequisite modules loaded:
requires:
Module Need Have
---------------- -------- --------
DBI 1.605 1.622
perl 5.006002 5.010000
build_requires:
Module Need Have
---------------- -------- --------
Module::Build 0.30 0.4002
Test::MockModule 0.05 0.05
Test::More 0.88 0.98
configure_requires:
Module Need Have
---------------- -------- --------
Module::Build 0.30 0.4002
------------------------------
ENVIRONMENT AND OTHER CONTEXT
------------------------------
Environment variables:
AUTOMATED_TESTING = 1
LD_LIBRARY_PATH = :/usr/local/lib:/usr/lib/qt-3.3/lib:/usr/X11R6/lib
MANPATH_WITHOUT_PERLBREW =
PATH = /home/njh/perl5/perlbrew/bin:/home/njh/perl5/perlbrew/perls/perl-5.10.0/bin:/home/njh/perl5/perlbrew/bin:/usr/bin:/bin:/usr/pkg/bin:/usr/local/bin:/home/njh/bin:/home/njh/linux/bin:/usr/pkg/lib/perl5/site_perl/bin
PATH_WITHOUT_PERLBREW = /usr/bin:/bin:/usr/pkg/bin:/usr/local/bin:/home/njh/bin:/home/njh/linux/bin:/usr/pkg/lib/perl5/site_perl/bin
PERL5LIB = /home/njh/.cpan/build/Test-MockModule-0.05-frXuFm/blib/arch:/home/njh/.cpan/build/Test-MockModule-0.05-frXuFm/blib/lib
PERL5OPT =
PERL5_CPANPLUS_IS_RUNNING = 2518
PERL5_CPAN_IS_RUNNING = 2518
PERL5_MINISMOKEBOX = 0.54
PERLBREW_BASHRC_VERSION = 0.49
PERLBREW_HOME = /home/njh/.perlbrew
PERLBREW_LIB =
PERLBREW_MANPATH = /home/njh/perl5/perlbrew/perls/perl-5.10.0/man
PERLBREW_PATH = /home/njh/perl5/perlbrew/bin:/home/njh/perl5/perlbrew/perls/perl-5.10.0/bin
PERLBREW_PERL = perl-5.10.0
PERLBREW_ROOT = /home/njh/perl5/perlbrew
PERLBREW_VERSION = 0.49
PERL_EXTUTILS_AUTOINSTALL = --defaultdeps
PERL_LOCAL_LIB_ROOT =
PERL_MB_OPT =
PERL_MM_OPT =
PERL_MM_USE_DEFAULT = 1
SHELL = /usr/pkg/bin/bash
TERM = vt100
Perl special variables (and OS-specific diagnostics, for MSWin32):
$^X = /home/njh/perl5/perlbrew/perls/perl-5.10.0/bin/perl
$UID/$EUID = 500 / 500
$GID = 100 0 100
$EGID = 100 0 100
Perl module toolchain versions installed:
Module Have
------------------- --------
CPAN 1.9800
CPAN::Meta 2.120921
Cwd 3.33
ExtUtils::CBuilder 0.280205
ExtUtils::Command 1.17
ExtUtils::Install 1.54
ExtUtils::MakeMaker 6.62
ExtUtils::Manifest 1.60
ExtUtils::ParseXS 3.15
File::Spec 3.33
JSON 2.53
JSON::PP 2.27200
Module::Build 0.4002
Module::Signature 0.68
Parse::CPAN::Meta 1.4404
Test::Harness 3.25
Test::More 0.98
YAML 0.84
YAML::Syck 1.20
version 0.99
--
Summary of my perl5 (revision 5 version 10 subversion 0) configuration:
Platform:
osname=netbsd, osvers=4.0, archname=i386-netbsd
uname='netbsd philips.bandsman.co.uk 4.0 netbsd 4.0 (generic) #0: sun dec 16 00:20:10 pst 2007 builds@wb34:homebuildsabnetbsd-4-0-releasei386200712160005z-objhomebuildsabnetbsd-4-0-releasesrcsysarchi386compilegeneric i386 '
config_args='-de -Dprefix=/home/njh/perl5/perlbrew/perls/perl-5.10.0'
hint=recommended, useposix=true, d_sigaction=define
useithreads=undef, usemultiplicity=undef
useperlio=define, d_sfio=undef, uselargefiles=define, usesocks=undef
use64bitint=undef, use64bitall=undef, uselongdouble=undef
usemymalloc=n, bincompat5005=undef
Compiler:
cc='cc', ccflags ='-fno-strict-aliasing -pipe -I/usr/pkg/include -I/usr/local/include',
optimize='-O',
cppflags='-fno-strict-aliasing -pipe -I/usr/pkg/include -I/usr/local/include'
ccversion='', gccversion='4.1.2 20061021 prerelease (NetBSD nb3 20061125)', gccosandvers=''
intsize=4, longsize=4, ptrsize=4, doublesize=8, byteorder=1234
d_longlong=define, longlongsize=8, d_longdbl=define, longdblsize=12
ivtype='long', ivsize=4, nvtype='double', nvsize=8, Off_t='off_t', lseeksize=8
alignbytes=4, prototype=define
Linker and Libraries:
ld='cc', ldflags =' -Wl,-rpath,/usr/pkg/lib -Wl,-rpath,/usr/local/lib -L/usr/pkg/lib -L/usr/local/lib'
libpth=/usr/pkg/lib /usr/local/lib /lib /usr/lib
libs=-lgdbm -lm -lcrypt -lutil -lc -lposix
perllibs=-lm -lcrypt -lutil -lc -lposix
libc=/lib/libc.so, so=so, useshrplib=false, libperl=libperl.a
gnulibc_version=''
Dynamic Linking:
dlsrc=dl_dlopen.xs, dlext=so, d_dlsymun=undef, ccdlflags='-Wl,-E '
cccdlflags='-DPIC -fPIC ', lddlflags='--whole-archive -shared -L/usr/pkg/lib -L/usr/local/lib'
Characteristics of this binary (from libperl):
Compile-time options: PERL_DONT_CREATE_GVSV PERL_MALLOC_WRAP
USE_LARGE_FILES USE_PERLIO
Built under netbsd
Compiled at Jul 15 2011 23:01:57
%ENV:
PERL5LIB="/home/njh/.cpan/build/Test-MockModule-0.05-frXuFm/blib/arch:/home/njh/.cpan/build/Test-MockModule-0.05-frXuFm/blib/lib"
PERL5OPT=""
PERL5_CPANPLUS_IS_RUNNING="2518"
PERL5_CPAN_IS_RUNNING="2518"
PERL5_MINISMOKEBOX="0.54"
PERLBREW_BASHRC_VERSION="0.49"
PERLBREW_HOME="/home/njh/.perlbrew"
PERLBREW_LIB=""
PERLBREW_MANPATH="/home/njh/perl5/perlbrew/perls/perl-5.10.0/man"
PERLBREW_PATH="/home/njh/perl5/perlbrew/bin:/home/njh/perl5/perlbrew/perls/perl-5.10.0/bin"
PERLBREW_PERL="perl-5.10.0"
PERLBREW_ROOT="/home/njh/perl5/perlbrew"
PERLBREW_VERSION="0.49"
PERL_EXTUTILS_AUTOINSTALL="--defaultdeps"
PERL_LOCAL_LIB_ROOT=""
PERL_MB_OPT=""
PERL_MM_OPT=""
PERL_MM_USE_DEFAULT="1"
@INC:
/home/njh/.cpan/build/Test-MockModule-0.05-frXuFm/blib/arch
/home/njh/.cpan/build/Test-MockModule-0.05-frXuFm/blib/lib
/home/njh/perl5/perlbrew/perls/perl-5.10.0/lib/5.10.0/i386-netbsd
/home/njh/perl5/perlbrew/perls/perl-5.10.0/lib/5.10.0
/home/njh/perl5/perlbrew/perls/perl-5.10.0/lib/site_perl/5.10.0/i386-netbsd
/home/njh/perl5/perlbrew/perls/perl-5.10.0/lib/site_perl/5.10.0
.