Report for Test-Pod-LinkCheck-0.008

Back
From: metabase:user:553c21ce-8d47-11df-9de5-e28c4c42590d
Subject: PASS Test-Pod-LinkCheck-0.008 v5.24.0 GNU/Linux
Date: 2016-08-17T17:40:28Z

This distribution has been tested as part of the CPAN Testers
project, supporting the Perl programming language.  See
http://wiki.cpantesters.org/ for more information or email
questions to cpan-testers-discuss@perl.org


--
Dear APOCAL,

This is a computer-generated report for Test-Pod-LinkCheck-0.008
on perl 5.24.0, created by App::cpanminus::reporter 0.17 (1.7042).

Thank you for uploading your work to CPAN.  Congratulations!
All tests were successful.

Sections of this report:

    * Tester comments
    * Program output
    * Prerequisites
    * Environment and other context

------------------------------
TESTER COMMENTS
------------------------------

Additional comments from tester:

none provided

------------------------------
PROGRAM OUTPUT
------------------------------

Output from '':

Building and testing Test-Pod-LinkCheck-0.008
cp lib/Test/Pod/LinkCheck.pm blib/lib/Test/Pod/LinkCheck.pm
t/apocalypse.t ................ skipped: Test::Apocalypse required for validating the distribution
# 
You should load Test::Tester before Test::Builder (or anything that loads Test::Builder) at /home/ioanrogers/.plenv/versions/5.24.0-clang/lib/perl5/site_perl/5.24.0/Test/Tester.pm line 9.
# 
# Generated by Dist::Zilla::Plugin::ReportVersions::Tiny v1.10
# perl: 5.024000 (wanted 5.006) on linux from /home/ioanrogers/.plenv/versions/5.24.0-clang/bin/perl5.24.0
# 
# App::PodLinkCheck::ParseLinks                 => 14         (want 4)      
# App::PodLinkCheck::ParseSections              => 14         (want any version)
# Capture::Tiny                                 => 0.44       (want any version)
# Exporter                                      => 5.72       (want any version)
# ExtUtils::MakeMaker                           => 7.1001     (want any version)
# File::Spec                                    => 3.63       (want any version)
# File::Temp                                    => 0.2304     (want any version)
# IO::Handle                                    => 1.36       (want any version)
# IPC::Open3                                    => 1.20       (want any version)
# Module::Build::Tiny                           => 0.039      (want 0.039)  
# Moose                                         => 2.1804     (want 1.01)   
# Moose::Util::TypeConstraints                  => 2.1804     (want 1.01)   
# Pod::Find                                     => 1.63       (want any version)
# Test::Builder                                 => 1.302052   (want 0.94)   
# Test::More                                    => 1.302052   (want 0.88)   
# Test::Pod                                     => 1.51       (want 1.44)   
# Test::Tester                                  => 1.302052   (want any version)
# parent                                        => 0.234      (want any version)
# strict                                        => 1.11       (want any version)
# warnings                                      => 1.36       (want any version)
# 
# Thanks for using my code.  I hope it works for you.
# If not, please try and include this output in the bug report.
# That will help me reproduce the issue and solve your problem.
# 
t/00-compile.t ................ ok
t/functions.t ................. ok
t/000-report-versions-tiny.t .. ok
t/cpan_backend.t .............. ok
t/simple.t .................... ok
All tests successful.

Test Summary Report
-------------------
t/cpan_backend.t            (Wstat: 0 Tests: 24 Failed: 0)
  TODO passed:   21-24
Files=6, Tests=130,  2 wallclock secs ( 0.05 usr  0.01 sys +  2.52 cusr  0.24 csys =  2.82 CPU)
Result: PASS

------------------------------
PREREQUISITES
------------------------------

Prerequisite modules loaded:

    No requirements found

------------------------------
ENVIRONMENT AND OTHER CONTEXT
------------------------------

Environment variables:

    HARNESS_OPTIONS = j8
    LANG = en_GB.UTF-8
    PATH = /home/ioanrogers/.plenv/versions/5.24.0-clang/bin:/home/ioanrogers/.plenv/libexec:/home/ioanrogers/.plenv/plugins/perl-build/bin:/home/ioanrogers/.plenv/shims:~/.plenv/bin::/home/ioanrogers/bin:/usr/local/bin:/usr/bin:/bin:/usr/local/sbin:/sbin:/usr/sbin:/usr/games
    PERL_CPANM_OPT = --prompt --no-man-pages --verify --metacpan --mirror https://cpan.metacpan.org
    SHELL = /bin/bash
    TERM = xterm-256color

Perl special variables (and OS-specific diagnostics, for MSWin32):

    EGID = 1060000001 1060000000 1060000001
    EUID = 1060000001
    EXECUTABLE_NAME = /home/ioanrogers/.plenv/versions/5.24.0-clang/bin/perl5.24.0
    GID = 1060000001 1060000000 1060000001
    UID = 1060000001

Perl module toolchain versions installed:

    Module              Have    
    ------------------- --------
    CPAN                2.11    
    CPAN::Meta          2.150005
    Cwd                 3.63    
    ExtUtils::CBuilder  0.280225
    ExtUtils::Command   7.10    
    ExtUtils::Install   2.04    
    ExtUtils::MakeMaker 7.10_01 
    ExtUtils::Manifest  1.70    
    ExtUtils::ParseXS   3.31    
    File::Spec          3.63    
    JSON                2.90    
    JSON::PP            2.27300 
    Module::Build       0.4220  
    Module::Signature   0.80    
    Parse::CPAN::Meta   1.4417  
    Test::Harness       3.36    
    Test::More          1.302052
    YAML                1.18    
    YAML::Syck          n/a     
    version             0.9916  


--

Summary of my perl5 (revision 5 version 24 subversion 0) configuration:
   
  Platform:
    osname=linux, osvers=4.5.5-300.fc24.x86_64, archname=x86_64-linux
    uname='linux ioan-desktop.test.ca2.dco.sophos 4.5.5-300.fc24.x86_64 #1 smp thu may 19 13:05:32 utc 2016 x86_64 x86_64 x86_64 gnulinux '
    config_args='-Dprefix=/home/ioanrogers/.plenv/versions/5.24.0-clang -de -Dusedevel -Dcc=clang -Doptimize=-O3 -Dccflags-march=native -flto -Dman1dir=none -Dman3dir=none -A'eval:scriptdir=/home/ioanrogers/.plenv/versions/5.24.0-clang/bin''
    hint=recommended, useposix=true, d_sigaction=define
    useithreads=undef, usemultiplicity=undef
    use64bitint=define, use64bitall=define, uselongdouble=undef
    usemymalloc=n, bincompat5005=undef
  Compiler:
    cc='clang', ccflags ='-fno-strict-aliasing -pipe -fstack-protector-strong -I/usr/local/include -D_LARGEFILE_SOURCE -D_FILE_OFFSET_BITS=64 -D_FORTIFY_SOURCE=2',
    optimize='-O3',
    cppflags='-fno-strict-aliasing -pipe -fstack-protector-strong -I/usr/local/include'
    ccversion='', gccversion='4.2.1 Compatible Clang 3.8.0 (tags/RELEASE_380/final)', gccosandvers=''
    intsize=4, longsize=8, ptrsize=8, doublesize=8, byteorder=12345678, doublekind=3
    d_longlong=define, longlongsize=8, d_longdbl=define, longdblsize=16, longdblkind=3
    ivtype='long', ivsize=8, nvtype='double', nvsize=8, Off_t='off_t', lseeksize=8
    alignbytes=8, prototype=define
  Linker and Libraries:
    ld='clang', ldflags =' -fstack-protector-strong -L/usr/local/lib'
    libpth=/usr/local/lib /usr/lib /lib/../lib64 /usr/lib/../lib64 /lib /lib64 /usr/lib64 /usr/local/lib64
    libs=-lpthread -lnsl -lgdbm -ldb -ldl -lm -lcrypt -lutil -lc -lgdbm_compat
    perllibs=-lpthread -lnsl -ldl -lm -lcrypt -lutil -lc
    libc=libc-2.23.so, so=so, useshrplib=false, libperl=libperl.a
    gnulibc_version='2.23'
  Dynamic Linking:
    dlsrc=dl_dlopen.xs, dlext=so, d_dlsymun=undef, ccdlflags='-Wl,-E'
    cccdlflags='-fPIC', lddlflags='-shared -O3 -L/usr/local/lib -fstack-protector-strong'


Characteristics of this binary (from libperl): 
  Compile-time options: HAS_TIMES PERLIO_LAYERS PERL_COPY_ON_WRITE
                        PERL_DONT_CREATE_GVSV
                        PERL_HASH_FUNC_ONE_AT_A_TIME_HARD PERL_MALLOC_WRAP
                        PERL_PRESERVE_IVUV PERL_USE_DEVEL USE_64_BIT_ALL
                        USE_64_BIT_INT USE_LARGE_FILES USE_LOCALE
                        USE_LOCALE_COLLATE USE_LOCALE_CTYPE
                        USE_LOCALE_NUMERIC USE_LOCALE_TIME USE_PERLIO
                        USE_PERL_ATOF
  Locally applied patches:
	Devel::PatchPerl 1.40
  Built under linux
  Compiled at Aug 17 2016 09:27:21
  %ENV:
    PERL_CPANM_OPT="--prompt --no-man-pages --verify --metacpan --mirror https://cpan.metacpan.org"
  @INC:
    /home/ioanrogers/.plenv/versions/5.24.0-clang/lib/perl5/site_perl/5.24.0/x86_64-linux
    /home/ioanrogers/.plenv/versions/5.24.0-clang/lib/perl5/site_perl/5.24.0
    /home/ioanrogers/.plenv/versions/5.24.0-clang/lib/perl5/5.24.0/x86_64-linux
    /home/ioanrogers/.plenv/versions/5.24.0-clang/lib/perl5/5.24.0
    .