SQL-Type-Guess v0.06 Perl 5 v5.40.2 x86_64-linux

Status
Pass
From
David Cantrell (DCANTRELL)
Dist
SQL-Type-Guess v0.06
Platform
Perl 5 v5.40.2 x86_64-linux
Date
2025-04-29 20:58:23
ID
b03d4ab0-253c-11f0-9b8d-89e76a23a98c
This distribution has been tested as part of the CPAN Testers
project, supporting the Perl programming language.  See
http://wiki.cpantesters.org/ for more information or email
questions to cpan-testers-discuss@perl.org


--
Dear Max Maischein,

This is a computer-generated report for SQL-Type-Guess-0.06
on perl 5.40.2, created by CPAN-Reporter-1.2020.

Thank you for uploading your work to CPAN.  Congratulations!
All tests were successful.

Sections of this report:

    * Tester comments
    * Program output
    * Prerequisites
    * Environment and other context

------------------------------
TESTER COMMENTS
------------------------------

Additional comments from tester:

this report is from an automated smoke testing program
and was not reviewed by a human for accuracy

------------------------------
PROGRAM OUTPUT
------------------------------

Output from '/usr/bin/make test':

PERL_DL_NONLAZY=1 "/home/david/cpantesting/perl-5.40.2/bin/perl" "-MExtUtils::Command::MM" "-MTest::Harness" "-e" "undef *Test::Harness::Switches; test_harness(0, 'blib/lib', 'blib/arch')" t/00-load.t t/01_synopsis.t t/02_data_types.t t/03_RT128024_warnings.t
# Testing SQL::Type::Guess 0.06, Perl 5.040002
# Carp 1.54
# Config 5.040002
# Cwd 3.91
# Encode 3.21
# Encode::Alias 2.25
# Encode::Config 2.05
# Encode::Encoding 2.08
# Encode::MIME::Name 1.03
# Exporter 5.78
# Exporter::Heavy 5.78
# ExtUtils::Liblist 7.70
# ExtUtils::Liblist::Kid 7.70
# ExtUtils::MM 7.70
# ExtUtils::MM_Any 7.70
# ExtUtils::MM_Unix 7.70
# ExtUtils::MY 7.70
# ExtUtils::MakeMaker 7.70
# ExtUtils::MakeMaker::Config 7.70
# ExtUtils::MakeMaker::Locale 7.70
# ExtUtils::MakeMaker::version 7.70
# Fcntl 1.18
# File::Basename 2.86
# File::Glob 1.42
# File::Path 2.18
# File::Spec 3.91
# File::Spec::Unix 3.91
# I18N::Langinfo 0.24
# List::Util 1.63
# SQL::Type::Guess 0.06
# Scalar::Util 1.63
# Storable 3.32
# Test::Builder 1.302210
# Test::Builder::Formatter 1.302210
# Test::Builder::Module 1.302210
# Test::Builder::TodoDiag 1.302210
# Test::More 1.302210
# Test2::API 1.302210
# Test2::API::Context 1.302210
# Test2::API::Instance 1.302210
# Test2::API::Stack 1.302210
# Test2::Event 1.302210
# Test2::Event::Bail 1.302210
# Test2::Event::Diag 1.302210
# Test2::Event::Exception 1.302210
# Test2::Event::Fail 1.302210
# Test2::Event::Note 1.302210
# Test2::Event::Ok 1.302210
# Test2::Event::Pass 1.302210
# Test2::Event::Plan 1.302210
# Test2::Event::Skip 1.302210
# Test2::Event::Subtest 1.302210
# Test2::Event::V2 1.302210
# Test2::Event::Waiting 1.302210
# Test2::EventFacet 1.302210
# Test2::EventFacet::About 1.302210
# Test2::EventFacet::Amnesty 1.302210
# Test2::EventFacet::Assert 1.302210
# Test2::EventFacet::Control 1.302210
# Test2::EventFacet::Error 1.302210
# Test2::EventFacet::Hub 1.302210
# Test2::EventFacet::Info 1.302210
# Test2::EventFacet::Meta 1.302210
# Test2::EventFacet::Parent 1.302210
# Test2::EventFacet::Plan 1.302210
# Test2::EventFacet::Trace 1.302210
# Test2::Formatter 1.302210
# Test2::Formatter::TAP 1.302210
# Test2::Hub 1.302210
# Test2::Hub::Interceptor 1.302210
# Test2::Hub::Interceptor::Terminator 1.302210
# Test2::Hub::Subtest 1.302210
# Test2::Util 1.302210
# Test2::Util::ExternalMeta 1.302210
# Test2::Util::Facets2Legacy 1.302210
# Test2::Util::HashBase 1.302210
# Test2::Util::Trace 1.302210
# Time::HiRes 1.9777
# XSLoader 0.32
# base 2.27
# bytes 1.09
# constant 1.33
# mro 1.29
# overloading 0.02
# parent 0.244
# strict 1.13
# vars 1.05
# version 0.9933
# version::regex 0.9933
# version::vxs 0.9933
# warnings 1.70
# warnings::register 1.06
t/00-load.t ............... ok
t/01_synopsis.t ........... ok
t/02_data_types.t ......... ok
t/03_RT128024_warnings.t .. ok
All tests successful.
Files=4, Tests=15,  1 wallclock secs ( 0.05 usr  0.01 sys +  0.46 cusr  0.05 csys =  0.57 CPU)
Result: PASS

------------------------------
PREREQUISITES
------------------------------

Prerequisite modules loaded:

requires:

    Module              Need  Have    
    ------------------- ----- --------
    File::Glob          0     1.42    
    perl                5.014 5.040002
    Pod::Usage          0     2.03    
    Spreadsheet::Read   0     0.93    
    strict              0     1.13    
    Text::CleanFragment 0     0.08    
    warnings            0     1.70    

build_requires:

    Module              Need  Have    
    ------------------- ----- --------
    Data::Dumper        0     2.189   
    ExtUtils::MakeMaker 0     7.70    
    Test::More          0     1.302210

configure_requires:

    Module              Need  Have    
    ------------------- ----- --------
    ExtUtils::MakeMaker 0     7.70    


------------------------------
ENVIRONMENT AND OTHER CONTEXT
------------------------------

Environment variables:

    AUTOMATED_TESTING = 1
    LANG = en_GB.UTF-8
    LANGUAGE = en_GB:en
    LC_TERMINAL = iTerm2
    LC_TERMINAL_VERSION = 3.5.13
    NONINTERACTIVE_TESTING = 1
    PATH = /home/david/.nvm/versions/node/v22.14.0/bin:/home/david/.cargo/bin:/home/david/perl5/perlbrew/bin:/home/david/perl5/perlbrew/perls/perl-5.30.2/bin:/home/david/bin:/usr/local/bin:/usr/bin:/bin:/usr/local/games:/usr/games
    PERL = 5.40.2
    PERL5LIB = 
    PERL5OPT = 
    PERL5_CPANPLUS_IS_RUNNING = 1822210
    PERL5_CPAN_IS_RUNNING = 1822210
    PERLBREW_HOME = /home/david/.perlbrew
    PERLBREW_MANPATH = /home/david/perl5/perlbrew/perls/perl-5.30.2/man
    PERLBREW_PATH = /home/david/perl5/perlbrew/bin:/home/david/perl5/perlbrew/perls/perl-5.30.2/bin
    PERLBREW_PERL = perl-5.30.2
    PERLBREW_ROOT = /home/david/perl5/perlbrew
    PERLBREW_SHELLRC_VERSION = 0.98
    PERLBREW_VERSION = 0.98
    PERLVER = 5.40.2
    PERL_INLINE_DIRECTORY = /home/david/.Inline-5.40.2
    PERL_MM_USE_DEFAULT = 1
    PERL_USE_UNSAFE_INC = 0
    SHELL = /bin/bash
    TERM = screen

Perl special variables (and OS-specific diagnostics, for MSWin32):

    $^X = /home/david/cpantesting/perl-5.40.2/bin/perl
    $UID/$EUID = 1000 / 1000
    $GID = 1000 24 25 27 29 30 44 46 109 1000
    $EGID = 1000 24 25 27 29 30 44 46 109 1000

Perl module toolchain versions installed:

    Module              Have    
    ------------------- --------
    CPAN                2.38    
    CPAN::Meta          2.150010
    Cwd                 3.91    
    ExtUtils::CBuilder  0.280240
    ExtUtils::Command   7.70    
    ExtUtils::Install   2.22    
    ExtUtils::MakeMaker 7.70    
    ExtUtils::Manifest  1.75    
    ExtUtils::ParseXS   3.51    
    File::Spec          3.91    
    JSON                4.10    
    JSON::PP            4.16    
    Module::Build       0.4234  
    Module::Signature   0.89    
    Parse::CPAN::Meta   2.150010
    Test2               1.302210
    Test::Harness       3.50    
    Test::More          1.302210
    YAML                1.31    
    YAML::Syck          n/a     
    version             0.9933  


--

Summary of my perl5 (revision 5 version 40 subversion 2) configuration:
   
  Platform:
    osname=linux
    osvers=6.1.0-11-amd64
    archname=x86_64-linux
    uname='linux cpantesting-linux 6.1.0-11-amd64 #1 smp preempt_dynamic debian 6.1.38-4 (2023-08-08) x86_64 gnulinux '
    config_args='-de -Dprefix=/home/david/cpantesting/perl-5.40.2'
    hint=recommended
    useposix=true
    d_sigaction=define
    useithreads=undef
    usemultiplicity=undef
    use64bitint=define
    use64bitall=define
    uselongdouble=undef
    usemymalloc=n
    default_inc_excludes_dot=define
  Compiler:
    cc='cc'
    ccflags ='-fwrapv -fno-strict-aliasing -pipe -fstack-protector-strong -I/usr/local/include -D_LARGEFILE_SOURCE -D_FILE_OFFSET_BITS=64 -D_FORTIFY_SOURCE=2'
    optimize='-O2'
    cppflags='-fwrapv -fno-strict-aliasing -pipe -fstack-protector-strong -I/usr/local/include'
    ccversion=''
    gccversion='12.2.0'
    gccosandvers=''
    intsize=4
    longsize=8
    ptrsize=8
    doublesize=8
    byteorder=12345678
    doublekind=3
    d_longlong=define
    longlongsize=8
    d_longdbl=define
    longdblsize=16
    longdblkind=3
    ivtype='long'
    ivsize=8
    nvtype='double'
    nvsize=8
    Off_t='off_t'
    lseeksize=8
    alignbytes=8
    prototype=define
  Linker and Libraries:
    ld='cc'
    ldflags =' -fstack-protector-strong -L/usr/local/lib'
    libpth=/usr/local/lib /usr/lib/x86_64-linux-gnu /usr/lib /usr/lib64
    libs=-lpthread -ldl -lm -lcrypt -lutil -lc
    perllibs=-lpthread -ldl -lm -lcrypt -lutil -lc
    libc=/lib/x86_64-linux-gnu/libc.so.6
    so=so
    useshrplib=false
    libperl=libperl.a
    gnulibc_version='2.36'
  Dynamic Linking:
    dlsrc=dl_dlopen.xs
    dlext=so
    d_dlsymun=undef
    ccdlflags='-Wl,-E'
    cccdlflags='-fPIC'
    lddlflags='-shared -O2 -L/usr/local/lib -fstack-protector-strong'


Characteristics of this binary (from libperl): 
  Compile-time options:
    HAS_LONG_DOUBLE
    HAS_STRTOLD
    HAS_TIMES
    PERLIO_LAYERS
    PERL_COPY_ON_WRITE
    PERL_DONT_CREATE_GVSV
    PERL_HASH_FUNC_SIPHASH13
    PERL_HASH_USE_SBOX32
    PERL_MALLOC_WRAP
    PERL_OP_PARENT
    PERL_PRESERVE_IVUV
    PERL_USE_SAFE_PUTENV
    USE_64_BIT_ALL
    USE_64_BIT_INT
    USE_LARGE_FILES
    USE_LOCALE
    USE_LOCALE_COLLATE
    USE_LOCALE_CTYPE
    USE_LOCALE_NUMERIC
    USE_LOCALE_TIME
    USE_PERLIO
    USE_PERL_ATOF
  Built under linux
  Compiled at Apr 13 2025 17:08:12
  %ENV:
    PERL="5.40.2"
    PERL5LIB=""
    PERL5OPT=""
    PERL5_CPANPLUS_IS_RUNNING="1822210"
    PERL5_CPAN_IS_RUNNING="1822210"
    PERLBREW_HOME="/home/david/.perlbrew"
    PERLBREW_MANPATH="/home/david/perl5/perlbrew/perls/perl-5.30.2/man"
    PERLBREW_PATH="/home/david/perl5/perlbrew/bin:/home/david/perl5/perlbrew/perls/perl-5.30.2/bin"
    PERLBREW_PERL="perl-5.30.2"
    PERLBREW_ROOT="/home/david/perl5/perlbrew"
    PERLBREW_SHELLRC_VERSION="0.98"
    PERLBREW_VERSION="0.98"
    PERLVER="5.40.2"
    PERL_INLINE_DIRECTORY="/home/david/.Inline-5.40.2"
    PERL_MM_USE_DEFAULT="1"
    PERL_USE_UNSAFE_INC="0"
  @INC:
    /home/david/cpantesting/perl-5.40.2/lib/site_perl/5.40.2/x86_64-linux
    /home/david/cpantesting/perl-5.40.2/lib/site_perl/5.40.2
    /home/david/cpantesting/perl-5.40.2/lib/5.40.2/x86_64-linux
    /home/david/cpantesting/perl-5.40.2/lib/5.40.2