Back
From: metabase:user:314402c4-2aae-11df-837a-5e0a49663a4f
Subject: PASS OpenGL-0.70 v5.24.0 GNU/Linux
Date: 2016-11-02T20:41:10Z
This distribution has been tested as part of the CPAN Testers
project, supporting the Perl programming language. See
http://wiki.cpantesters.org/ for more information or email
questions to cpan-testers-discuss@perl.org
--
Dear Chris Marshall,
This is a computer-generated report for OpenGL-0.70
on perl 5.24.0, created by CPAN-Reporter-1.2018.
Thank you for uploading your work to CPAN. Congratulations!
All tests were successful.
Sections of this report:
* Tester comments
* Program output
* Prerequisites
* Environment and other context
------------------------------
TESTER COMMENTS
------------------------------
Additional comments from tester:
none provided
------------------------------
PROGRAM OUTPUT
------------------------------
Output from '/usr/bin/make test':
Running Mkbootstrap for OpenGL ()
chmod 644 "OpenGL.bs"
PERL_DL_NONLAZY=1 "/bbbike/perl-5.24.0t/bin/perl" "-MExtUtils::Command::MM" "-MTest::Harness" "-e" "undef *Test::Harness::Switches; test_harness(0, 'blib/lib', 'blib/arch')" t/*.t
t/00_require.t ....... ok
t/01_use.t ........... ok
t/10_opengl_array.t .. ok
All tests successful.
Test Summary Report
-------------------
t/10_opengl_array.t (Wstat: 0 Tests: 141 Failed: 0)
TODO passed: 83-84, 103
Files=3, Tests=143, 0 wallclock secs ( 0.02 usr 0.02 sys + 0.08 cusr 0.01 csys = 0.13 CPU)
Result: PASS
PERL_DL_NONLAZY=1 "/bbbike/perl-5.24.0t/bin/perl" "-Iblib/lib" "-Iblib/arch" test.pl
OpenGL Test App (using hires timer)
Using POGL v0.70
OpenGL installation: 3.0 Mesa 10.3.2
VMware, Inc.
Gallium 0.4 on llvmpipe (LLVM 3.5, 256 bits)
Installed extensions (* implemented in the module):
GL_AMD_conservative_depth
GL_AMD_draw_buffers_blend
GL_AMD_seamless_cubemap_per_texture
GL_AMD_shader_trinary_minmax
GL_ANGLE_texture_compression_dxt3
GL_ANGLE_texture_compression_dxt5
GL_APPLE_packed_pixels
GL_APPLE_vertex_array_object
GL_ARB_ES2_compatibility
GL_ARB_ES3_compatibility
GL_ARB_blend_func_extended
GL_ARB_clear_buffer_object
* GL_ARB_color_buffer_float
GL_ARB_compressed_texture_pixel_storage
GL_ARB_conditional_render_inverted
GL_ARB_conservative_depth
GL_ARB_copy_buffer
GL_ARB_debug_output
GL_ARB_depth_buffer_float
GL_ARB_depth_clamp
* GL_ARB_depth_texture
* GL_ARB_draw_buffers
GL_ARB_draw_buffers_blend
GL_ARB_draw_elements_base_vertex
GL_ARB_draw_instanced
GL_ARB_explicit_attrib_location
GL_ARB_explicit_uniform_location
GL_ARB_fragment_coord_conventions
* GL_ARB_fragment_program
* GL_ARB_fragment_program_shadow
* GL_ARB_fragment_shader
GL_ARB_framebuffer_object
GL_ARB_framebuffer_sRGB
GL_ARB_get_program_binary
* GL_ARB_half_float_pixel
GL_ARB_half_float_vertex
GL_ARB_instanced_arrays
GL_ARB_internalformat_query
GL_ARB_invalidate_subdata
GL_ARB_map_buffer_alignment
GL_ARB_map_buffer_range
GL_ARB_multi_bind
* GL_ARB_multisample
* GL_ARB_multitexture
GL_ARB_occlusion_query
GL_ARB_occlusion_query2
* GL_ARB_pixel_buffer_object
* GL_ARB_point_parameters
* GL_ARB_point_sprite
GL_ARB_provoking_vertex
GL_ARB_robustness
GL_ARB_sampler_objects
GL_ARB_seamless_cube_map
GL_ARB_seamless_cubemap_per_texture
GL_ARB_separate_shader_objects
GL_ARB_shader_bit_encoding
* GL_ARB_shader_objects
GL_ARB_shader_texture_lod
* GL_ARB_shading_language_100
GL_ARB_shading_language_420pack
GL_ARB_shading_language_packing
* GL_ARB_shadow
GL_ARB_stencil_texturing
GL_ARB_sync
* GL_ARB_texture_border_clamp
GL_ARB_texture_compression
GL_ARB_texture_compression_rgtc
* GL_ARB_texture_cube_map
* GL_ARB_texture_env_add
* GL_ARB_texture_env_combine
GL_ARB_texture_env_crossbar
* GL_ARB_texture_env_dot3
* GL_ARB_texture_float
GL_ARB_texture_mirror_clamp_to_edge
* GL_ARB_texture_mirrored_repeat
GL_ARB_texture_multisample
* GL_ARB_texture_non_power_of_two
GL_ARB_texture_query_levels
* GL_ARB_texture_rectangle
GL_ARB_texture_rg
GL_ARB_texture_rgb10_a2ui
GL_ARB_texture_storage
GL_ARB_texture_storage_multisample
GL_ARB_texture_swizzle
GL_ARB_timer_query
GL_ARB_transform_feedback2
GL_ARB_transform_feedback3
GL_ARB_transform_feedback_instanced
GL_ARB_transpose_matrix
GL_ARB_uniform_buffer_object
GL_ARB_vertex_array_bgra
GL_ARB_vertex_array_object
GL_ARB_vertex_attrib_binding
* GL_ARB_vertex_buffer_object
* GL_ARB_vertex_program
* GL_ARB_vertex_shader
GL_ARB_vertex_type_10f_11f_11f_rev
GL_ARB_vertex_type_2_10_10_10_rev
GL_ARB_window_pos
GL_ATI_blend_equation_separate
GL_ATI_draw_buffers
GL_ATI_separate_stencil
GL_ATI_texture_compression_3dc
GL_ATI_texture_env_combine3
* GL_ATI_texture_float
* GL_ATI_texture_mirror_once
* GL_EXT_abgr
* GL_EXT_bgra
* GL_EXT_blend_color
GL_EXT_blend_equation_separate
GL_EXT_blend_func_separate
GL_EXT_blend_minmax
* GL_EXT_blend_subtract
GL_EXT_compiled_vertex_array
* GL_EXT_copy_texture
GL_EXT_draw_buffers2
GL_EXT_draw_instanced
GL_EXT_draw_range_elements
GL_EXT_fog_coord
GL_EXT_framebuffer_blit
GL_EXT_framebuffer_multisample
GL_EXT_framebuffer_multisample_blit_scaled
* GL_EXT_framebuffer_object
GL_EXT_framebuffer_sRGB
GL_EXT_gpu_program_parameters
GL_EXT_multi_draw_arrays
GL_EXT_packed_depth_stencil
GL_EXT_packed_float
* GL_EXT_packed_pixels
* GL_EXT_pixel_buffer_object
GL_EXT_point_parameters
GL_EXT_polygon_offset
GL_EXT_provoking_vertex
* GL_EXT_rescale_normal
GL_EXT_secondary_color
* GL_EXT_separate_specular_color
GL_EXT_shader_integer_mix
* GL_EXT_shadow_funcs
GL_EXT_stencil_two_side
* GL_EXT_stencil_wrap
* GL_EXT_subtexture
* GL_EXT_texture
* GL_EXT_texture3D
GL_EXT_texture_array
GL_EXT_texture_compression_dxt1
GL_EXT_texture_compression_latc
GL_EXT_texture_compression_rgtc
GL_EXT_texture_compression_s3tc
* GL_EXT_texture_cube_map
GL_EXT_texture_edge_clamp
GL_EXT_texture_env_add
* GL_EXT_texture_env_combine
* GL_EXT_texture_env_dot3
GL_EXT_texture_integer
* GL_EXT_texture_lod_bias
* GL_EXT_texture_mirror_clamp
GL_EXT_texture_object
GL_EXT_texture_rectangle
GL_EXT_texture_sRGB
GL_EXT_texture_sRGB_decode
GL_EXT_texture_shared_exponent
GL_EXT_texture_snorm
GL_EXT_texture_swizzle
GL_EXT_timer_query
GL_EXT_transform_feedback
* GL_EXT_vertex_array
GL_EXT_vertex_array_bgra
GL_IBM_multimode_draw_arrays
* GL_IBM_rasterpos_clip
GL_IBM_texture_mirrored_repeat
GL_INGR_blend_func_separate
GL_KHR_debug
GL_MESA_pack_invert
GL_MESA_texture_signed_rgba
GL_MESA_window_pos
GL_MESA_ycbcr_texture
* GL_NV_blend_square
GL_NV_conditional_render
* GL_NV_depth_clamp
* GL_NV_fog_distance
* GL_NV_light_max_exponent
* GL_NV_packed_depth_stencil
GL_NV_primitive_restart
* GL_NV_texgen_reflection
GL_NV_texture_env_combine4
* GL_NV_texture_rectangle
GL_OES_EGL_image
GL_OES_read_format
* GL_S3_s3tc
* GL_SGIS_generate_mipmap
GL_SGIS_texture_border_clamp
GL_SGIS_texture_edge_clamp
* GL_SGIS_texture_lod
GL_SUN_multi_draw_arrays
glutCloseFunc: not implemented
Using POGL v0.7
Using Mipmap
Using FBOs
Using native OpenGL ARB Shader functions
Using VBOs
-- done
Hold down arrow keys to rotate, 'r' to reverse, 's' to stop.
Page up/down will move cube away from/towards camera.
Use first letter of shown display mode settings to alter.
Press 'g' to toggle fullscreen mode (not supported on all platforms).
Press 'c' to capture/save a RGBA targa file.
'q' or [Esc] to quit; OpenGL window must have focus for input.
Setting window close to trigger return from mainloop (freeglut).
Entering glutMainLoop
Idle timeout; completing test
Starting cleanup ...
Destroying window.
Cleanup completed.
Exiting in render callback using glutLeaveMainLoop (freeglut)
Returned from glutMainLoop
Exiting in main thread
------------------------------
PREREQUISITES
------------------------------
Prerequisite modules loaded:
requires:
Module Need Have
------------------- ---- --------
Test::More 0 1.001014
build_requires:
Module Need Have
------------------- ---- --------
ExtUtils::MakeMaker 0 7.10_01
configure_requires:
Module Need Have
------------------- ---- --------
ExtUtils::MakeMaker 0 7.10_01
------------------------------
ENVIRONMENT AND OTHER CONTEXT
------------------------------
Environment variables:
LANG = C
PATH = /usr/local/bin:/usr/bin:/bin:/usr/local/sbin:/usr/sbin:/sbin:/home/cpansand/bin/linux-gnu:/home/cpansand/bin/sh:/home/cpansand/bin:/usr/games:/home/cpansand/devel:/home/eserte/src/srezic-misc/scripts
PERL5LIB = /home/cpansand/.cpan/build/2016110218/Prima-1.49-dlIjBH/blib/arch:/home/cpansand/.cpan/build/2016110218/Prima-1.49-dlIjBH/blib/lib
PERL5OPT =
PERL5_CPANPLUS_IS_RUNNING = 28311
PERL5_CPAN_IS_RUNNING = 28311
PERL5_CPAN_IS_RUNNING_IN_RECURSION = 3984,28311
PERLDOC = -MPod::Perldoc::ToTextOverstrike
PERL_BATCH = yes
PERL_CANARY_STABILITY_NOPROMPT = 1
PERL_CPAN_REPORTER_CONFIG = /run/user/1023/cpansmoker/2016110218/cpanreporter_001_config.ini
PERL_EXTUTILS_AUTOINSTALL = --defaultdeps
PERL_USE_UNSAFE_INC = 1
SHELL = /bin/zsh
TERM = xterm
TMPDIR = /run/user/1023/cpansmoker/2016110218
Perl special variables (and OS-specific diagnostics, for MSWin32):
$^X = /bbbike/perl-5.24.0t/bin/perl
$UID/$EUID = 1023 / 1023
$GID = 1023 1023
$EGID = 1023 1023
Perl module toolchain versions installed:
Module Have
------------------- --------
CPAN 2.11
CPAN::Meta 2.150005
Cwd 3.63
ExtUtils::CBuilder 0.280225
ExtUtils::Command 7.10
ExtUtils::Install 2.04
ExtUtils::MakeMaker 7.10_01
ExtUtils::Manifest 1.70
ExtUtils::ParseXS 3.31
File::Spec 3.63
JSON n/a
JSON::PP 2.27300
Module::Build 0.4218
Module::Signature n/a
Parse::CPAN::Meta 1.4422
Test::Harness 3.36
Test::More 1.001014
YAML 1.15
YAML::Syck 1.29
version 0.9916
--
Summary of my perl5 (revision 5 version 24 subversion 0) configuration:
Platform:
osname=linux, osvers=3.16.0-4-amd64, archname=x86_64-linux-thread-multi
uname='linux eserte 3.16.0-4-amd64 #1 smp debian 3.16.7-ckt25-2 (2016-04-08) x86_64 gnulinux '
config_args='-ds -e -Dprefix=/opt/perl-5.24.0t -Dusethreads -Dcf_email=srezic@cpan.org'
hint=recommended, useposix=true, d_sigaction=define
useithreads=define, usemultiplicity=define
use64bitint=define, use64bitall=define, uselongdouble=undef
usemymalloc=n, bincompat5005=undef
Compiler:
cc='cc', ccflags ='-D_REENTRANT -D_GNU_SOURCE -fwrapv -fno-strict-aliasing -pipe -fstack-protector-strong -I/usr/local/include -D_LARGEFILE_SOURCE -D_FILE_OFFSET_BITS=64 -D_FORTIFY_SOURCE=2',
optimize='-O2',
cppflags='-D_REENTRANT -D_GNU_SOURCE -fwrapv -fno-strict-aliasing -pipe -fstack-protector-strong -I/usr/local/include'
ccversion='', gccversion='4.9.2', gccosandvers=''
intsize=4, longsize=8, ptrsize=8, doublesize=8, byteorder=12345678, doublekind=3
d_longlong=define, longlongsize=8, d_longdbl=define, longdblsize=16, longdblkind=3
ivtype='long', ivsize=8, nvtype='double', nvsize=8, Off_t='off_t', lseeksize=8
alignbytes=8, prototype=define
Linker and Libraries:
ld='cc', ldflags =' -fstack-protector-strong -L/usr/local/lib'
libpth=/usr/local/lib /usr/lib/gcc/x86_64-linux-gnu/4.9/include-fixed /usr/include/x86_64-linux-gnu /usr/lib /lib/x86_64-linux-gnu /lib/../lib /usr/lib/x86_64-linux-gnu /usr/lib/../lib /lib
libs=-lpthread -lnsl -lgdbm -ldb -ldl -lm -lcrypt -lutil -lc -lgdbm_compat
perllibs=-lpthread -lnsl -ldl -lm -lcrypt -lutil -lc
libc=libc-2.19.so, so=so, useshrplib=false, libperl=libperl.a
gnulibc_version='2.19'
Dynamic Linking:
dlsrc=dl_dlopen.xs, dlext=so, d_dlsymun=undef, ccdlflags='-Wl,-E'
cccdlflags='-fPIC', lddlflags='-shared -O2 -L/usr/local/lib -fstack-protector-strong'
Characteristics of this binary (from libperl):
Compile-time options: HAS_TIMES MULTIPLICITY PERLIO_LAYERS
PERL_COPY_ON_WRITE PERL_DONT_CREATE_GVSV
PERL_HASH_FUNC_ONE_AT_A_TIME_HARD
PERL_IMPLICIT_CONTEXT PERL_MALLOC_WRAP
PERL_PRESERVE_IVUV USE_64_BIT_ALL USE_64_BIT_INT
USE_ITHREADS USE_LARGE_FILES USE_LOCALE
USE_LOCALE_COLLATE USE_LOCALE_CTYPE
USE_LOCALE_NUMERIC USE_LOCALE_TIME USE_PERLIO
USE_PERL_ATOF USE_REENTRANT_API
Built under linux
Compiled at May 9 2016 18:10:48
%ENV:
PERL5LIB="/home/cpansand/.cpan/build/2016110218/Prima-1.49-dlIjBH/blib/arch:/home/cpansand/.cpan/build/2016110218/Prima-1.49-dlIjBH/blib/lib"
PERL5OPT=""
PERL5_CPANPLUS_IS_RUNNING="28311"
PERL5_CPAN_IS_RUNNING="28311"
PERL5_CPAN_IS_RUNNING_IN_RECURSION="3984,28311"
PERLDOC="-MPod::Perldoc::ToTextOverstrike"
PERL_BATCH="yes"
PERL_CANARY_STABILITY_NOPROMPT="1"
PERL_CPAN_REPORTER_CONFIG="/run/user/1023/cpansmoker/2016110218/cpanreporter_001_config.ini"
PERL_EXTUTILS_AUTOINSTALL="--defaultdeps"
PERL_USE_UNSAFE_INC="1"
@INC:
/home/cpansand/.cpan/build/2016110218/Prima-1.49-dlIjBH/blib/arch
/home/cpansand/.cpan/build/2016110218/Prima-1.49-dlIjBH/blib/lib
/opt/perl-5.24.0t/lib/site_perl/5.24.0/x86_64-linux-thread-multi
/opt/perl-5.24.0t/lib/site_perl/5.24.0
/opt/perl-5.24.0t/lib/5.24.0/x86_64-linux-thread-multi
/opt/perl-5.24.0t/lib/5.24.0
.