Unicode-UTF8 v0.62 Perl 5 v5.26.2 MSWin32-x86-multi-thread-64int

Status
Pass
From
William Scherz
Dist
Unicode-UTF8 v0.62
Platform
Perl 5 v5.26.2 MSWin32-x86-multi-thread-64int
Date
2018-05-02 20:11:45
ID
b06c93f7-7b10-1014-b5e5-9e197b106923
This distribution has been tested as part of the CPAN Testers
project, supporting the Perl programming language.  See
http://wiki.cpantesters.org/ for more information or email
questions to cpan-testers-discuss@perl.org


--
Dear Christian Hansen,

This is a computer-generated report for Unicode-UTF8-0.62
on perl 5.26.2, created by CPAN-Reporter-1.2018.

Thank you for uploading your work to CPAN.  Congratulations!
All tests were successful.

Sections of this report:

    * Tester comments
    * Program output
    * Prerequisites
    * Environment and other context

------------------------------
TESTER COMMENTS
------------------------------

Additional comments from tester:

none provided

------------------------------
PROGRAM OUTPUT
------------------------------

Output from 'C:\Lang\Perl32\c\bin\gmake.exe test':

"C:\Lang\Perl32\perl\bin\perl.exe" "-Iinc" -MExtUtils::Command::MM -e cp_nonempty -- UTF8.bs blib\arch\auto\Unicode\UTF8\UTF8.bs 644
"C:\Lang\Perl32\perl\bin\perl.exe" "-MExtUtils::Command::MM" "-MTest::Harness" "-e" "undef *Test::Harness::Switches; test_harness(0, 'inc', 'blib\lib', 'blib\arch')" t/*.t t/*/*.t
# Unicode::UTF8 0.62, Perl 5.026002, C:\Lang\Perl32\perl\bin\perl.exe
t/000_load.t ............... ok
t/010_basic.t .............. ok
t/030_native.t ............. ok
t/040_wide_characters.t .... ok
t/045_replacement.t ........ ok
t/050_noncharacters.t ...... ok
t/060_surrogates.t ......... ok
t/080_super.t .............. ok
t/090_non_shortest_form.t .. ok
t/100_incomplete.t ......... ok
t/120_fallback.t ........... ok
t/150_subwarnings.t ........ ok
t/170_steal.t .............. ok
t/200_leaks.t .............. ok
t/210_tainted.t ............ skipped: Taint::Runtime 0.03 is required for this test
t/220_magic.t .............. ok
t/999_pod.t ................ ok
All tests successful.
Files=17, Tests=12036,  8 wallclock secs ( 0.84 usr +  0.09 sys =  0.94 CPU)
Result: PASS

------------------------------
PREREQUISITES
------------------------------

Prerequisite modules loaded:

requires:

    Module              Need     Have    
    ------------------- -------- --------
    Carp                0        1.42    
    Exporter            0        5.72    
    perl                5.008001 5.026002
    XSLoader            0        0.27    

build_requires:

    Module              Need     Have    
    ------------------- -------- --------
    Encode              1.9801   2.98    
    ExtUtils::MakeMaker 6.59     7.34    
    Test::Fatal         0.006    0.014   
    Test::More          0.47     1.302136

configure_requires:

    Module              Need     Have    
    ------------------- -------- --------
    ExtUtils::MakeMaker 6.59     7.34    


------------------------------
ENVIRONMENT AND OTHER CONTEXT
------------------------------

Environment variables:

    COMSPEC = C:\WINDOWS\system32\cmd.exe
    NONINTERACTIVE_TESTING = 1
    NUMBER_OF_PROCESSORS = 4
    PATH = C:\ProgramData\Oracle\Java\javapath;C:\WINDOWS\system32;C:\WINDOWS;C:\WINDOWS\System32\Wbem;C:\WINDOWS\System32\WindowsPowerShell\v1.0\;P:\ALL\CloverView;Q:\BatchFiles;C:\Program Files\Git\cmd;C:\Program Files\Microsoft SQL Server\130\Tools\Binn\;C:\Program Files\Microsoft\Web Platform Installer\;C:\Program Files\dotnet\;C:\Program Files (x86)\Microsoft SQL Server\110\DTS\Binn\;C:\Program Files (x86)\Microsoft SQL Server\120\DTS\Binn\;C:\Program Files (x86)\Microsoft SQL Server\130\DTS\Binn\;C:\Program Files (x86)\GitExtensions\;C:\Program Files\MiKTeX 2.9\miktex\bin\x64\;C:\Lang\Perl32\c\bin;C:\Lang\Perl32\perl\site\bin;C:\Lang\Perl32\perl\bin;C:\bat;c:\bat\usr\local\wbin;N:\bat;L:\bat;k:\bat;d:\bin;C:\Users\billy.scherz\AppData\Local\Microsoft\WindowsApps;D:\bin\apache-maven-3.5.0\bin
    PERL5LIB = 
    PERL5OPT = 
    PERL5_CPANPLUS_IS_RUNNING = 6564
    PERL5_CPAN_IS_RUNNING = 6564
    PERL_MM_USE_DEFAULT = 1
    PERL_USE_UNSAFE_INC = 1
    PROCESSOR_IDENTIFIER = Intel64 Family 6 Model 60 Stepping 1, GenuineIntel
    TEMP = C:\Users\BILLY~1.SCH\AppData\Local\Temp

Perl special variables (and OS-specific diagnostics, for MSWin32):

    $^X = C:\Lang\Perl32\perl\bin\perl.exe
    $UID/$EUID = 0 / 0
    $GID = 0
    $EGID = 0
    Win32::GetOSName = Win10
    Win32::GetOSVersion = , 10, 0, 16299, 2, 0, 0, 256, 1
    Win32::FsType = NTFS
    Win32::IsAdminUser = 1

Perl module toolchain versions installed:

    Module              Have    
    ------------------- --------
    CPAN                2.18    
    CPAN::Meta          2.150010
    Cwd                 3.74    
    ExtUtils::CBuilder  0.280230
    ExtUtils::Command   7.34    
    ExtUtils::Install   2.14    
    ExtUtils::MakeMaker 7.34    
    ExtUtils::Manifest  1.70    
    ExtUtils::ParseXS   3.35    
    File::Spec          3.74    
    JSON                2.97001 
    JSON::PP            2.97001 
    Module::Build       0.4224  
    Module::Signature   0.81    
    Parse::CPAN::Meta   2.150010
    Test::Harness       3.42    
    Test::More          1.302136
    YAML                1.24    
    YAML::Syck          1.30    
    version             0.9924  


--

Summary of my perl5 (revision 5 version 26 subversion 2) configuration:
   
  Platform:
    osname=MSWin32
    osvers=10.0.16299.371
    archname=MSWin32-x86-multi-thread-64int
    uname='Win32 strawberry-perl 5.26.2.1 #1 Sun Apr 15 11:47:13 2018 i386'
    config_args='undef'
    hint=recommended
    useposix=true
    d_sigaction=undef
    useithreads=define
    usemultiplicity=define
    use64bitint=define
    use64bitall=undef
    uselongdouble=undef
    usemymalloc=n
    default_inc_excludes_dot=define
    bincompat5005=undef
  Compiler:
    cc='gcc'
    ccflags =' -s -O2 -DWIN32 -D__USE_MINGW_ANSI_STDIO -DPERL_TEXTMODE_SCRIPTS -DPERL_IMPLICIT_CONTEXT -DPERL_IMPLICIT_SYS -DUSE_PERLIO -fwrapv -fno-strict-aliasing -mms-bitfields'
    optimize='-s -O2'
    cppflags='-DWIN32'
    ccversion=''
    gccversion='7.1.0'
    gccosandvers=''
    intsize=4
    longsize=4
    ptrsize=4
    doublesize=8
    byteorder=12345678
    doublekind=3
    d_longlong=define
    longlongsize=8
    d_longdbl=define
    longdblsize=12
    longdblkind=3
    ivtype='long long'
    ivsize=8
    nvtype='double'
    nvsize=8
    Off_t='long long'
    lseeksize=8
    alignbytes=8
    prototype=define
  Linker and Libraries:
    ld='g++'
    ldflags ='-s -L"C:\Lang\Perl32\perl\lib\CORE" -L"C:\Lang\Perl32\c\lib"'
    libpth=C:\Lang\Perl32\c\lib C:\Lang\Perl32\c\i686-w64-mingw32\lib C:\Lang\Perl32\c\lib\gcc\i686-w64-mingw32\7.1.0
    libs= -lmoldname -lkernel32 -luser32 -lgdi32 -lwinspool -lcomdlg32 -ladvapi32 -lshell32 -lole32 -loleaut32 -lnetapi32 -luuid -lws2_32 -lmpr -lwinmm -lversion -lodbc32 -lodbccp32 -lcomctl32
    perllibs= -lmoldname -lkernel32 -luser32 -lgdi32 -lwinspool -lcomdlg32 -ladvapi32 -lshell32 -lole32 -loleaut32 -lnetapi32 -luuid -lws2_32 -lmpr -lwinmm -lversion -lodbc32 -lodbccp32 -lcomctl32
    libc=
    so=dll
    useshrplib=true
    libperl=libperl526.a
    gnulibc_version=''
  Dynamic Linking:
    dlsrc=dl_win32.xs
    dlext=xs.dll
    d_dlsymun=undef
    ccdlflags=' '
    cccdlflags=' '
    lddlflags='-mdll -s -L"C:\Lang\Perl32\perl\lib\CORE" -L"C:\Lang\Perl32\c\lib"'


Characteristics of this binary (from libperl): 
  Compile-time options:
    HAS_TIMES
    HAVE_INTERP_INTERN
    MULTIPLICITY
    PERLIO_LAYERS
    PERL_COPY_ON_WRITE
    PERL_DONT_CREATE_GVSV
    PERL_IMPLICIT_CONTEXT
    PERL_IMPLICIT_SYS
    PERL_MALLOC_WRAP
    PERL_OP_PARENT
    PERL_PRESERVE_IVUV
    USE_64_BIT_INT
    USE_ITHREADS
    USE_LARGE_FILES
    USE_LOCALE
    USE_LOCALE_COLLATE
    USE_LOCALE_CTYPE
    USE_LOCALE_NUMERIC
    USE_LOCALE_TIME
    USE_PERLIO
    USE_PERL_ATOF
  Built under MSWin32
  Compiled at Apr 15 2018 11:51:03
  %ENV:
    PERL5_CPANPLUS_IS_RUNNING="6564"
    PERL5_CPAN_IS_RUNNING="6564"
    PERL_MM_USE_DEFAULT="1"
    PERL_USE_UNSAFE_INC="1"
  @INC:
    C:/Lang/Perl32/perl/site/lib/MSWin32-x86-multi-thread-64int
    C:/Lang/Perl32/perl/site/lib
    C:/Lang/Perl32/perl/vendor/lib
    C:/Lang/Perl32/perl/lib
    .