Report for File-Serialize-1.0.1

Back
From: metabase:user:9820532a-708b-1014-9a05-b18a96298da1
Subject: PASS File-Serialize-1.0.1 v5.23.8 GNU/Linux
Date: 2016-03-19T13:01:26Z

This distribution has been tested as part of the CPAN Testers
project, supporting the Perl programming language.  See
http://wiki.cpantesters.org/ for more information or email
questions to cpan-testers-discuss@perl.org


--
Dear Yanick Champoux,

This is a computer-generated report for File-Serialize-1.0.1
on perl 5.23.8, created by CPAN-Reporter-1.2017.

Thank you for uploading your work to CPAN.  Congratulations!
All tests were successful.

Sections of this report:

    * Tester comments
    * Program output
    * Prerequisites
    * Environment and other context

------------------------------
TESTER COMMENTS
------------------------------

Additional comments from tester:

this report is from an automated smoke testing program
and was not reviewed by a human for accuracy

------------------------------
PROGRAM OUTPUT
------------------------------

Output from '/usr/bin/make test':

PERL_DL_NONLAZY=1 "/home/smoker/perl5/perlbrew/perls/perl-5.23.8/bin/perl5.23.8" "-MExtUtils::Command::MM" "-MTest::Harness" "-e" "undef *Test::Harness::Switches; test_harness(0, 'blib/lib', 'blib/arch')" t/*.t
t/00-compile.t .......... ok
# 
# Versions for all modules listed in MYMETA.json (including optional ones):
# 
# === Configure Requires ===
# 
#     Module              Want    Have
#     ------------------- ---- -------
#     ExtUtils::MakeMaker  any 7.10_01
# 
# === Build Requires ===
# 
#     Module              Want    Have
#     ------------------- ---- -------
#     ExtUtils::MakeMaker  any 7.10_01
# 
# === Test Requires ===
# 
#     Module              Want     Have
#     ------------------- ---- --------
#     ExtUtils::MakeMaker  any  7.10_01
#     File::Spec           any     3.63
#     IO::Handle           any     1.35
#     IPC::Open3           any     1.20
#     Test::Exception      any     0.43
#     Test::More           any 1.001014
#     Test::Requires       any     0.10
#     Test::Warnings       any    0.026
#     utf8                 any     1.19
# 
# === Test Recommends ===
# 
#     Module         Want     Have
#     ---------- -------- --------
#     CPAN::Meta 2.120900 2.150005
# 
# === Runtime Requires ===
# 
#     Module            Want     Have
#     ----------------- ---- --------
#     Class::Load        any     0.23
#     Exporter::Tiny     any    0.042
#     List::AllUtils     any     0.09
#     List::MoreUtils    any    0.413
#     List::Util        1.41     1.44
#     Module::Info       any     0.37
#     Module::Pluggable  any      5.2
#     Module::Runtime    any    0.014
#     Moo                any 2.001001
#     Moo::Role          any 2.001001
#     Path::Tiny         any    0.084
#     feature            any     1.42
#     parent             any    0.234
#     strict             any     1.10
#     warnings           any     1.35
# 
# === Runtime Recommends ===
# 
#     Module        Want     Have
#     ------------- ---- --------
#     JSON::MaybeXS  any 1.003005
#     YAML::Tiny     any     1.69
# 
t/00-report-prereqs.t ... ok
t/add_extension.t ....... ok
t/basic.t ............... ok
t/defaults.t ............ ok
t/json-allow-non-ref.t .. ok
t/serializer.t .......... ok
t/transerialize.t ....... ok
t/utf8.t ................ ok
All tests successful.
Files=9, Tests=38,  1 wallclock secs ( 0.03 usr  0.00 sys +  0.85 cusr  0.24 csys =  1.12 CPU)
Result: PASS

------------------------------
PREREQUISITES
------------------------------

Prerequisite modules loaded:

requires:

    Module              Need     Have    
    ------------------- -------- --------
    Class::Load         0        0.23    
    Exporter::Tiny      0        0.042   
    feature             0        1.42    
    List::AllUtils      0        0.09    
    List::MoreUtils     0        0.413   
    List::Util          1.41     1.44    
    Module::Info        0        0.37    
    Module::Pluggable   0        5.2     
    Module::Runtime     0        0.014   
    Moo                 0        2.001001
    Moo::Role           0        2.001001
    parent              0        0.234   
    Path::Tiny          0        0.084   
    perl                5.016000 5.023008
    strict              0        1.10    
    warnings            0        1.35    

build_requires:

    Module              Need     Have    
    ------------------- -------- --------
    ExtUtils::MakeMaker 0        7.10_01 
    File::Spec          0        3.63    
    IO::Handle          0        1.35    
    IPC::Open3          0        1.20    
    Test::Exception     0        0.43    
    Test::More          0        1.001014
    Test::Requires      0        0.10    
    Test::Warnings      0        0.026   
    utf8                0        1.19    

configure_requires:

    Module              Need     Have    
    ------------------- -------- --------
    ExtUtils::MakeMaker 0        7.10_01 


------------------------------
ENVIRONMENT AND OTHER CONTEXT
------------------------------

Environment variables:

    AUTOMATED_TESTING = 1
    LANG = en_GB.UTF-8
    LANGUAGE = en_GB:en
    PATH = /home/smoker/perl5/perlbrew/bin:/home/smoker/perl5/perlbrew/perls/perl-5.23.8/bin:/home/smoker/perl5/bin:/home/smoker/perl5/bin:/home/smoker/bin:/usr/local/sbin:/usr/local/bin:/usr/sbin:/usr/bin:/sbin:/bin:/usr/games:/usr/local/games:/home/smoker/.rvm/bin
    PERL5LIB = /home/smoker/.cpan/build/Module-Info-0.37-3ggCM6/blib/arch:/home/smoker/.cpan/build/Module-Info-0.37-3ggCM6/blib/lib:/home/smoker/perl5/lib/perl5
    PERL5OPT = 
    PERL5_CPANPLUS_IS_RUNNING = 24535
    PERL5_CPAN_IS_RUNNING = 24535
    PERL5_CPAN_IS_RUNNING_IN_RECURSION = 2608,24535
    PERLBREW_BASHRC_VERSION = 0.74
    PERLBREW_HOME = /home/smoker/.perlbrew
    PERLBREW_MANPATH = /home/smoker/perl5/perlbrew/perls/perl-5.23.8/man
    PERLBREW_PATH = /home/smoker/perl5/perlbrew/bin:/home/smoker/perl5/perlbrew/perls/perl-5.23.8/bin
    PERLBREW_PERL = perl-5.23.8
    PERLBREW_ROOT = /home/smoker/perl5/perlbrew
    PERLBREW_VERSION = 0.74
    PERL_CPANM_OPT = --mirror http://cpan.cpantesters.org
    PERL_CR_SMOKER_CURRENT = File-Serialize-1.0.1
    PERL_EXTUTILS_AUTOINSTALL = --defaultdeps
    PERL_LOCAL_LIB_ROOT = /home/smoker/perl5
    PERL_MB_OPT = --install_base "/home/smoker/perl5"
    PERL_MM_OPT = INSTALL_BASE=/home/smoker/perl5
    PERL_MM_USE_DEFAULT = 1
    SHELL = /bin/bash
    TERM = xterm

Perl special variables (and OS-specific diagnostics, for MSWin32):

    $^X = /home/smoker/perl5/perlbrew/perls/perl-5.23.8/bin/perl5.23.8
    $UID/$EUID = 1003 / 1003
    $GID = 1003 27 1003
    $EGID = 1003 27 1003

Perl module toolchain versions installed:

    Module              Have    
    ------------------- --------
    CPAN                2.11    
    CPAN::Meta          2.150005
    Cwd                 3.63    
    ExtUtils::CBuilder  0.280225
    ExtUtils::Command   7.10    
    ExtUtils::Install   2.04    
    ExtUtils::MakeMaker 7.10_01 
    ExtUtils::Manifest  1.70    
    ExtUtils::ParseXS   3.31    
    File::Spec          3.63    
    JSON                2.90    
    JSON::PP            2.27300 
    Module::Build       0.4216  
    Module::Signature   n/a     
    Parse::CPAN::Meta   1.4417  
    Test::Harness       3.36    
    Test::More          1.001014
    YAML                1.15    
    YAML::Syck          1.29    
    version             0.9915  


--

Summary of my perl5 (revision 5 version 23 subversion 8) configuration:
   
  Platform:
    osname=linux, osvers=4.2.0-34-generic, archname=x86_64-linux
    uname='linux ubuntu 4.2.0-34-generic #39~14.04.1-ubuntu smp fri mar 11 11:38:02 utc 2016 x86_64 x86_64 x86_64 gnulinux '
    config_args='-de -Dprefix=/home/smoker/perl5/perlbrew/perls/perl-5.23.8 -Dman1dir=none -Dman3dir=none -Dusedevel -Aeval:scriptdir=/home/smoker/perl5/perlbrew/perls/perl-5.23.8/bin'
    hint=recommended, useposix=true, d_sigaction=define
    useithreads=undef, usemultiplicity=undef
    use64bitint=define, use64bitall=define, uselongdouble=undef
    usemymalloc=n, bincompat5005=undef
  Compiler:
    cc='cc', ccflags ='-fwrapv -fno-strict-aliasing -pipe -fstack-protector -I/usr/local/include -D_LARGEFILE_SOURCE -D_FILE_OFFSET_BITS=64',
    optimize='-O2',
    cppflags='-fwrapv -fno-strict-aliasing -pipe -fstack-protector -I/usr/local/include'
    ccversion='', gccversion='4.8.4', gccosandvers=''
    intsize=4, longsize=8, ptrsize=8, doublesize=8, byteorder=12345678, doublekind=3
    d_longlong=define, longlongsize=8, d_longdbl=define, longdblsize=16, longdblkind=3
    ivtype='long', ivsize=8, nvtype='double', nvsize=8, Off_t='off_t', lseeksize=8
    alignbytes=8, prototype=define
  Linker and Libraries:
    ld='cc', ldflags =' -fstack-protector -L/usr/local/lib'
    libpth=/usr/local/lib /usr/lib/gcc/x86_64-linux-gnu/4.8/include-fixed /usr/include/x86_64-linux-gnu /usr/lib /lib/x86_64-linux-gnu /lib/../lib /usr/lib/x86_64-linux-gnu /usr/lib/../lib /lib
    libs=-lpthread -lnsl -lgdbm -ldb -ldl -lm -lcrypt -lutil -lc -lgdbm_compat
    perllibs=-lpthread -lnsl -ldl -lm -lcrypt -lutil -lc
    libc=libc-2.19.so, so=so, useshrplib=false, libperl=libperl.a
    gnulibc_version='2.19'
  Dynamic Linking:
    dlsrc=dl_dlopen.xs, dlext=so, d_dlsymun=undef, ccdlflags='-Wl,-E'
    cccdlflags='-fPIC', lddlflags='-shared -O2 -L/usr/local/lib -fstack-protector'


Characteristics of this binary (from libperl): 
  Compile-time options: HAS_TIMES PERLIO_LAYERS PERL_COPY_ON_WRITE
                        PERL_DONT_CREATE_GVSV
                        PERL_HASH_FUNC_ONE_AT_A_TIME_HARD PERL_MALLOC_WRAP
                        PERL_PRESERVE_IVUV PERL_USE_DEVEL USE_64_BIT_ALL
                        USE_64_BIT_INT USE_LARGE_FILES USE_LOCALE
                        USE_LOCALE_COLLATE USE_LOCALE_CTYPE
                        USE_LOCALE_NUMERIC USE_LOCALE_TIME USE_PERLIO
                        USE_PERL_ATOF
  Locally applied patches:
	Devel::PatchPerl 1.38
  Built under linux
  Compiled at Mar 16 2016 15:43:15
  %ENV:
    PERL5LIB="/home/smoker/.cpan/build/Module-Info-0.37-3ggCM6/blib/arch:/home/smoker/.cpan/build/Module-Info-0.37-3ggCM6/blib/lib:/home/smoker/perl5/lib/perl5"
    PERL5OPT=""
    PERL5_CPANPLUS_IS_RUNNING="24535"
    PERL5_CPAN_IS_RUNNING="24535"
    PERL5_CPAN_IS_RUNNING_IN_RECURSION="2608,24535"
    PERLBREW_BASHRC_VERSION="0.74"
    PERLBREW_HOME="/home/smoker/.perlbrew"
    PERLBREW_MANPATH="/home/smoker/perl5/perlbrew/perls/perl-5.23.8/man"
    PERLBREW_PATH="/home/smoker/perl5/perlbrew/bin:/home/smoker/perl5/perlbrew/perls/perl-5.23.8/bin"
    PERLBREW_PERL="perl-5.23.8"
    PERLBREW_ROOT="/home/smoker/perl5/perlbrew"
    PERLBREW_VERSION="0.74"
    PERL_CPANM_OPT="--mirror http://cpan.cpantesters.org"
    PERL_CR_SMOKER_CURRENT="File-Serialize-1.0.1"
    PERL_EXTUTILS_AUTOINSTALL="--defaultdeps"
    PERL_LOCAL_LIB_ROOT="/home/smoker/perl5"
    PERL_MB_OPT="--install_base "/home/smoker/perl5""
    PERL_MM_OPT="INSTALL_BASE=/home/smoker/perl5"
    PERL_MM_USE_DEFAULT="1"
  @INC:
    /home/smoker/.cpan/build/Module-Info-0.37-3ggCM6/blib/arch
    /home/smoker/.cpan/build/Module-Info-0.37-3ggCM6/blib/lib
    /home/smoker/perl5/lib/perl5/5.23.8/x86_64-linux
    /home/smoker/perl5/lib/perl5/5.23.8
    /home/smoker/perl5/lib/perl5/x86_64-linux
    /home/smoker/perl5/lib/perl5
    /home/smoker/perl5/perlbrew/perls/perl-5.23.8/lib/site_perl/5.23.8/x86_64-linux
    /home/smoker/perl5/perlbrew/perls/perl-5.23.8/lib/site_perl/5.23.8
    /home/smoker/perl5/perlbrew/perls/perl-5.23.8/lib/5.23.8/x86_64-linux
    /home/smoker/perl5/perlbrew/perls/perl-5.23.8/lib/5.23.8
    .