Google-Ads-AdWords-Client v5.6.0 Perl 5 v5.20.2 amd64-freebsd

Status
Pass
From
Slaven Rezić (SREZIC)
Dist
Google-Ads-AdWords-Client v5.6.0
Platform
Perl 5 v5.20.2 amd64-freebsd
Date
2018-09-22 03:22:09
ID
b094119a-be16-11e8-b88a-9cce7be2bbcc
This distribution has been tested as part of the CPAN Testers
project, supporting the Perl programming language.  See
http://wiki.cpantesters.org/ for more information or email
questions to cpan-testers-discuss@perl.org


--
Dear Nadine Sundquist,

This is a computer-generated report for Google-Ads-AdWords-Client-5.6.0
on perl 5.20.2, created by CPAN-Reporter-1.2018.

Thank you for uploading your work to CPAN.  Congratulations!
All tests were successful.

Sections of this report:

    * Tester comments
    * Program output
    * Prerequisites
    * Environment and other context

------------------------------
TESTER COMMENTS
------------------------------

Additional comments from tester:

none provided

------------------------------
PROGRAM OUTPUT
------------------------------

Output from './Build test':

t/001_require.t ....................... ok
t/011_Client.t ........................ ok
t/012_Serializer.t .................... ok
 clientCustomerId=INSERT_CLIENT_CUSTOMER_ID_HERE server=https://adwords.google.com service=CampaignService method=get responseTime=2429 requestId=07a93c67b1dd3ff5242c98d436ba7043 operations=1 isFault=yes faultMessage=[PolicyViolationError.POLICY_ERROR @ operations[0].operand.criterion.text; trigger:'MED'] at /home/cpansand/.cpan/build/2018092203/Google-Ads-AdWords-Client-5.6.0-3/blib/lib/Google/Ads/AdWords/Deserializer.pm line 83
t/013_Deserializer.t .................. ok
t/014_XPathSAXParser.t ................ ok
 clientCustomerId=INSERT_CLIENT_CUSTOMER_ID_HERE server=https://adwords.google.com service=CampaignService method=get responseTime=2429 requestId=07a93c67b1dd3ff5242c98d436ba7043 operations=1 isFault=yes faultMessage=[RequiredError.REQUIRED @ operations[0].operand.advertisingChannelType] at lib/Google/Ads/AdWords/Deserializer.pm line 83
t/015_RequestStats.t .................. ok
t/017_OAuth2ApplicationsHandler.t ..... ok
t/018_MapUtils.t ...................... ok
t/019_OAuth2ServiceAccountsHandler.t .. ok
t/020_GenerateOfflineCredentials.t .... ok
t/021_ReportingConfiguration.t ........ ok
t/022_ReportUtils.t ................... ok
t/023_AdsUtilityRegistry.t ............ ok
t/024_BatchJobHandler.t ............... ok
t/025_ReportQueryBuilder.t ............ ok
t/026_ServiceQueryBuilder.t ........... ok
All tests successful.
Files=16, Tests=4846, 23 wallclock secs ( 0.16 usr  0.45 sys +  1.66 cusr  5.50 csys =  7.77 CPU)
Result: PASS

------------------------------
PREREQUISITES
------------------------------

Prerequisite modules loaded:

requires:

    Module                    Need    Have      
    ------------------------- ------- ----------
    Class::Load               0       0.24      
    Class::Std::Fast          0       0.0.8     
    Crypt::OpenSSL::RSA       0       0.30      
    Cwd                       0       3.75      
    Data::Uniqid              0       0.12      
    Date::Format              0       2.24      
    Date::Parse               0       2.30      
    Digest::SHA               0       6.02      
    File::Basename            0       2.85      
    File::HomeDir             0       1.004     
    File::Path                0       2.15      
    File::Spec                0       3.75      
    File::Temp                0       0.2308    
    Getopt::Long              0       2.5       
    HTTP::Server::Simple::CGI 0       0         
    IO::Socket::SSL           0       2.059     
    JSON::Parse               0       0.55      
    List::Util                0       1.50      
    Log::Log4perl             0       1.49      
    LWP::Protocol::https      0       6.07      
    LWP::UserAgent            0       6.35      
    Math::Random::MT          0       1.17      
    perl                      v5.14.0 5.020002  
    POSIX                     0       1.38_03   
    SOAP::WSDL                v2.0.10 3.003     
    Template                  0       2.26      
    URI::Escape               0       3.31      
    XML::LibXML               0       2.0132    
    XML::Simple               0       2.25      
    XML::XPath                0       1.42      

build_requires:

    Module                    Need    Have      
    ------------------------- ------- ----------
    Class::Std::Fast          v0.0.5  0.0.8     
    Config::Properties        0       1.80      
    Module::Build             0       0.4224    
    Test::Deep                0       1.128     
    Test::Exception           0       0.43      
    Test::MockObject          0       1.20180705
    Test::MockObject::Extends 0       1.20180705
    Test::More                0       1.302140  

configure_requires:

    Module                    Need    Have      
    ------------------------- ------- ----------
    Module::Build             0.42    0.4224    


------------------------------
ENVIRONMENT AND OTHER CONTEXT
------------------------------

Environment variables:

    LC_ALL = de_DE.ISO8859-1
    PATH = /usr/local/bin:/usr/bin:/bin:/usr/local/sbin:/usr/sbin:/sbin:/home/cpansand/bin/freebsd10.3:/home/cpansand/bin/sh:/home/cpansand/bin:/usr/games:/home/cpansand/devel:/home/eserte/src/srezic-misc/scripts
    PERL5LIB = 
    PERL5OPT = 
    PERL5_CPANPLUS_IS_RUNNING = 69040
    PERL5_CPAN_IS_RUNNING = 69040
    PERL5_CPAN_IS_RUNNING_IN_RECURSION = 54891,69040
    PERLDOC = -MPod::Perldoc::ToTextOverstrike
    PERL_BATCH = yes
    PERL_CANARY_STABILITY_NOPROMPT = 1
    PERL_CPAN_REPORTER_CONFIG = /var/tmp/cpansmoker-1023/2018092123/cpanreporter_000_config.ini
    PERL_EXTUTILS_AUTOINSTALL = --defaultdeps
    SHELL = /usr/local/bin/zsh
    TERM = screen
    TMPDIR = /var/tmp/cpansmoker-1023/2018092123

Perl special variables (and OS-specific diagnostics, for MSWin32):

    $^X = /usr/perl5.20.2p/bin/perl
    $UID/$EUID = 1023 / 1023
    $GID = 1023 1023
    $EGID = 1023 1023

Perl module toolchain versions installed:

    Module              Have    
    ------------------- --------
    CPAN                2.16    
    CPAN::Meta          2.150010
    Cwd                 3.75    
    ExtUtils::CBuilder  0.280230
    ExtUtils::Command   7.34    
    ExtUtils::Install   2.14    
    ExtUtils::MakeMaker 7.34    
    ExtUtils::Manifest  1.70    
    ExtUtils::ParseXS   3.35    
    File::Spec          3.75    
    JSON                2.97001 
    JSON::PP            2.97000 
    Module::Build       0.4224  
    Module::Signature   0.83    
    Parse::CPAN::Meta   2.150010
    Test::Harness       3.42    
    Test::More          1.302140
    YAML                1.26    
    YAML::Syck          1.30    
    version             0.9922  


--

Summary of my perl5 (revision 5 version 20 subversion 2) configuration:
   
  Platform:
    osname=freebsd, osvers=10.1-release, archname=amd64-freebsd
    uname='freebsd cvrsnica-freebsd-101.herceg.de 10.1-release freebsd 10.1-release #0 r274401: tue nov 11 21:02:49 utc 2014 root@releng1.nyi.freebsd.org:usrobjusrsrcsysgeneric amd64 '
    config_args='-ds -e -Dprefix=/usr/perl5.20.2p'
    hint=recommended, useposix=true, d_sigaction=define
    useithreads=undef, usemultiplicity=undef
    use64bitint=define, use64bitall=define, uselongdouble=undef
    usemymalloc=n, bincompat5005=undef
  Compiler:
    cc='cc', ccflags ='-DHAS_FPSETMASK -DHAS_FLOATINGPOINT_H -fno-strict-aliasing -pipe -fstack-protector -I/usr/local/include',
    optimize='-O',
    cppflags='-DHAS_FPSETMASK -DHAS_FLOATINGPOINT_H -fno-strict-aliasing -pipe -fstack-protector -I/usr/local/include'
    ccversion='', gccversion='4.2.1 Compatible FreeBSD Clang 3.4.1 (tags/RELEASE_34/dot1-final 208032)', gccosandvers=''
    intsize=4, longsize=8, ptrsize=8, doublesize=8, byteorder=12345678
    d_longlong=define, longlongsize=8, d_longdbl=define, longdblsize=16
    ivtype='long', ivsize=8, nvtype='double', nvsize=8, Off_t='off_t', lseeksize=8
    alignbytes=8, prototype=define
  Linker and Libraries:
    ld='cc', ldflags ='-pthread -Wl,-E  -fstack-protector -L/usr/local/lib'
    libpth=/usr/lib /usr/local/lib /usr/include/clang/3.4.1 /usr/lib
    libs=-lgdbm -lm -lcrypt -lutil -lc
    perllibs=-lm -lcrypt -lutil -lc
    libc=, so=so, useshrplib=false, libperl=libperl.a
    gnulibc_version=''
  Dynamic Linking:
    dlsrc=dl_dlopen.xs, dlext=so, d_dlsymun=undef, ccdlflags=' '
    cccdlflags='-DPIC -fPIC', lddlflags='-shared  -L/usr/local/lib -fstack-protector'


Characteristics of this binary (from libperl): 
  Compile-time options: HAS_TIMES PERLIO_LAYERS PERL_DONT_CREATE_GVSV
                        PERL_HASH_FUNC_ONE_AT_A_TIME_HARD PERL_MALLOC_WRAP
                        PERL_NEW_COPY_ON_WRITE PERL_PRESERVE_IVUV
                        USE_64_BIT_ALL USE_64_BIT_INT USE_LARGE_FILES
                        USE_LOCALE USE_LOCALE_COLLATE USE_LOCALE_CTYPE
                        USE_LOCALE_NUMERIC USE_PERLIO USE_PERL_ATOF
  Built under freebsd
  Compiled at Feb 14 2015 20:35:40
  %ENV:
    PERL5LIB=""
    PERL5OPT=""
    PERL5_CPANPLUS_IS_RUNNING="69040"
    PERL5_CPAN_IS_RUNNING="69040"
    PERL5_CPAN_IS_RUNNING_IN_RECURSION="54891,69040"
    PERLDOC="-MPod::Perldoc::ToTextOverstrike"
    PERL_BATCH="yes"
    PERL_CANARY_STABILITY_NOPROMPT="1"
    PERL_CPAN_REPORTER_CONFIG="/var/tmp/cpansmoker-1023/2018092123/cpanreporter_000_config.ini"
    PERL_EXTUTILS_AUTOINSTALL="--defaultdeps"
  @INC:
    /usr/perl5.20.2p/lib/site_perl/5.20.2/amd64-freebsd
    /usr/perl5.20.2p/lib/site_perl/5.20.2
    /usr/perl5.20.2p/lib/5.20.2/amd64-freebsd
    /usr/perl5.20.2p/lib/5.20.2
    .