Report for Patterns-ChainOfResponsibility-0.02

Back
From: metabase:user:320bfe00-2aae-11df-837a-5e0a49663a4f
Subject: PASS Patterns-ChainOfResponsibility-0.02 v5.19.10 GNU/Linux
Date: 2014-03-21T19:04:55Z

This distribution has been tested as part of the CPAN Testers
project, supporting the Perl programming language.  See
http://wiki.cpantesters.org/ for more information or email
questions to cpan-testers-discuss@perl.org


--
Dear John Napiorkowski,

This is a computer-generated report for Patterns-ChainOfResponsibility-0.02
on perl 5.19.10, created by CPAN-Reporter-1.2011.

Thank you for uploading your work to CPAN.  Congratulations!
All tests were successful.

Sections of this report:

    * Tester comments
    * Program output
    * Prerequisites
    * Environment and other context

------------------------------
TESTER COMMENTS
------------------------------

Additional comments from tester:

this report is from an automated smoke testing program
and was not reviewed by a human for accuracy

------------------------------
PROGRAM OUTPUT
------------------------------

Output from '/usr/bin/make test':

PERL_DL_NONLAZY=1 /tmp/basesmoker-reloperl-ynps/bin/perl "-MExtUtils::Command::MM" "-MTest::Harness" "-e" "undef *Test::Harness::Switches; test_harness(0, 'inc', 'blib/lib', 'blib/arch')" t/*.t
Class::MOP::load_class is deprecated at /home/sand/src/perl/repoperls/installed-perls/perl/v5.19.9-250-gc27d84d/127e/lib/site_perl/5.19.10/x86_64-linux-ld/Class/MOP.pm line 73.
	Class::MOP::load_class("Patterns::ChainOfResponsibility::Provider") called at /tmp/loop_over_bdir-19471-UUp_3j/Patterns-ChainOfResponsibility-0.02-sGnZvC/blib/lib/Patterns/ChainOfResponsibility/Role/Handler.pm line 22
	Patterns::ChainOfResponsibility::Role::Handler::__ANON__(Moose::Meta::Class::__ANON__::SERIAL::1=HASH(0x363fe48), "operating_on", MooseX::Role::Parameterized::Meta::Role::Parameterized=HASH(0x25c5a28), "consumer", Moose::Meta::Class=HASH(0x3357df8)) called at /home/sand/src/perl/repoperls/installed-perls/perl/v5.19.9-250-gc27d84d/127e/lib/site_perl/5.19.10/MooseX/Role/Parameterized/Meta/Role/Parameterizable.pm line 81
	MooseX::Role::Parameterized::Meta::Role::Parameterizable::generate_role(MooseX::Role::Parameterized::Meta::Role::Parameterizable=HASH(0x363a0f0), "consumer", Moose::Meta::Class=HASH(0x3357df8), "parameters", HASH(0x3558698)) called at /home/sand/src/perl/repoperls/installed-perls/perl/v5.19.9-250-gc27d84d/127e/lib/site_perl/5.19.10/MooseX/Role/Parameterized/Meta/Role/Parameterizable.pm line 105
	MooseX::Role::Parameterized::Meta::Role::Parameterizable::apply(MooseX::Role::Parameterized::Meta::Role::Parameterizable=HASH(0x363a0f0), Moose::Meta::Class=HASH(0x3357df8)) called at /home/sand/src/perl/repoperls/installed-perls/perl/v5.19.9-250-gc27d84d/127e/lib/site_perl/5.19.10/x86_64-linux-ld/Moose/Util.pm line 166
	Moose::Util::_apply_all_roles(Moose::Meta::Class=HASH(0x3357df8), undef, "Patterns::ChainOfResponsibility::Role::Handler") called at /home/sand/src/perl/repoperls/installed-perls/perl/v5.19.9-250-gc27d84d/127e/lib/site_perl/5.19.10/x86_64-linux-ld/Moose/Util.pm line 108
	Moose::Util::apply_all_roles(Moose::Meta::Class=HASH(0x3357df8), "Patterns::ChainOfResponsibility::Role::Handler") called at /home/sand/src/perl/repoperls/installed-perls/perl/v5.19.9-250-gc27d84d/127e/lib/site_perl/5.19.10/x86_64-linux-ld/Moose.pm line 60
	Moose::with(Moose::Meta::Class=HASH(0x3357df8), "Patterns::ChainOfResponsibility::Role::Handler") called at /home/sand/src/perl/repoperls/installed-perls/perl/v5.19.9-250-gc27d84d/127e/lib/site_perl/5.19.10/x86_64-linux-ld/Moose/Exporter.pm line 405
	Moose::with("Patterns::ChainOfResponsibility::Role::Handler") called at t/application.t line 9
t/application.t .. ok
t/basic.t ........ ok
Class::MOP::load_class is deprecated at /home/sand/src/perl/repoperls/installed-perls/perl/v5.19.9-250-gc27d84d/127e/lib/site_perl/5.19.10/x86_64-linux-ld/Class/MOP.pm line 73.
	Class::MOP::load_class("Patterns::ChainOfResponsibility::Broadcast") called at /tmp/loop_over_bdir-19471-UUp_3j/Patterns-ChainOfResponsibility-0.02-sGnZvC/blib/lib/Patterns/ChainOfResponsibility/Role/Handler.pm line 22
	Patterns::ChainOfResponsibility::Role::Handler::__ANON__(Moose::Meta::Class::__ANON__::SERIAL::3=HASH(0x2ab8738), "operating_on", MooseX::Role::Parameterized::Meta::Role::Parameterized=HASH(0x2b82280), "consumer", Moose::Meta::Class=HASH(0x2a49e20)) called at /home/sand/src/perl/repoperls/installed-perls/perl/v5.19.9-250-gc27d84d/127e/lib/site_perl/5.19.10/MooseX/Role/Parameterized/Meta/Role/Parameterizable.pm line 81
	MooseX::Role::Parameterized::Meta::Role::Parameterizable::generate_role(MooseX::Role::Parameterized::Meta::Role::Parameterizable=HASH(0x2bd0d48), "consumer", Moose::Meta::Class=HASH(0x2a49e20), "parameters", HASH(0x2bcb140)) called at /home/sand/src/perl/repoperls/installed-perls/perl/v5.19.9-250-gc27d84d/127e/lib/site_perl/5.19.10/MooseX/Role/Parameterized/Meta/Role/Parameterizable.pm line 105
	MooseX::Role::Parameterized::Meta::Role::Parameterizable::apply(MooseX::Role::Parameterized::Meta::Role::Parameterizable=HASH(0x2bd0d48), Moose::Meta::Class=HASH(0x2a49e20), "dispatcher", "::Broadcast") called at /home/sand/src/perl/repoperls/installed-perls/perl/v5.19.9-250-gc27d84d/127e/lib/site_perl/5.19.10/x86_64-linux-ld/Moose/Util.pm line 166
	Moose::Util::_apply_all_roles(Moose::Meta::Class=HASH(0x2a49e20), undef, "Patterns::ChainOfResponsibility::Role::Handler", HASH(0x1b4b018)) called at /home/sand/src/perl/repoperls/installed-perls/perl/v5.19.9-250-gc27d84d/127e/lib/site_perl/5.19.10/x86_64-linux-ld/Moose/Util.pm line 108
	Moose::Util::apply_all_roles(Moose::Meta::Class=HASH(0x2a49e20), "Patterns::ChainOfResponsibility::Role::Handler", HASH(0x1b4b018)) called at /home/sand/src/perl/repoperls/installed-perls/perl/v5.19.9-250-gc27d84d/127e/lib/site_perl/5.19.10/x86_64-linux-ld/Moose.pm line 60
	Moose::with(Moose::Meta::Class=HASH(0x2a49e20), "Patterns::ChainOfResponsibility::Role::Handler", HASH(0x1b4b018)) called at /home/sand/src/perl/repoperls/installed-perls/perl/v5.19.9-250-gc27d84d/127e/lib/site_perl/5.19.10/x86_64-linux-ld/Moose/Exporter.pm line 405
	Moose::with("Patterns::ChainOfResponsibility::Role::Handler", HASH(0x1b4b018)) called at t/broadcast.t line 13
t/broadcast.t .... ok
Class::MOP::load_class is deprecated at /home/sand/src/perl/repoperls/installed-perls/perl/v5.19.9-250-gc27d84d/127e/lib/site_perl/5.19.10/x86_64-linux-ld/Class/MOP.pm line 73.
	Class::MOP::load_class("Patterns::ChainOfResponsibility::Filter") called at /tmp/loop_over_bdir-19471-UUp_3j/Patterns-ChainOfResponsibility-0.02-sGnZvC/blib/lib/Patterns/ChainOfResponsibility/Role/Handler.pm line 22
	Patterns::ChainOfResponsibility::Role::Handler::__ANON__(Moose::Meta::Class::__ANON__::SERIAL::1=HASH(0x2efebf0), "operating_on", MooseX::Role::Parameterized::Meta::Role::Parameterized=HASH(0x2f3fde0), "consumer", Moose::Meta::Class=HASH(0x2da6428)) called at /home/sand/src/perl/repoperls/installed-perls/perl/v5.19.9-250-gc27d84d/127e/lib/site_perl/5.19.10/MooseX/Role/Parameterized/Meta/Role/Parameterizable.pm line 81
	MooseX::Role::Parameterized::Meta::Role::Parameterizable::generate_role(MooseX::Role::Parameterized::Meta::Role::Parameterizable=HASH(0x2fd89b8), "consumer", Moose::Meta::Class=HASH(0x2da6428), "parameters", HASH(0x2f90910)) called at /home/sand/src/perl/repoperls/installed-perls/perl/v5.19.9-250-gc27d84d/127e/lib/site_perl/5.19.10/MooseX/Role/Parameterized/Meta/Role/Parameterizable.pm line 105
	MooseX::Role::Parameterized::Meta::Role::Parameterizable::apply(MooseX::Role::Parameterized::Meta::Role::Parameterizable=HASH(0x2fd89b8), Moose::Meta::Class=HASH(0x2da6428), "dispatcher", "::Filter") called at /home/sand/src/perl/repoperls/installed-perls/perl/v5.19.9-250-gc27d84d/127e/lib/site_perl/5.19.10/x86_64-linux-ld/Moose/Util.pm line 166
	Moose::Util::_apply_all_roles(Moose::Meta::Class=HASH(0x2da6428), undef, "Patterns::ChainOfResponsibility::Role::Handler", HASH(0x1ff7018)) called at /home/sand/src/perl/repoperls/installed-perls/perl/v5.19.9-250-gc27d84d/127e/lib/site_perl/5.19.10/x86_64-linux-ld/Moose/Util.pm line 108
	Moose::Util::apply_all_roles(Moose::Meta::Class=HASH(0x2da6428), "Patterns::ChainOfResponsibility::Role::Handler", HASH(0x1ff7018)) called at /home/sand/src/perl/repoperls/installed-perls/perl/v5.19.9-250-gc27d84d/127e/lib/site_perl/5.19.10/x86_64-linux-ld/Moose.pm line 60
	Moose::with(Moose::Meta::Class=HASH(0x2da6428), "Patterns::ChainOfResponsibility::Role::Handler", HASH(0x1ff7018)) called at /home/sand/src/perl/repoperls/installed-perls/perl/v5.19.9-250-gc27d84d/127e/lib/site_perl/5.19.10/x86_64-linux-ld/Moose/Exporter.pm line 405
	Moose::with("Patterns::ChainOfResponsibility::Role::Handler", HASH(0x1ff7018)) called at t/filter.t line 9
t/filter.t ....... ok
Class::MOP::load_class is deprecated at /home/sand/src/perl/repoperls/installed-perls/perl/v5.19.9-250-gc27d84d/127e/lib/site_perl/5.19.10/x86_64-linux-ld/Class/MOP.pm line 73.
	Class::MOP::load_class("Patterns::ChainOfResponsibility::Provider") called at /tmp/loop_over_bdir-19471-UUp_3j/Patterns-ChainOfResponsibility-0.02-sGnZvC/blib/lib/Patterns/ChainOfResponsibility/Role/Handler.pm line 22
	Patterns::ChainOfResponsibility::Role::Handler::__ANON__(Moose::Meta::Class::__ANON__::SERIAL::1=HASH(0x2b380b8), "operating_on", MooseX::Role::Parameterized::Meta::Role::Parameterized=HASH(0x2aec1a0), "consumer", Moose::Meta::Class=HASH(0x2903638)) called at /home/sand/src/perl/repoperls/installed-perls/perl/v5.19.9-250-gc27d84d/127e/lib/site_perl/5.19.10/MooseX/Role/Parameterized/Meta/Role/Parameterizable.pm line 81
	MooseX::Role::Parameterized::Meta::Role::Parameterizable::generate_role(MooseX::Role::Parameterized::Meta::Role::Parameterizable=HASH(0x2b35a58), "consumer", Moose::Meta::Class=HASH(0x2903638), "parameters", HASH(0x2aee068)) called at /home/sand/src/perl/repoperls/installed-perls/perl/v5.19.9-250-gc27d84d/127e/lib/site_perl/5.19.10/MooseX/Role/Parameterized/Meta/Role/Parameterizable.pm line 105
	MooseX::Role::Parameterized::Meta::Role::Parameterizable::apply(MooseX::Role::Parameterized::Meta::Role::Parameterizable=HASH(0x2b35a58), Moose::Meta::Class=HASH(0x2903638)) called at /home/sand/src/perl/repoperls/installed-perls/perl/v5.19.9-250-gc27d84d/127e/lib/site_perl/5.19.10/x86_64-linux-ld/Moose/Util.pm line 166
	Moose::Util::_apply_all_roles(Moose::Meta::Class=HASH(0x2903638), undef, "Patterns::ChainOfResponsibility::Role::Handler") called at /home/sand/src/perl/repoperls/installed-perls/perl/v5.19.9-250-gc27d84d/127e/lib/site_perl/5.19.10/x86_64-linux-ld/Moose/Util.pm line 108
	Moose::Util::apply_all_roles(Moose::Meta::Class=HASH(0x2903638), "Patterns::ChainOfResponsibility::Role::Handler") called at /home/sand/src/perl/repoperls/installed-perls/perl/v5.19.9-250-gc27d84d/127e/lib/site_perl/5.19.10/x86_64-linux-ld/Moose.pm line 60
	Moose::with(Moose::Meta::Class=HASH(0x2903638), "Patterns::ChainOfResponsibility::Role::Handler") called at /home/sand/src/perl/repoperls/installed-perls/perl/v5.19.9-250-gc27d84d/127e/lib/site_perl/5.19.10/x86_64-linux-ld/Moose/Exporter.pm line 405
	Moose::with("Patterns::ChainOfResponsibility::Role::Handler") called at t/provider.t line 9
t/provider.t ..... ok
All tests successful.
Files=5, Tests=20,  1 wallclock secs ( 0.03 usr  0.01 sys +  1.42 cusr  0.07 csys =  1.53 CPU)
Result: PASS

------------------------------
PREREQUISITES
------------------------------

Prerequisite modules loaded:

requires:

    Module                      Need     Have    
    --------------------------- -------- --------
    Moose                       1.21     2.1204  
    MooseX::Role::Parameterized 0.23     1.02    
    perl                        5.008005 5.019010
    Test::More                  0.96     1.001002

build_requires:

    Module                      Need     Have    
    --------------------------- -------- --------
    ExtUtils::MakeMaker         6.42     6.92    
    Test::More                  0.96     1.001002

configure_requires:

    Module                      Need     Have    
    --------------------------- -------- --------
    ExtUtils::MakeMaker         6.42     6.92    


------------------------------
ENVIRONMENT AND OTHER CONTEXT
------------------------------

Environment variables:

    AUTOMATED_TESTING = 1
    LANG = en_US.UTF-8
    LANGUAGE = en_US:en
    PATH = /usr/lib/ccache:/home/sand/bin:/usr/local/bin:/usr/bin:/bin:/usr/games:/usr/local/perl/bin:/usr/X11/bin:/sbin:/usr/sbin
    PERL5LIB = 
    PERL5OPT = 
    PERL5_CPANPLUS_IS_RUNNING = 28494
    PERL5_CPAN_IS_RUNNING = 28494
    PERL_MM_USE_DEFAULT = 1
    SHELL = /usr/bin/zsh
    TERM = screen

Perl special variables (and OS-specific diagnostics, for MSWin32):

    $^X = /tmp/basesmoker-reloperl-ynps/bin/perl
    $UID/$EUID = 1005 / 1005
    $GID = 1005 1005
    $EGID = 1005 1005

Perl module toolchain versions installed:

    Module              Have    
    ------------------- --------
    CPAN                2.00    
    CPAN::Meta          2.140640
    Cwd                 3.47    
    ExtUtils::CBuilder  0.280216
    ExtUtils::Command   1.18    
    ExtUtils::Install   1.63    
    ExtUtils::MakeMaker 6.92    
    ExtUtils::Manifest  1.63    
    ExtUtils::ParseXS   3.24    
    File::Spec          3.47    
    JSON                2.90    
    JSON::PP            2.27203 
    Module::Build       0.4205  
    Module::Signature   0.73    
    Parse::CPAN::Meta   1.4414  
    Test::Harness       3.30    
    Test::More          1.001002
    YAML                0.90    
    YAML::Syck          1.27    
    version             0.9908  


--

Summary of my perl5 (revision 5 version 19 subversion 10) configuration:
  Commit id: c27d84d919f5c9d4d5292351d434abd2f16e2358
  Platform:
    osname=linux, osvers=3.13-1-amd64, archname=x86_64-linux-ld
    uname='linux k83 3.13-1-amd64 #1 smp debian 3.13.6-1 (2014-03-19) x86_64 gnulinux '
    config_args='-Dprefix=/home/sand/src/perl/repoperls/installed-perls/perl/v5.19.9-250-gc27d84d/127e -Dmyhostname=k83 -Dinstallusrbinperl=n -Uversiononly -Dusedevel -des -Ui_db -Uuseithreads -Duselongdouble -DDEBUGGING=-g'
    hint=recommended, useposix=true, d_sigaction=define
    useithreads=undef, usemultiplicity=undef
    use64bitint=define, use64bitall=define, uselongdouble=define
    usemymalloc=n, bincompat5005=undef
  Compiler:
    cc='cc', ccflags ='-fno-strict-aliasing -pipe -fstack-protector -I/usr/local/include -D_LARGEFILE_SOURCE -D_FILE_OFFSET_BITS=64',
    optimize='-O2 -g',
    cppflags='-fno-strict-aliasing -pipe -fstack-protector -I/usr/local/include'
    ccversion='', gccversion='4.8.2', gccosandvers=''
    intsize=4, longsize=8, ptrsize=8, doublesize=8, byteorder=12345678
    d_longlong=define, longlongsize=8, d_longdbl=define, longdblsize=16
    ivtype='long', ivsize=8, nvtype='long double', nvsize=16, Off_t='off_t', lseeksize=8
    alignbytes=16, prototype=define
  Linker and Libraries:
    ld='cc', ldflags =' -fstack-protector -L/usr/local/lib'
    libpth=/usr/local/lib /usr/lib/gcc/x86_64-linux-gnu/4.8/include-fixed /usr/include/x86_64-linux-gnu /usr/lib /lib/x86_64-linux-gnu /lib/../lib /usr/lib/x86_64-linux-gnu /usr/lib/../lib /lib
    libs=-lnsl -lgdbm -ldb -ldl -lm -lcrypt -lutil -lc -lgdbm_compat
    perllibs=-lnsl -ldl -lm -lcrypt -lutil -lc
    libc=libc-2.18.so, so=so, useshrplib=false, libperl=libperl.a
    gnulibc_version='2.18'
  Dynamic Linking:
    dlsrc=dl_dlopen.xs, dlext=so, d_dlsymun=undef, ccdlflags='-Wl,-E'
    cccdlflags='-fPIC', lddlflags='-shared -O2 -g -L/usr/local/lib -fstack-protector'


Characteristics of this binary (from libperl): 
  Compile-time options: HAS_TIMES PERLIO_LAYERS PERL_DONT_CREATE_GVSV
                        PERL_HASH_FUNC_ONE_AT_A_TIME_HARD PERL_MALLOC_WRAP
                        PERL_NEW_COPY_ON_WRITE PERL_PRESERVE_IVUV
                        PERL_USE_DEVEL USE_64_BIT_ALL USE_64_BIT_INT
                        USE_LARGE_FILES USE_LOCALE USE_LOCALE_COLLATE
                        USE_LOCALE_CTYPE USE_LOCALE_NUMERIC USE_LONG_DOUBLE
                        USE_PERLIO USE_PERL_ATOF
  Built under linux
  Compiled at Mar 20 2014 22:31:56
  %ENV:
    PERL5LIB=""
    PERL5OPT=""
    PERL5_CPANPLUS_IS_RUNNING="28494"
    PERL5_CPAN_IS_RUNNING="28494"
    PERL_MM_USE_DEFAULT="1"
  @INC:
    /home/sand/src/perl/repoperls/installed-perls/perl/v5.19.9-250-gc27d84d/127e/lib/site_perl/5.19.10/x86_64-linux-ld
    /home/sand/src/perl/repoperls/installed-perls/perl/v5.19.9-250-gc27d84d/127e/lib/site_perl/5.19.10
    /home/sand/src/perl/repoperls/installed-perls/perl/v5.19.9-250-gc27d84d/127e/lib/5.19.10/x86_64-linux-ld
    /home/sand/src/perl/repoperls/installed-perls/perl/v5.19.9-250-gc27d84d/127e/lib/5.19.10
    .