Back
From: metabase:user:31d414ea-2aae-11df-837a-5e0a49663a4f
Subject: PASS Redis-JobQueue-1.12_8 v5.20.0 GNU/Linux
Date: 2014-05-28T13:48:03Z
This distribution has been tested as part of the CPAN Testers
project, supporting the Perl programming language. See
http://wiki.cpantesters.org/ for more information or email
questions to cpan-testers-discuss@perl.org
--
Dear Sergey Gladkov,
This is a computer-generated report for Redis-JobQueue-1.12_8
on perl 5.20.0, created by CPAN-Reporter-1.2011.
Thank you for uploading your work to CPAN. Congratulations!
All tests were successful.
Sections of this report:
* Tester comments
* Program output
* Prerequisites
* Environment and other context
------------------------------
TESTER COMMENTS
------------------------------
Additional comments from tester:
this report is from an automated smoke testing program
and was not reviewed by a human for accuracy
------------------------------
PROGRAM OUTPUT
------------------------------
Output from '/usr/bin/make test':
PERL_DL_NONLAZY=1 /home/david/cpantesting/perl-5.20.0/bin/perl "-MExtUtils::Command::MM" "-MTest::Harness" "-e" "undef *Test::Harness::Switches; test_harness(0, 'blib/lib', 'blib/arch')" t/00_compile.t t/00_Job/00_compile.t t/00_Job/01_new.t t/00_Job/02_accessor.t t/00_Job/03_modified.t t/00_Job/04_job_attributes.t t/00_Job/05_meta_data.t t/01_JobQueue/00_compile.t t/01_JobQueue/01_new.t t/01_JobQueue/02_add_job.t t/01_JobQueue/04_load_job.t t/01_JobQueue/05_get_next_job.t t/01_JobQueue/06_update_job.t t/01_JobQueue/07_delete_job.t t/01_JobQueue/08_get_job_ids.t t/01_JobQueue/09_quit.t t/01_JobQueue/10_max_datasize.t t/01_JobQueue/11_last_errorcode.t t/01_JobQueue/12_timeout.t t/01_JobQueue/13_get_job_meta_fields.t t/01_JobQueue/14_get_job_data.t t/01_JobQueue/15_queue_status.t t/01_JobQueue/16_utf8.t
t/00_compile.t .......................... ok
t/00_Job/00_compile.t ................... ok
t/00_Job/01_new.t ....................... ok
t/00_Job/02_accessor.t .................. ok
t/00_Job/03_modified.t .................. ok
t/00_Job/04_job_attributes.t ............ ok
t/00_Job/05_meta_data.t ................. ok
t/01_JobQueue/00_compile.t .............. ok
# Unable to create test Redis server
t/01_JobQueue/01_new.t .................. ok
# Unable to create test Redis server
t/01_JobQueue/02_add_job.t .............. ok
# Unable to create test Redis server
t/01_JobQueue/04_load_job.t ............. ok
# Unable to create test Redis server
t/01_JobQueue/05_get_next_job.t ......... ok
# Unable to create test Redis server
t/01_JobQueue/06_update_job.t ........... ok
# Unable to create test Redis server
t/01_JobQueue/07_delete_job.t ........... ok
# Unable to create test Redis server
t/01_JobQueue/08_get_job_ids.t .......... ok
# Unable to create test Redis server
t/01_JobQueue/09_quit.t ................. ok
# Unable to create test Redis server
t/01_JobQueue/10_max_datasize.t ......... ok
# Unable to create test Redis server
t/01_JobQueue/11_last_errorcode.t ....... ok
# Unable to create test Redis server
t/01_JobQueue/12_timeout.t .............. ok
# Unable to create test Redis server
t/01_JobQueue/13_get_job_meta_fields.t .. ok
# Unable to create test Redis server
t/01_JobQueue/14_get_job_data.t ......... ok
# Unable to create test Redis server
t/01_JobQueue/15_queue_status.t ......... ok
# Redis server is unavailable
t/01_JobQueue/16_utf8.t ................. ok
All tests successful.
Files=23, Tests=305, 50 wallclock secs ( 0.06 usr 0.12 sys + 2.00 cusr 0.91 csys = 3.09 CPU)
Result: PASS
------------------------------
PREREQUISITES
------------------------------
Prerequisite modules loaded:
requires:
Module Need Have
------------------- ----- --------
Data::UUID 1.217 1.219
Digest::SHA1 2.13 2.13
List::MoreUtils 0.33 0.33
Mouse 0.97 2.3.0
Params::Util 1.07 1.07
perl 5.010 5.020000
Redis 1.963 1.974
Storable 2.39 2.49
Try::Tiny 0.18 0.22
build_requires:
Module Need Have
------------------- ----- --------
Test::Deep 0.109 0.112
Test::Exception 0.31 0.32
Test::NoWarnings 1.04 1.04
Test::RedisServer 0.04 0.14
Test::TCP 2.02 2.02
configure_requires:
Module Need Have
------------------- ----- --------
ExtUtils::MakeMaker 0 6.98
------------------------------
ENVIRONMENT AND OTHER CONTEXT
------------------------------
Environment variables:
AUTOMATED_TESTING = 1
NONINTERACTIVE_TESTING = 1
PATH = /usr/local/bin:/usr/bin:/bin:/usr/games
PERL = 5.20.0
PERL5LIB =
PERL5OPT =
PERL5_CPANPLUS_IS_RUNNING = 4754
PERL5_CPAN_IS_RUNNING = 4754
PERLVER = 5.20.0
PERL_INLINE_DIRECTORY = /home/david/.Inline-5.20.0
PERL_MM_USE_DEFAULT = 1
SHELL = /bin/bash
TERM = screen
Perl special variables (and OS-specific diagnostics, for MSWin32):
$^X = /home/david/cpantesting/perl-5.20.0/bin/perl
$UID/$EUID = 1000 / 1000
$GID = 1000 1000
$EGID = 1000 1000
Perl module toolchain versions installed:
Module Have
------------------- --------
CPAN 2.05
CPAN::Meta 2.140640
Cwd 3.47
ExtUtils::CBuilder 0.280216
ExtUtils::Command 1.18
ExtUtils::Install 1.67
ExtUtils::MakeMaker 6.98
ExtUtils::Manifest 1.63
ExtUtils::ParseXS 3.24
File::Spec 3.47
JSON 2.90
JSON::PP 2.27203
Module::Build 0.4205
Module::Signature n/a
Parse::CPAN::Meta 1.4414
Test::Harness 3.30
Test::More 1.001002
YAML 0.91
YAML::Syck 1.27
version 0.9908
--
Summary of my perl5 (revision 5 version 20 subversion 0) configuration:
Platform:
osname=linux, osvers=3.2.0-4-amd64, archname=x86_64-linux-thread-multi
uname='linux pigsty.barnyard.co.uk 3.2.0-4-amd64 #1 smp debian 3.2.35-2 x86_64 gnulinux '
config_args='-de -Dprefix=/home/david/cpantesting/perl-5.20.0 -Dusethreads -Duse64bitall'
hint=recommended, useposix=true, d_sigaction=define
useithreads=define, usemultiplicity=define
use64bitint=define, use64bitall=define, uselongdouble=undef
usemymalloc=n, bincompat5005=undef
Compiler:
cc='cc', ccflags ='-D_REENTRANT -D_GNU_SOURCE -fno-strict-aliasing -pipe -fstack-protector -I/usr/local/include -D_LARGEFILE_SOURCE -D_FILE_OFFSET_BITS=64',
optimize='-O2',
cppflags='-D_REENTRANT -D_GNU_SOURCE -fno-strict-aliasing -pipe -fstack-protector -I/usr/local/include'
ccversion='', gccversion='4.1.2 20061115 (prerelease) (Debian 4.1.1-21)', gccosandvers=''
intsize=4, longsize=8, ptrsize=8, doublesize=8, byteorder=12345678
d_longlong=define, longlongsize=8, d_longdbl=define, longdblsize=16
ivtype='long', ivsize=8, nvtype='double', nvsize=8, Off_t='off_t', lseeksize=8
alignbytes=8, prototype=define
Linker and Libraries:
ld='cc', ldflags =' -fstack-protector -L/usr/local/lib'
libpth=/usr/local/lib /usr/lib /lib /lib64 /usr/lib64
libs=-lnsl -lgdbm -ldb -ldl -lm -lcrypt -lutil -lpthread -lc -lgdbm_compat
perllibs=-lnsl -ldl -lm -lcrypt -lutil -lpthread -lc
libc=libc-2.3.6.so, so=so, useshrplib=false, libperl=libperl.a
gnulibc_version='2.3.6'
Dynamic Linking:
dlsrc=dl_dlopen.xs, dlext=so, d_dlsymun=undef, ccdlflags='-Wl,-E'
cccdlflags='-fPIC', lddlflags='-shared -O2 -L/usr/local/lib -fstack-protector'
Characteristics of this binary (from libperl):
Compile-time options: HAS_TIMES MULTIPLICITY PERLIO_LAYERS
PERL_DONT_CREATE_GVSV
PERL_HASH_FUNC_ONE_AT_A_TIME_HARD
PERL_IMPLICIT_CONTEXT PERL_MALLOC_WRAP
PERL_NEW_COPY_ON_WRITE PERL_PRESERVE_IVUV
USE_64_BIT_ALL USE_64_BIT_INT USE_ITHREADS
USE_LARGE_FILES USE_LOCALE USE_LOCALE_COLLATE
USE_LOCALE_CTYPE USE_LOCALE_NUMERIC USE_PERLIO
USE_PERL_ATOF USE_REENTRANT_API
Built under linux
Compiled at May 27 2014 16:06:22
%ENV:
PERL="5.20.0"
PERL5LIB=""
PERL5OPT=""
PERL5_CPANPLUS_IS_RUNNING="4754"
PERL5_CPAN_IS_RUNNING="4754"
PERLVER="5.20.0"
PERL_INLINE_DIRECTORY="/home/david/.Inline-5.20.0"
PERL_MM_USE_DEFAULT="1"
@INC:
/home/david/cpantesting/perl-5.20.0/lib/site_perl/5.20.0/x86_64-linux-thread-multi
/home/david/cpantesting/perl-5.20.0/lib/site_perl/5.20.0
/home/david/cpantesting/perl-5.20.0/lib/5.20.0/x86_64-linux-thread-multi
/home/david/cpantesting/perl-5.20.0/lib/5.20.0
.