Report for HTTP-Body-1.15

Back
From: metabase:user:44baa983-6bf6-1014-9a1d-e6daa5296772
Subject: PASS HTTP-Body-1.15 v5.12.3 Mac OS X
Date: 2012-03-11T20:35:07Z

This distribution has been tested as part of the CPAN Testers
project, supporting the Perl programming language.  See
http://wiki.cpantesters.org/ for more information or email
questions to cpan-testers-discuss@perl.org


--
Dear Torsten Raudssus,

This is a computer-generated report for HTTP-Body-1.15
on perl 5.12.3, created by CPAN-Reporter-1.2005.

Thank you for uploading your work to CPAN.  Congratulations!
All tests were successful.

Sections of this report:

    * Tester comments
    * Program output
    * Prerequisites
    * Environment and other context

------------------------------
TESTER COMMENTS
------------------------------

Additional comments from tester:

none provided

------------------------------
PROGRAM OUTPUT
------------------------------

Output from '/usr/bin/make test':

PERL_DL_NONLAZY=1 /opt/local/bin/perl "-MExtUtils::Command::MM" "-e" "test_harness(0, 'blib/lib', 'blib/arch')" t/*.t
t/01use.t ............... ok
t/02pod.t ............... skipped: set TEST_POD to enable this test
t/03podcoverage.t ....... skipped: set TEST_POD to enable this test
t/04critic.t ............ skipped: Critic test only for developers.
t/04multipart.t ......... ok
t/05urlencoded.t ........ ok
t/06octetstream.t ....... ok
t/07xforms.t ............ ok
t/08multipart-suffix.t .. ok
All tests successful.
Files=9, Tests=223,  0 wallclock secs ( 0.06 usr  0.02 sys +  0.56 cusr  0.06 csys =  0.70 CPU)
Result: PASS

------------------------------
PREREQUISITES
------------------------------

Prerequisite modules loaded:

requires:

    Module              Need Have 
    ------------------- ---- -----
    Carp                0    1.25 
    Digest::MD5         0    2.51 
    File::Temp          0.14 0.22 
    HTTP::Headers       0    6.00 
    IO::File            1.14 1.14 

build_requires:

    Module              Need Have 
    ------------------- ---- -----
    Test::Deep          0    0.109
    Test::More          0.86 0.98 

configure_requires:

    Module              Need Have 
    ------------------- ---- -----
    ExtUtils::MakeMaker 6.30 6.62 


------------------------------
ENVIRONMENT AND OTHER CONTEXT
------------------------------

Environment variables:

    LC_CTYPE = UTF-8
    PATH = /opt/local/bin:/opt/local/sbin:/usr/bin:/bin:/usr/sbin:/sbin:/usr/local/bin:/usr/X11/bin:/usr/burak/perl6/install/bin:/opt/local/bin:/home/burak/bin
    PERL5LIB = 
    PERL5OPT = 
    PERL5_CPANPLUS_IS_RUNNING = 70491
    PERL5_CPAN_IS_RUNNING = 70491
    SHELL = /bin/bash
    TERM = xterm-256color

Perl special variables (and OS-specific diagnostics, for MSWin32):

    $^X = /opt/local/bin/perl
    $UID/$EUID = 0 / 0
    $GID = 0 0 405 403 404 401 402 1 2 3 4 5 8 9 12 20 29
    $EGID = 0 0 405 403 404 401 402 1 2 3 4 5 8 9 12 20 29

Perl module toolchain versions installed:

    Module              Have    
    ------------------- --------
    CPAN                1.9800  
    CPAN::Meta          2.120630
    Cwd                 3.33    
    ExtUtils::CBuilder  0.280205
    ExtUtils::Command   1.17    
    ExtUtils::Install   1.55    
    ExtUtils::MakeMaker 6.62    
    ExtUtils::Manifest  1.60    
    ExtUtils::ParseXS   3.15    
    File::Spec          3.33    
    JSON                2.53    
    JSON::PP            2.27200 
    Module::Build       0.40    
    Module::Signature   n/a     
    Parse::CPAN::Meta   1.4402  
    Test::Harness       3.23    
    Test::More          0.98    
    YAML                0.80    
    YAML::Syck          n/a     
    version             0.96    


--

Summary of my perl5 (revision 5 version 12 subversion 3) configuration:
   
  Platform:
    osname=darwin, osvers=11.2.0, archname=darwin-multi-2level
    uname='darwin burak-mac-mini.local 11.2.0 darwin kernel version 11.2.0: tue aug 9 20:54:00 pdt 2011; root:xnu-1699.24.8~1release_x86_64 x86_64 '
    config_args='-D inc_version_list=5.12.2/darwin-multi-2level 5.12.2 5.12.1/darwin-multi-2level 5.12.1 5.12.0/darwin-multi-2level 5.12.0 -des -Dprefix=/opt/local -Dscriptdir=/opt/local/bin -Dcppflags=-I/opt/local/include -Dccflags=-pipe -O2 -arch x86_64 -Dldflags=-L/opt/local/lib -arch x86_64 -Dvendorprefix=/opt/local -Dusemultiplicity=y -D cc=/Developer/usr/bin/clang -D ld=/Developer/usr/bin/clang -D man1ext=1pm -D man3ext=3pm -D man1dir=/opt/local/share/man/man1p -D man3dir=/opt/local/share/man/man3p -D siteman1dir=/opt/local/share/man/man1 -D siteman3dir=/opt/local/share/man/man3 -D vendorman1dir=/opt/local/share/man/man1 -D vendorman3dir=/opt/local/share/man/man3 -D pager=/usr/bin/less -sR'
    hint=recommended, useposix=true, d_sigaction=define
    useithreads=undef, usemultiplicity=define
    useperlio=define, d_sfio=undef, uselargefiles=define, usesocks=undef
    use64bitint=define, use64bitall=define, uselongdouble=undef
    usemymalloc=n, bincompat5005=undef
  Compiler:
    cc='/Developer/usr/bin/clang', ccflags ='-pipe -O2 -arch x86_64 -fno-common -DPERL_DARWIN -I/opt/local/include -no-cpp-precomp -fno-strict-aliasing -fstack-protector -I/opt/local/include',
    optimize='-O3',
    cppflags='-I/opt/local/include -no-cpp-precomp -pipe -O2 -arch x86_64 -fno-common -DPERL_DARWIN -I/opt/local/include -no-cpp-precomp -fno-strict-aliasing -fstack-protector -I/opt/local/include'
    ccversion='', gccversion='4.2.1 Compatible Apple Clang 3.0 (tags/Apple/clang-211.10.1)', gccosandvers=''
    intsize=4, longsize=8, ptrsize=8, doublesize=8, byteorder=12345678
    d_longlong=define, longlongsize=8, d_longdbl=define, longdblsize=16
    ivtype='long', ivsize=8, nvtype='double', nvsize=8, Off_t='off_t', lseeksize=8
    alignbytes=8, prototype=define
  Linker and Libraries:
    ld='env MACOSX_DEPLOYMENT_TARGET=10.3 /Developer/usr/bin/clang', ldflags ='-L/opt/local/lib -arch x86_64 -fstack-protector'
    libpth=/opt/local/lib /usr/lib
    libs=-lgdbm -ldbm -ldl -lm -lutil -lc
    perllibs=-ldl -lm -lutil -lc
    libc=, so=dylib, useshrplib=false, libperl=libperl.a
    gnulibc_version=''
  Dynamic Linking:
    dlsrc=dl_dlopen.xs, dlext=bundle, d_dlsymun=undef, ccdlflags=' '
    cccdlflags=' ', lddlflags='-L/opt/local/lib -arch x86_64 -bundle -undefined dynamic_lookup -fstack-protector'


Characteristics of this binary (from libperl): 
  Compile-time options: MULTIPLICITY PERL_DONT_CREATE_GVSV
                        PERL_IMPLICIT_CONTEXT PERL_MALLOC_WRAP USE_64_BIT_ALL
                        USE_64_BIT_INT USE_LARGE_FILES USE_PERLIO
                        USE_PERL_ATOF
  Built under darwin
  Compiled at Nov 11 2011 00:52:05
  %ENV:
    PERL5LIB=""
    PERL5OPT=""
    PERL5_CPANPLUS_IS_RUNNING="70491"
    PERL5_CPAN_IS_RUNNING="70491"
  @INC:
    /opt/local/lib/perl5/site_perl/5.12.3/darwin-multi-2level
    /opt/local/lib/perl5/site_perl/5.12.3
    /opt/local/lib/perl5/vendor_perl/5.12.3/darwin-multi-2level
    /opt/local/lib/perl5/vendor_perl/5.12.3
    /opt/local/lib/perl5/5.12.3/darwin-multi-2level
    /opt/local/lib/perl5/5.12.3
    /opt/local/lib/perl5/site_perl
    /opt/local/lib/perl5/vendor_perl
    .