Inline-CPP v0.80 Perl 5 v5.18.0 x86_64-linux

Status
Pass
From
Andreas J. König (ANDK)
Dist
Inline-CPP v0.80
Platform
Perl 5 v5.18.0 x86_64-linux
Date
2022-08-13 09:09:52
ID
b0aef2c6-1ae7-11ed-be9e-a13a1363211c
This distribution has been tested as part of the CPAN Testers
project, supporting the Perl programming language.  See
http://wiki.cpantesters.org/ for more information or email
questions to cpan-testers-discuss@perl.org


--
Dear David J. Oswald,

This is a computer-generated report for Inline-CPP-0.80
on perl 5.18.0, created by CPAN-Reporter-1.2018.

Thank you for uploading your work to CPAN.  Congratulations!
All tests were successful.

Sections of this report:

    * Tester comments
    * Program output
    * Prerequisites
    * Environment and other context

------------------------------
TESTER COMMENTS
------------------------------

Additional comments from tester:

this report is from an automated smoke testing program
and was not reviewed by a human for accuracy

------------------------------
PROGRAM OUTPUT
------------------------------

Output from '/usr/bin/make test':

PERL_DL_NONLAZY=1 "/home/sand/src/perl/repoperls/installed-perls/host/k93msid/v5.18.0/bb7f/bin/perl" "-MExtUtils::Command::MM" "-MTest::Harness" "-e" "undef *Test::Harness::Switches; test_harness(0, 'blib/lib', 'blib/arch')" t/*.t t/*/*.t
# $Config{osname}:     linux
# $Config{cc}:         cc
# $Config{gccversion}: 9.2.1 20191109
t/00load_prereqs.t .................... ok
t/01fn_cans.t ......................... ok
t/02basic.t ........................... ok
t/03prefix.t .......................... ok
t/04charptr.t ......................... ok
t/06fn_regress.t ...................... ok
# 
# Compiler guesses:
# 	EU::CppGuess:    [g++ -fwrapv -DDEBUGGING -fno-strict-aliasing -pipe -fstack-protector -I/usr/local/include -D_LARGEFILE_SOURCE -D_FILE_OFFSET_BITS=64 -xc++],
# 	Old Makefile.PL: [g++].
# Linker guesses:
# 	EU::CppGuess:    [-lstdc++],
# 	Old Makefile.PL: [-lstdc++].
t/08cppguess.t ........................ ok
t/12custom_libs.t ..................... ok
t/15config_case.t ..................... ok
<-----------------------Information Section----------------------------------->

Information about the processing of your Inline CPP code:

Your source code needs to be compiled. I'll use this build directory:
/home/sand/.Inline/build/_16info_t_2ec053d

and I'll install the executable as:
/home/sand/.Inline/lib/auto/_16info_t_2ec053d/_16info_t_2ec053d.so

The following Inline CPP function(s) have been successfully bound to Perl:
	int add(int x, int y)
The following functions have been bound to Perl:
	int add(int x, int y);


<-----------------------End of Information Section---------------------------->
t/16info.t ............................ ok
t/classes/01empty_ns_is_main.t ........ ok
t/classes/02main_ns_is_main.t ......... ok
t/classes/03baz_ns_is_baz.t ........... ok
t/classes/04invoke_from_non_main.t .... ok
t/classes/05invalid_classes.t ......... ok
t/classes/06inherit.t ................. ok
t/classes/07conflict_avoid.t .......... skipped: Inline::Filters required for conflict avoidance testing.
t/classes/08auto.t .................... ok
t/classes/09auto_mixed.t .............. ok
t/classes/10auto_inherit.t ............ ok
t/grammar/01nherit.t .................. ok
t/grammar/02scope.t ................... ok
t/grammar/03inline.t .................. ok
t/grammar/04const.t ................... ok
t/grammar/05virt.t .................... ok
t/grammar/06deflt.t ................... ok
t/grammar/07static.t .................. ok
t/grammar/08anon.t .................... ok
t/grammar/09purevt.t .................. ok
t/grammar/10struct.t .................. ok
t/grammar/11minhrt.t .................. ok
t/grammar/12retlst.t .................. ok
t/grammar/13vararg.t .................. ok
t/grammar/14const.t ................... ok
t/grammar/15stvar.t ................... ok
t/grammar/16varlst.t .................. ok
t/grammar/17memberarray.t ............. ok
t/grammar/18namespace.t ............... ok
t/grammar/19multidimarray.t ........... ok
t/namespace/01empty_ns_is_main.t ...... ok
t/namespace/02main_ns_is_main.t ....... ok
t/namespace/03baz_ns_is_baz.t ......... ok
t/namespace/04invoke_from_non_main.t .. ok
t/namespace/05invalid_ns.t ............ ok
t/namespace/06inherit.t ............... ok
All tests successful.

Test Summary Report
-------------------
t/08cppguess.t                      (Wstat: 0 Tests: 2 Failed: 0)
  TODO passed:   2
t/grammar/11minhrt.t                (Wstat: 0 Tests: 38 Failed: 0)
  TODO passed:   23-24, 28-31
Files=45, Tests=265, 193 wallclock secs ( 0.14 usr  0.14 sys + 78.93 cusr 26.99 csys = 106.20 CPU)
Result: PASS

------------------------------
PREREQUISITES
------------------------------

Prerequisite modules loaded:

requires:

    Module              Need     Have    
    ------------------- -------- --------
    Carp                0        1.50    
    Config              0        5.018000
    Inline              0.82     0.86    
    Inline::C           0.80     0.82    
    Parse::RecDescent   0        1.967015
    perl                5.008001 5.018000

build_requires:

    Module              Need     Have    
    ------------------- -------- --------
    ExtUtils::MakeMaker 0        7.65_01 
    File::Temp          0        0.2311  
    FindBin             0        1.51    
    Test::More          1.001009 1.302191

configure_requires:

    Module              Need     Have    
    ------------------- -------- --------
    ExtUtils::CppGuess  0.15     0.26    
    ExtUtils::MakeMaker 7.04     7.65_01 


------------------------------
ENVIRONMENT AND OTHER CONTEXT
------------------------------

Environment variables:

    AUTOMATED_TESTING = 1
    LANG = en_US.UTF-8
    LANGUAGE = en_US:en
    PATH = /home/sand/bin:/usr/local/bin:/usr/bin:/bin:/usr/games:/usr/local/perl/bin:/usr/X11/bin:/sbin:/usr/sbin
    PERL5LIB = 
    PERL5OPT = 
    PERL5_CPANPLUS_IS_RUNNING = 1052357
    PERL5_CPAN_IS_RUNNING = 1052357
    PERL_CANARY_STABILITY_NOPROMPT = 1
    PERL_MM_USE_DEFAULT = 1
    PERL_USE_UNSAFE_INC = 1
    SHELL = /usr/bin/zsh
    TERM = screen

Perl special variables (and OS-specific diagnostics, for MSWin32):

    $^X = /home/sand/src/perl/repoperls/installed-perls/host/k93msid/v5.18.0/bb7f/bin/perl
    $UID/$EUID = 1005 / 1005
    $GID = 1005 1005
    $EGID = 1005 1005

Perl module toolchain versions installed:

    Module              Have    
    ------------------- --------
    CPAN                2.34    
    CPAN::Meta          2.150010
    Cwd                 3.75    
    ExtUtils::CBuilder  0.280236
    ExtUtils::Command   7.65_01 
    ExtUtils::Install   2.06    
    ExtUtils::MakeMaker 7.65_01 
    ExtUtils::Manifest  1.70    
    ExtUtils::ParseXS   3.44    
    File::Spec          3.75    
    JSON                4.07    
    JSON::PP            4.10    
    Module::Build       0.4231  
    Module::Signature   0.88    
    Parse::CPAN::Meta   2.150010
    Test::Harness       3.44    
    Test::More          1.302191
    YAML                1.30    
    YAML::Syck          1.34    
    version             0.9929  


--

Summary of my perl5 (revision 5 version 18 subversion 0) configuration:
  Derived from: a9acda3b5f74585852a57b51b724804ac586cb0b
  Platform:
    osname=linux, osvers=5.3.0-2-amd64, archname=x86_64-linux
    uname='linux k93msid 5.3.0-2-amd64 #1 smp debian 5.3.9-3 (2019-11-19) x86_64 gnulinux '
    config_args='-Dprefix=/home/sand/src/perl/repoperls/installed-perls/host/k93msid/v5.18.0/bb7f -Dmyhostname=k93msid -Dinstallusrbinperl=n -Uversiononly -Dusedevel -des -Ui_db -Dlibswanted=cl pthread socket inet nsl gdbm dbm malloc dl ld sun m crypt sec util c cposix posix ucb BSD gdbm_compat -Uuseithreads -Uuselongdouble -DEBUGGING=both'
    hint=recommended, useposix=true, d_sigaction=define
    useithreads=undef, usemultiplicity=undef
    useperlio=define, d_sfio=undef, uselargefiles=define, usesocks=undef
    use64bitint=define, use64bitall=define, uselongdouble=undef
    usemymalloc=n, bincompat5005=undef
  Compiler:
    cc='cc', ccflags ='-fwrapv -DDEBUGGING -fno-strict-aliasing -pipe -fstack-protector -I/usr/local/include -D_LARGEFILE_SOURCE -D_FILE_OFFSET_BITS=64',
    optimize='-O2 -g',
    cppflags='-fwrapv -DDEBUGGING -fno-strict-aliasing -pipe -fstack-protector -I/usr/local/include'
    ccversion='', gccversion='9.2.1 20191109', gccosandvers=''
    intsize=4, longsize=8, ptrsize=8, doublesize=8, byteorder=12345678
    d_longlong=define, longlongsize=8, d_longdbl=define, longdblsize=16
    ivtype='long', ivsize=8, nvtype='double', nvsize=8, Off_t='off_t', lseeksize=8
    alignbytes=8, prototype=define
  Linker and Libraries:
    ld='cc', ldflags =' -fstack-protector -L/usr/local/lib'
    libpth=/usr/local/lib /lib/x86_64-linux-gnu /lib/../lib /usr/lib/x86_64-linux-gnu /usr/lib/../lib /lib /usr/lib
    libs=-lpthread -lnsl -ldl -lm -lcrypt -lutil -lc
    perllibs=-lpthread -lnsl -ldl -lm -lcrypt -lutil -lc
    libc=libc-2.29.so, so=so, useshrplib=false, libperl=libperl.a
    gnulibc_version='2.29'
  Dynamic Linking:
    dlsrc=dl_dlopen.xs, dlext=so, d_dlsymun=undef, ccdlflags='-Wl,-E'
    cccdlflags='-fPIC', lddlflags='-shared -O2 -g -L/usr/local/lib -fstack-protector'


Characteristics of this binary (from libperl): 
  Compile-time options: DEBUGGING HAS_TIMES PERLIO_LAYERS
                        PERL_DONT_CREATE_GVSV
                        PERL_HASH_FUNC_ONE_AT_A_TIME_HARD PERL_MALLOC_WRAP
                        PERL_PRESERVE_IVUV PERL_SAWAMPERSAND PERL_USE_DEVEL
                        USE_64_BIT_ALL USE_64_BIT_INT USE_LARGE_FILES
                        USE_LOCALE USE_LOCALE_COLLATE USE_LOCALE_CTYPE
                        USE_LOCALE_NUMERIC USE_PERLIO USE_PERL_ATOF
  Locally applied patches:
	uncommitted-changes
  Built under linux
  Compiled at May 18 2020 02:00:48
  %ENV:
    PERL5LIB=""
    PERL5OPT=""
    PERL5_CPANPLUS_IS_RUNNING="1052357"
    PERL5_CPAN_IS_RUNNING="1052357"
    PERL_CANARY_STABILITY_NOPROMPT="1"
    PERL_MM_USE_DEFAULT="1"
    PERL_USE_UNSAFE_INC="1"
  @INC:
    /home/sand/src/perl/repoperls/installed-perls/host/k93msid/v5.18.0/bb7f/lib/site_perl/5.18.0/x86_64-linux
    /home/sand/src/perl/repoperls/installed-perls/host/k93msid/v5.18.0/bb7f/lib/site_perl/5.18.0
    /home/sand/src/perl/repoperls/installed-perls/host/k93msid/v5.18.0/bb7f/lib/5.18.0/x86_64-linux
    /home/sand/src/perl/repoperls/installed-perls/host/k93msid/v5.18.0/bb7f/lib/5.18.0
    .