HTML-Mason v1.57 Perl 5 v5.14.1 x86_64-linux-thread-multi

Status
Pass
From
Nigel Horne
Dist
HTML-Mason v1.57
Platform
Perl 5 v5.14.1 x86_64-linux-thread-multi
Date
2017-10-29 17:14:58
ID
b0b829dc-bccc-11e7-a2a8-d0c13ad602b4
This distribution has been tested as part of the CPAN Testers
project, supporting the Perl programming language.  See
http://wiki.cpantesters.org/ for more information or email
questions to cpan-testers-discuss@perl.org


--
Dear Dave Rolsky,

This is a computer-generated report for HTML-Mason-1.57
on perl 5.14.1, created by CPAN-Reporter-1.2018.

Thank you for uploading your work to CPAN.  Congratulations!
All tests were successful.

Sections of this report:

    * Tester comments
    * Program output
    * Prerequisites
    * Environment and other context

------------------------------
TESTER COMMENTS
------------------------------

Additional comments from tester:

this report is from an automated smoke testing program
and was not reviewed by a human for accuracy

------------------------------
PROGRAM OUTPUT
------------------------------

Output from '/usr/bin/make test':

PERL_DL_NONLAZY=1 "/home/njh/perl5/perlbrew/perls/perl-5.14.1/bin/perl" "-MExtUtils::Command::MM" "-MTest::Harness" "-e" "undef *Test::Harness::Switches; test_harness(0, 'blib/lib', 'blib/arch')" t/*.t
t/01-syntax.t ................. ok
# 
# Versions for all modules listed in MYMETA.json (including optional ones):
# 
# === Configure Requires ===
# 
#     Module              Want Have
#     ------------------- ---- ----
#     ExtUtils::MakeMaker  any 7.22
# 
# === Configure Suggests ===
# 
#     Module      Want    Have
#     -------- ------- -------
#     JSON::PP 2.27300 2.27400
# 
# === Build Requires ===
# 
#     Module              Want Have
#     ------------------- ---- ----
#     ExtUtils::MakeMaker  any 7.22
# 
# === Test Requires ===
# 
#     Module              Want     Have
#     ------------------- ---- --------
#     ExtUtils::MakeMaker  any     7.22
#     File::Spec           0.8     3.47
#     Test::Deep           any    1.127
#     Test::More          0.96 1.302086
# 
# === Test Recommends ===
# 
#     Module         Want     Have
#     ---------- -------- --------
#     CPAN::Meta 2.120900 2.150005
# 
# === Runtime Requires ===
# 
#     Module           Want Have
#     ---------------- ---- ----
#     CGI              2.46 3.52
#     Cache::Cache     1.00 1.08
#     Class::Container 0.07 0.12
#     Exception::Class 1.15 1.39
#     File::Spec        0.8 3.47
#     HTML::Entities    any 3.69
#     Log::Any         0.08 0.15
#     Params::Validate 0.70 1.29
#     Scalar::Util     1.01 1.41
# 
t/00-report-prereqs.t ......... ok
t/01a-comp-calls.t ............ ok
t/02-sections.t ............... ok
t/02a-filter.t ................ ok
t/04-misc.t ................... ok
t/05a-stack-corruption.t ...... ok
t/05-request.t ................ ok
t/06a-compiler_obj.t .......... ok
t/06b-compiler-named-subs.t ... ok
t/06-compiler.t ............... ok
t/06c-compiler-spaces-path.t .. ok
t/07a-interp-mcr.t ............ ok
t/07-interp.t ................. ok
t/09-component.t .............. ok
t/09a-comp_content.t .......... ok
t/07b-interp-static-source.t .. ok
t/10a-cache-1.0x.t ............ ok
t/10b-cache-chi.t ............. skipped: CHI 0.21+ is not installed
t/11-inherit.t ................ ok
t/12-taint.t .................. ok
t/13-errors.t ................. ok
t/14-cgi.t .................... ok
t/14a-fake_apache.t ........... ok
t/15-subclass.t ............... ok
t/17-print.t .................. ok
t/18-leak.t ................... ok
t/19-subrequest.t ............. ok
t/20-plugins.t ................ ok
t/21-escapes.t ................ ok
t/22-path-security.t .......... ok
t/23-leak2.t .................. skipped: These tests require Test::Memory::Cycle to run.
t/24-tools.t .................. ok
t/25-flush-in-content.t ....... ok
t/25-log.t .................... ok
t/10-cache.t .................. ok
All tests successful.
Files=36, Tests=515, 14 wallclock secs ( 0.27 usr  0.08 sys +  8.62 cusr  1.96 csys = 10.93 CPU)
Result: PASS

------------------------------
PREREQUISITES
------------------------------

Prerequisite modules loaded:

requires:

    Module              Need Have    
    ------------------- ---- --------
    Cache::Cache        1.00 1.08    
    CGI                 2.46 3.52    
    Class::Container    0.07 0.12    
    Exception::Class    1.15 1.39    
    File::Spec          0.8  3.47    
    HTML::Entities      0    3.69    
    Log::Any            0.08 0.15    
    Params::Validate    0.70 1.29    
    Scalar::Util        1.01 1.41    

build_requires:

    Module              Need Have    
    ------------------- ---- --------
    ExtUtils::MakeMaker 0    7.22    
    File::Spec          0.8  3.47    
    Test::Deep          0    1.127   
    Test::More          0.96 1.302086

configure_requires:

    Module              Need Have    
    ------------------- ---- --------
    ExtUtils::MakeMaker 0    7.22    


------------------------------
ENVIRONMENT AND OTHER CONTEXT
------------------------------

Environment variables:

    AUTOMATED_TESTING = 1
    HARNESS_OPTIONS = j2
    LANG = en_GB.UTF-8
    LANGUAGE = en_GB:en
    PATH = /home/njh/perl5/perlbrew/bin:/home/njh/perl5/perlbrew/perls/perl-5.14.1/bin:/home/njh/perl5/perlbrew/bin:/usr/bin:/bin
    PERL5LIB = /home/njh/.cpan/build/Class-Container-0.12-13/blib/arch:/home/njh/.cpan/build/Class-Container-0.12-13/blib/lib:/home/njh/.cpan/build/Params-Validate-1.29-18/blib/arch:/home/njh/.cpan/build/Params-Validate-1.29-18/blib/lib:/home/njh/.cpan/build/Module-Implementation-0.09-15/blib/arch:/home/njh/.cpan/build/Module-Implementation-0.09-15/blib/lib:/home/njh/.cpan/build/Cache-Cache-1.08-12/blib/arch:/home/njh/.cpan/build/Cache-Cache-1.08-12/blib/lib:/home/njh/.cpan/build/Error-0.17025-12/blib/arch:/home/njh/.cpan/build/Error-0.17025-12/blib/lib:/home/njh/.cpan/build/Digest-SHA1-2.13-12/blib/arch:/home/njh/.cpan/build/Digest-SHA1-2.13-12/blib/lib
    PERL5OPT = 
    PERL5_CPANPLUS_IS_RUNNING = 20722
    PERL5_CPAN_IS_RUNNING = 20722
    PERLBREW_BASHRC_VERSION = 0.75
    PERLBREW_HOME = /home/njh/.perlbrew
    PERLBREW_LIB = 
    PERLBREW_MANPATH = /home/njh/perl5/perlbrew/perls/perl-5.14.1/man
    PERLBREW_PATH = /home/njh/perl5/perlbrew/bin:/home/njh/perl5/perlbrew/perls/perl-5.14.1/bin
    PERLBREW_PERL = perl-5.14.1
    PERLBREW_ROOT = /home/njh/perl5/perlbrew
    PERLBREW_VERSION = 0.75
    PERL_LOCAL_LIB_ROOT = 
    SHELL = /bin/sh

Perl special variables (and OS-specific diagnostics, for MSWin32):

    $^X = /home/njh/perl5/perlbrew/perls/perl-5.14.1/bin/perl
    $UID/$EUID = 1000 / 1000
    $GID = 1000 4 24 25 29 30 44 46 103 108 116 127 1000
    $EGID = 1000 4 24 25 29 30 44 46 103 108 116 127 1000

Perl module toolchain versions installed:

    Module              Have    
    ------------------- --------
    CPAN                2.16    
    CPAN::Meta          2.150005
    Cwd                 3.47    
    ExtUtils::CBuilder  0.280220
    ExtUtils::Command   7.22    
    ExtUtils::Install   1.56    
    ExtUtils::MakeMaker 7.22    
    ExtUtils::Manifest  1.70    
    ExtUtils::ParseXS   3.30    
    File::Spec          3.47    
    JSON                2.90    
    JSON::PP            2.27400 
    Module::Build       0.4210  
    Module::Signature   n/a     
    Parse::CPAN::Meta   1.4422  
    Test::Harness       3.36    
    Test::More          1.302086
    YAML                1.23    
    YAML::Syck          1.30    
    version             0.88    


--

Summary of my perl5 (revision 5 version 14 subversion 1) configuration:
   
  Platform:
    osname=linux, osvers=3.16-3-amd64, archname=x86_64-linux-thread-multi
    uname='linux compaq 3.16-3-amd64 #1 smp debian 3.16.5-1 (2014-10-10) x86_64 gnulinux '
    config_args='-de -Dprefix=/home/njh/perl5/perlbrew/perls/perl-5.14.1 -Duseithreads -Dusemultiplicity -Dusedevel -Accflags= -Aeval:scriptdir=/home/njh/perl5/perlbrew/perls/perl-5.14.1/bin'
    hint=recommended, useposix=true, d_sigaction=define
    useithreads=define, usemultiplicity=define
    useperlio=define, d_sfio=undef, uselargefiles=define, usesocks=undef
    use64bitint=define, use64bitall=define, uselongdouble=undef
    usemymalloc=n, bincompat5005=undef
  Compiler:
    cc='cc', ccflags ='-D_REENTRANT -D_GNU_SOURCE -fno-strict-aliasing -pipe -fstack-protector -I/usr/local/include -D_LARGEFILE_SOURCE -D_FILE_OFFSET_BITS=64',
    optimize='-O2',
    cppflags='-D_REENTRANT -D_GNU_SOURCE -fno-strict-aliasing -pipe -fstack-protector -I/usr/local/include'
    ccversion='', gccversion='4.9.2', gccosandvers=''
    intsize=4, longsize=8, ptrsize=8, doublesize=8, byteorder=12345678
    d_longlong=define, longlongsize=8, d_longdbl=define, longdblsize=16
    ivtype='long', ivsize=8, nvtype='double', nvsize=8, Off_t='off_t', lseeksize=8
    alignbytes=8, prototype=define
  Linker and Libraries:
    ld='cc', ldflags =' -fstack-protector -L/usr/local/lib'
    libpth=/usr/local/lib /lib/x86_64-linux-gnu /lib/../lib /usr/lib/x86_64-linux-gnu /usr/lib/../lib /lib /usr/lib
    libs=-lnsl -lgdbm -ldb -ldl -lm -lcrypt -lutil -lpthread -lc -lgdbm_compat
    perllibs=-lnsl -ldl -lm -lcrypt -lutil -lpthread -lc
    libc=, so=so, useshrplib=false, libperl=libperl.a
    gnulibc_version='2.19'
  Dynamic Linking:
    dlsrc=dl_dlopen.xs, dlext=so, d_dlsymun=undef, ccdlflags='-Wl,-E'
    cccdlflags='-fPIC', lddlflags='-shared -O2 -L/usr/local/lib -fstack-protector'


Characteristics of this binary (from libperl): 
  Compile-time options: MULTIPLICITY PERL_DONT_CREATE_GVSV
                        PERL_IMPLICIT_CONTEXT PERL_MALLOC_WRAP
                        PERL_PRESERVE_IVUV PERL_USE_DEVEL USE_64_BIT_ALL
                        USE_64_BIT_INT USE_ITHREADS USE_LARGE_FILES
                        USE_PERLIO USE_PERL_ATOF USE_REENTRANT_API
  Built under linux
  Compiled at Nov 15 2014 02:27:42
  %ENV:
    PERL5LIB="/home/njh/.cpan/build/Class-Container-0.12-13/blib/arch:/home/njh/.cpan/build/Class-Container-0.12-13/blib/lib:/home/njh/.cpan/build/Params-Validate-1.29-18/blib/arch:/home/njh/.cpan/build/Params-Validate-1.29-18/blib/lib:/home/njh/.cpan/build/Module-Implementation-0.09-15/blib/arch:/home/njh/.cpan/build/Module-Implementation-0.09-15/blib/lib:/home/njh/.cpan/build/Cache-Cache-1.08-12/blib/arch:/home/njh/.cpan/build/Cache-Cache-1.08-12/blib/lib:/home/njh/.cpan/build/Error-0.17025-12/blib/arch:/home/njh/.cpan/build/Error-0.17025-12/blib/lib:/home/njh/.cpan/build/Digest-SHA1-2.13-12/blib/arch:/home/njh/.cpan/build/Digest-SHA1-2.13-12/blib/lib"
    PERL5OPT=""
    PERL5_CPANPLUS_IS_RUNNING="20722"
    PERL5_CPAN_IS_RUNNING="20722"
    PERLBREW_BASHRC_VERSION="0.75"
    PERLBREW_HOME="/home/njh/.perlbrew"
    PERLBREW_LIB=""
    PERLBREW_MANPATH="/home/njh/perl5/perlbrew/perls/perl-5.14.1/man"
    PERLBREW_PATH="/home/njh/perl5/perlbrew/bin:/home/njh/perl5/perlbrew/perls/perl-5.14.1/bin"
    PERLBREW_PERL="perl-5.14.1"
    PERLBREW_ROOT="/home/njh/perl5/perlbrew"
    PERLBREW_VERSION="0.75"
    PERL_LOCAL_LIB_ROOT=""
  @INC:
    /home/njh/.cpan/build/Class-Container-0.12-13/blib/arch
    /home/njh/.cpan/build/Class-Container-0.12-13/blib/lib
    /home/njh/.cpan/build/Params-Validate-1.29-18/blib/arch
    /home/njh/.cpan/build/Params-Validate-1.29-18/blib/lib
    /home/njh/.cpan/build/Module-Implementation-0.09-15/blib/arch
    /home/njh/.cpan/build/Module-Implementation-0.09-15/blib/lib
    /home/njh/.cpan/build/Cache-Cache-1.08-12/blib/arch
    /home/njh/.cpan/build/Cache-Cache-1.08-12/blib/lib
    /home/njh/.cpan/build/Error-0.17025-12/blib/arch
    /home/njh/.cpan/build/Error-0.17025-12/blib/lib
    /home/njh/.cpan/build/Digest-SHA1-2.13-12/blib/arch
    /home/njh/.cpan/build/Digest-SHA1-2.13-12/blib/lib
    /home/njh/perl5/perlbrew/perls/perl-5.14.1/lib/site_perl/5.14.1/x86_64-linux-thread-multi
    /home/njh/perl5/perlbrew/perls/perl-5.14.1/lib/site_perl/5.14.1
    /home/njh/perl5/perlbrew/perls/perl-5.14.1/lib/5.14.1/x86_64-linux-thread-multi
    /home/njh/perl5/perlbrew/perls/perl-5.14.1/lib/5.14.1
    .