Weather-OpenWeatherMap v0.005004 Perl 5 v5.24.3 OpenBSD.amd64-openbsd

Status
Pass
From
Alceu Rodrigues de Freitas Junior
Dist
Weather-OpenWeatherMap v0.005004
Platform
Perl 5 v5.24.3 OpenBSD.amd64-openbsd
Date
2018-02-20 06:38:41
ID
b0b928b0-1608-11e8-98b5-f8bbf24e1a0e
This distribution has been tested as part of the CPAN Testers
project, supporting the Perl programming language.  See
http://wiki.cpantesters.org/ for more information or email
questions to cpan-testers-discuss@perl.org


--
Dear Jon Portnoy (PAUSE Custodial Account),

This is a computer-generated report for Weather-OpenWeatherMap-0.005004
on perl 5.24.3, created by CPAN-Reporter-1.2018.

Thank you for uploading your work to CPAN.  Congratulations!
All tests were successful.

Sections of this report:

    * Tester comments
    * Program output
    * Prerequisites
    * Environment and other context

------------------------------
TESTER COMMENTS
------------------------------

Additional comments from tester:

this report is from an automated smoke testing program
and was not reviewed by a human for accuracy

------------------------------
PROGRAM OUTPUT
------------------------------

Output from '/usr/bin/make test':

Skip blib/lib/auto/share/dist/Weather-OpenWeatherMap/failure.json (unchanged)
Skip blib/lib/auto/share/dist/Weather-OpenWeatherMap/3day.json (unchanged)
Skip blib/lib/auto/share/dist/Weather-OpenWeatherMap/hourly.json (unchanged)
Skip blib/lib/auto/share/dist/Weather-OpenWeatherMap/find.json (unchanged)
Skip blib/lib/auto/share/dist/Weather-OpenWeatherMap/current.json (unchanged)
PERL_DL_NONLAZY=1 "/home/goku/perl5/perlbrew/perls/perl-5.24.3/bin/perl" "-MExtUtils::Command::MM" "-MTest::Harness" "-e" "undef *Test::Harness::Switches; test_harness(0, 'blib/lib', 'blib/arch')" t/*.t t/request/*.t t/request/forecast/*.t t/result/*.t t/result/forecast/*.t
# 
# Versions for all modules listed in MYMETA.json (including optional ones):
# 
# === Configure Requires ===
# 
#     Module                  Want    Have
#     ----------------------- ---- -------
#     ExtUtils::MakeMaker      any 7.31_08
#     File::ShareDir::Install 0.06    0.11
# 
# === Build Requires ===
# 
#     Module              Want    Have
#     ------------------- ---- -------
#     ExtUtils::MakeMaker  any 7.31_08
# 
# === Test Requires ===
# 
#     Module               Want     Have
#     -------------------- ---- --------
#     Devel::Cycle          any     1.12
#     ExtUtils::MakeMaker   any  7.31_08
#     File::Spec            any  3.63_01
#     Test::File::ShareDir    1 1.001002
#     Test::More            any 1.302122
#     Test::Roo               1    1.004
# 
# === Test Recommends ===
# 
#     Module         Want     Have
#     ---------- -------- --------
#     CPAN::Meta 2.120900 2.150010
# 
# === Runtime Requires ===
# 
#     Module                       Want     Have
#     ------------------------ -------- --------
#     Carp                          any     1.40
#     Digest::SHA                   any     6.01
#     Exporter::Tiny                any 1.000000
#     File::ShareDir                any    1.104
#     HTTP::Request                 any     6.14
#     JSON::MaybeXS                 any 1.003010
#     LWP::UserAgent                any     6.26
#     List::Objects::Types            1 2.001001
#     List::Objects::WithUtils 2.010002 2.028003
#     Module::Runtime               any    0.016
#     Moo                             2 2.003004
#     Path::Tiny                   0.05    0.104
#     Throwable                     0.2 0.200013
#     Try::Tiny                     any     0.30
#     Types::DateTime               any    0.002
#     Types::Path::Tiny           0.005    0.005
#     Types::Standard               any 1.002001
#     URI::Escape                   any     3.31
#     strictures                      2 2.000003
# 
t/00-report-prereqs.t ........ ok
t/author-no-tabs.t ........... skipped: these tests are for testing by the author
t/author-pod-syntax.t ........ skipped: these tests are for testing by the author
        # Sleeping 1 second
        # Sleeping 1 second
t/cache.t .................... ok
t/error.t .................... ok
t/openweathermap.t ........... ok
t/release-cpan-changes.t ..... skipped: these tests are for release candidate testing
t/release-dist-manifest.t .... skipped: these tests are for release candidate testing
t/release-pod-linkcheck.t .... skipped: these tests are for release candidate testing
t/release-synopsis.t ......... skipped: these tests are for release candidate testing
t/release-unused-vars.t ...... skipped: these tests are for release candidate testing
t/request/current.t .......... ok
t/request/find.t ............. ok
t/request/forecast/daily.t ... ok
t/request/forecast/hourly.t .. ok
t/result/current.t ........... ok
t/result/find.t .............. ok
t/result/forecast/daily.t .... ok
t/result/forecast/hourly.t ... ok
t/units.t .................... ok
All tests successful.
Files=20, Tests=23, 12 wallclock secs ( 0.08 usr  0.19 sys +  7.68 cusr  1.09 csys =  9.04 CPU)
Result: PASS

------------------------------
PREREQUISITES
------------------------------

Prerequisite modules loaded:

requires:

    Module                   Need     Have    
    ------------------------ -------- --------
    Carp                     0        1.40    
    Digest::SHA              0        6.01    
    Exporter::Tiny           0        1.000000
    File::ShareDir           0        1.104   
    HTTP::Request            0        6.14    
    JSON::MaybeXS            0        1.003010
    List::Objects::Types     1        2.001001
    List::Objects::WithUtils 2.010002 2.028003
    LWP::UserAgent           0        6.26    
    Module::Runtime          0        0.016   
    Moo                      2        2.003004
    Path::Tiny               0.05     0.104   
    perl                     5.010001 5.024003
    strictures               2        2.000003
    Throwable                0.2      0.200013
    Try::Tiny                0        0.30    
    Types::DateTime          0        0.002   
    Types::Path::Tiny        0.005    0.005   
    Types::Standard          0        1.002001
    URI::Escape              0        3.31    

build_requires:

    Module                   Need     Have    
    ------------------------ -------- --------
    Devel::Cycle             0        1.12    
    ExtUtils::MakeMaker      0        7.31_08 
    File::Spec               0        3.63_01 
    Test::File::ShareDir     1        1.001002
    Test::More               0        1.302122
    Test::Roo                1        1.004   

configure_requires:

    Module                   Need     Have    
    ------------------------ -------- --------
    ExtUtils::MakeMaker      0        7.31_08 
    File::ShareDir::Install  0.06     0.11    

opt_build_requires:

    Module                   Need     Have    
    ------------------------ -------- --------
    CPAN::Meta               2.120900 2.150010


------------------------------
ENVIRONMENT AND OTHER CONTEXT
------------------------------

Environment variables:

    AUTOMATED_TESTING = 1
    DBD_MYSQL_TESTDB = test
    DBD_MYSQL_TESTHOST = localhost
    DBD_MYSQL_TESTPASSWORD = 
    DBD_MYSQL_TESTPORT = 3306
    DBD_MYSQL_TESTUSER = goku
    EXTENDED_TESTING = 1
    PATH = /home/goku/perl5/perlbrew/bin:/home/goku/perl5/perlbrew/perls/perl-5.24.3/bin:/home/goku/bin:/usr/bin:/bin:/usr/sbin:/sbin:/usr/X11R6/bin:/usr/local/bin:/usr/local/sbin
    PERL5LIB = 
    PERL5OPT = 
    PERL5_CPANPLUS_IS_RUNNING = 35343
    PERL5_CPAN_IS_RUNNING = 35343
    PERL5_CPAN_IS_RUNNING_IN_RECURSION = 72512,35343
    PERLBREW_HOME = /home/goku/.perlbrew
    PERLBREW_MANPATH = /home/goku/perl5/perlbrew/perls/perl-5.24.3/man
    PERLBREW_PATH = /home/goku/perl5/perlbrew/bin:/home/goku/perl5/perlbrew/perls/perl-5.24.3/bin
    PERLBREW_PERL = perl-5.24.3
    PERLBREW_ROOT = /home/goku/perl5/perlbrew
    PERLBREW_SHELLRC_VERSION = 0.82
    PERLBREW_VERSION = 0.82
    PERL_CR_SMOKER_CURRENT = POEx-Weather-OpenWeatherMap-0.003002
    PERL_EXTUTILS_AUTOINSTALL = --defaultdeps
    PERL_MM_USE_DEFAULT = 1
    PERL_USE_UNSAFE_INC = 1
    SHELL = /usr/local/bin/bash
    TERM = xterm

Perl special variables (and OS-specific diagnostics, for MSWin32):

    $^X = /home/goku/perl5/perlbrew/perls/perl-5.24.3/bin/perl
    $UID/$EUID = 1001 / 1001
    $GID = 998 998 1001
    $EGID = 998 998 1001

Perl module toolchain versions installed:

    Module              Have    
    ------------------- --------
    CPAN                2.20    
    CPAN::Meta          2.150010
    Cwd                 3.63_01 
    ExtUtils::CBuilder  0.280230
    ExtUtils::Command   7.31_08 
    ExtUtils::Install   2.14    
    ExtUtils::MakeMaker 7.31_08 
    ExtUtils::Manifest  1.70    
    ExtUtils::ParseXS   3.35    
    File::Spec          3.63_01 
    JSON                2.97001 
    JSON::PP            2.97001 
    Module::Build       0.42_26 
    Module::Signature   n/a     
    Parse::CPAN::Meta   2.150010
    Test::Harness       3.40_01 
    Test::More          1.302122
    YAML                1.24    
    YAML::Syck          1.30    
    version             0.9918  


--

Summary of my perl5 (revision 5 version 24 subversion 3) configuration:
   
  Platform:
    osname=openbsd, osvers=6.2, archname=OpenBSD.amd64-openbsd
    uname='openbsd cpan-smoker-openbsd 6.2 generic.mp#134 amd64 '
    config_args='-de -Dprefix=/home/goku/perl5/perlbrew/perls/perl-5.24.3 -Aeval:scriptdir=/home/goku/perl5/perlbrew/perls/perl-5.24.3/bin'
    hint=recommended, useposix=true, d_sigaction=define
    useithreads=undef, usemultiplicity=undef
    use64bitint=define, use64bitall=define, uselongdouble=undef
    usemymalloc=n, bincompat5005=undef
  Compiler:
    cc='cc', ccflags ='-fno-strict-aliasing -pipe -fstack-protector-strong -I/usr/local/include -D_FORTIFY_SOURCE=2',
    optimize='-O2',
    cppflags='-fno-strict-aliasing -pipe -fstack-protector-strong -I/usr/local/include'
    ccversion='', gccversion='4.2.1 Compatible OpenBSD Clang 4.0.0 (tags/RELEASE_400/final)', gccosandvers=''
    intsize=4, longsize=8, ptrsize=8, doublesize=8, byteorder=12345678, doublekind=3
    d_longlong=define, longlongsize=8, d_longdbl=define, longdblsize=16, longdblkind=3
    ivtype='long', ivsize=8, nvtype='double', nvsize=8, Off_t='off_t', lseeksize=8
    alignbytes=8, prototype=define
  Linker and Libraries:
    ld='cc', ldflags ='-Wl,-E  -fstack-protector-strong -L/usr/local/lib'
    libpth=/usr/lib /usr/local/lib
    libs=-lpthread -lm -lutil -lc
    perllibs=-lpthread -lm -lutil -lc
    libc=/usr/lib/libc.so.90.0, so=so, useshrplib=false, libperl=libperl.a
    gnulibc_version=''
  Dynamic Linking:
    dlsrc=dl_dlopen.xs, dlext=so, d_dlsymun=undef, ccdlflags=' '
    cccdlflags='-DPIC -fPIC ', lddlflags='-shared -fPIC  -L/usr/local/lib -fstack-protector-strong'


Characteristics of this binary (from libperl): 
  Compile-time options: HAS_TIMES PERLIO_LAYERS PERL_COPY_ON_WRITE
                        PERL_DONT_CREATE_GVSV
                        PERL_HASH_FUNC_ONE_AT_A_TIME_HARD PERL_MALLOC_WRAP
                        PERL_PRESERVE_IVUV USE_64_BIT_ALL USE_64_BIT_INT
                        USE_LARGE_FILES USE_LOCALE USE_LOCALE_COLLATE
                        USE_LOCALE_CTYPE USE_LOCALE_NUMERIC USE_LOCALE_TIME
                        USE_PERLIO USE_PERL_ATOF
  Locally applied patches:
	Devel::PatchPerl 1.48
  Built under openbsd
  Compiled at Feb 15 2018 18:16:36
  %ENV:
    PERL5LIB=""
    PERL5OPT=""
    PERL5_CPANPLUS_IS_RUNNING="35343"
    PERL5_CPAN_IS_RUNNING="35343"
    PERL5_CPAN_IS_RUNNING_IN_RECURSION="72512,35343"
    PERLBREW_HOME="/home/goku/.perlbrew"
    PERLBREW_MANPATH="/home/goku/perl5/perlbrew/perls/perl-5.24.3/man"
    PERLBREW_PATH="/home/goku/perl5/perlbrew/bin:/home/goku/perl5/perlbrew/perls/perl-5.24.3/bin"
    PERLBREW_PERL="perl-5.24.3"
    PERLBREW_ROOT="/home/goku/perl5/perlbrew"
    PERLBREW_SHELLRC_VERSION="0.82"
    PERLBREW_VERSION="0.82"
    PERL_CR_SMOKER_CURRENT="POEx-Weather-OpenWeatherMap-0.003002"
    PERL_EXTUTILS_AUTOINSTALL="--defaultdeps"
    PERL_MM_USE_DEFAULT="1"
    PERL_USE_UNSAFE_INC="1"
  @INC:
    /home/goku/perl5/perlbrew/perls/perl-5.24.3/lib/site_perl/5.24.3/OpenBSD.amd64-openbsd
    /home/goku/perl5/perlbrew/perls/perl-5.24.3/lib/site_perl/5.24.3
    /home/goku/perl5/perlbrew/perls/perl-5.24.3/lib/5.24.3/OpenBSD.amd64-openbsd
    /home/goku/perl5/perlbrew/perls/perl-5.24.3/lib/5.24.3
    .