Back
From: metabase:user:553c21ce-8d47-11df-9de5-e28c4c42590d
Subject: PASS CGI-Application-Dispatch-PSGI-0.2 v5.12.2 GNU/Linux
Date: 2010-11-04T22:05:52Z
This distribution has been tested as part of the CPAN Testers
project, supporting the Perl programming language. See
http://wiki.cpantesters.org/ for more information or email
questions to cpan-testers-discuss@perl.org
--
Dear Alex Kapranoff,
This is a computer-generated report for CGI-Application-Dispatch-PSGI-0.2
on perl 5.12.2, created by CPAN-Reporter-1.1803.
Thank you for uploading your work to CPAN. Congratulations!
All tests were successful.
Sections of this report:
* Tester comments
* Program output
* Prerequisites
* Environment and other context
------------------------------
TESTER COMMENTS
------------------------------
Additional comments from tester:
none provided
------------------------------
PROGRAM OUTPUT
------------------------------
Output from '/usr/bin/make test':
PERL_DL_NONLAZY=1 /home/ioan/perl5/perlbrew/perls/perl-5.12.2/bin/perl "-MExtUtils::Command::MM" "-e" "test_harness(0, 'inc', 'blib/lib', 'blib/arch')" t/*.t
# Testing CGI::Application::Dispatch::PSGI 0.2, Perl 5.012002, /home/ioan/perl5/perlbrew/perls/perl-5.12.2/bin/perl
t/00-load.t ....... ok
t/boilerplate.t ... ok
t/pod-coverage.t .. ok
t/pod.t ........... ok
All tests successful.
Test Summary Report
-------------------
t/boilerplate.t (Wstat: 0 Tests: 3 Failed: 0)
TODO passed: 1-3
Files=4, Tests=9, 0 wallclock secs ( 0.04 usr 0.00 sys + 0.17 cusr 0.03 csys = 0.24 CPU)
Result: PASS
------------------------------
PREREQUISITES
------------------------------
Prerequisite modules loaded:
requires:
Module Need Have
-------------------------- ---- ----
CGI::Application::Dispatch 0 2.17
CGI::PSGI 0 0.13
ExtUtils::MakeMaker 6.42 6.56
Test::More 0 0.96
------------------------------
ENVIRONMENT AND OTHER CONTEXT
------------------------------
Environment variables:
LANG = en_CA.utf8
PATH = /home/ioan/perl5/perlbrew/bin:/home/ioan/perl5/perlbrew/perls/current/bin:/home/ioan/bin:/usr/local/sbin:/usr/local/bin:/usr/sbin:/usr/bin:/sbin:/bin:/usr/games:/usr/X11R6/bin
PERL5LIB = :/home/ioan/Projects/dirty_budget/lib/:/home/ioan/Projects/dirty_pong/lib/:/home/ioan/Projects/dirty_mediamanager/lib/:/home/ioan/Projects/DirtyChef/lib/
PERL5OPT =
PERL5_CPANPLUS_IS_RUNNING = 12508
PERL5_CPAN_IS_RUNNING = 12508
PERL_CPANM_DEV = 1
SHELL = /bin/zsh
TERM = xterm
Perl special variables (and OS-specific diagnostics, for MSWin32):
$^X = /home/ioan/perl5/perlbrew/perls/perl-5.12.2/bin/perl
$UID/$EUID = 1000 / 1000
$GID = 1000 4 20 24 46 111 119 122 1000
$EGID = 1000 4 20 24 46 111 119 122 1000
Perl module toolchain versions installed:
Module Have
------------------- ------
CPAN 1.9402
Cwd 3.33
ExtUtils::CBuilder 0.2703
ExtUtils::Command 1.16
ExtUtils::Install 1.55
ExtUtils::MakeMaker 6.56
ExtUtils::Manifest 1.58
ExtUtils::ParseXS 2.2206
File::Spec 3.33
Module::Build 0.3607
Module::Signature n/a
Test::Harness 3.22
Test::More 0.96
YAML 0.72
YAML::Syck 1.15
version 0.85
--
Summary of my perl5 (revision 5 version 12 subversion 2) configuration:
Platform:
osname=linux, osvers=2.6.35-22-generic, archname=x86_64-linux-thread-multi
uname='linux zeratul 2.6.35-22-generic #33-ubuntu smp sun sep 19 20:32:27 utc 2010 x86_64 gnulinux '
config_args='-de -Dprefix=/home/ioan/perl5/perlbrew/perls/perl-5.12.2 -Duseithreads'
hint=recommended, useposix=true, d_sigaction=define
useithreads=define, usemultiplicity=define
useperlio=define, d_sfio=undef, uselargefiles=define, usesocks=undef
use64bitint=define, use64bitall=define, uselongdouble=undef
usemymalloc=n, bincompat5005=undef
Compiler:
cc='cc', ccflags ='-D_REENTRANT -D_GNU_SOURCE -fno-strict-aliasing -pipe -fstack-protector -I/usr/local/include -D_LARGEFILE_SOURCE -D_FILE_OFFSET_BITS=64',
optimize='-O2',
cppflags='-D_REENTRANT -D_GNU_SOURCE -fno-strict-aliasing -pipe -fstack-protector -I/usr/local/include'
ccversion='', gccversion='4.4.5', gccosandvers=''
intsize=4, longsize=8, ptrsize=8, doublesize=8, byteorder=12345678
d_longlong=define, longlongsize=8, d_longdbl=define, longdblsize=16
ivtype='long', ivsize=8, nvtype='double', nvsize=8, Off_t='off_t', lseeksize=8
alignbytes=8, prototype=define
Linker and Libraries:
ld='cc', ldflags =' -fstack-protector -L/usr/local/lib'
libpth=/usr/local/lib /lib /usr/lib /lib64 /usr/lib64
libs=-lnsl -ldb -ldl -lm -lcrypt -lutil -lpthread -lc
perllibs=-lnsl -ldl -lm -lcrypt -lutil -lpthread -lc
libc=/lib/libc-2.12.1.so, so=so, useshrplib=false, libperl=libperl.a
gnulibc_version='2.12.1'
Dynamic Linking:
dlsrc=dl_dlopen.xs, dlext=so, d_dlsymun=undef, ccdlflags='-Wl,-E'
cccdlflags='-fPIC', lddlflags='-shared -O2 -L/usr/local/lib -fstack-protector'
Characteristics of this binary (from libperl):
Compile-time options: MULTIPLICITY PERL_DONT_CREATE_GVSV
PERL_IMPLICIT_CONTEXT PERL_MALLOC_WRAP USE_64_BIT_ALL
USE_64_BIT_INT USE_ITHREADS USE_LARGE_FILES
USE_PERLIO USE_PERL_ATOF USE_REENTRANT_API
Built under linux
Compiled at Oct 7 2010 11:42:30
%ENV:
PERL5LIB=":/home/ioan/Projects/dirty_budget/lib/:/home/ioan/Projects/dirty_pong/lib/:/home/ioan/Projects/dirty_mediamanager/lib/:/home/ioan/Projects/DirtyChef/lib/"
PERL5OPT=""
PERL5_CPANPLUS_IS_RUNNING="12508"
PERL5_CPAN_IS_RUNNING="12508"
PERL_CPANM_DEV="1"
@INC:
/home/ioan/Projects/dirty_budget/lib/
/home/ioan/Projects/dirty_pong/lib/
/home/ioan/Projects/dirty_mediamanager/lib/
/home/ioan/Projects/DirtyChef/lib/
/home/ioan/perl5/perlbrew/perls/perl-5.12.2/lib/site_perl/5.12.2/x86_64-linux-thread-multi
/home/ioan/perl5/perlbrew/perls/perl-5.12.2/lib/site_perl/5.12.2
/home/ioan/perl5/perlbrew/perls/perl-5.12.2/lib/5.12.2/x86_64-linux-thread-multi
/home/ioan/perl5/perlbrew/perls/perl-5.12.2/lib/5.12.2
.