Back
From: metabase:user:bde34802-c222-11e2-9634-0f85d716587b
Subject: PASS Catalyst-View-Email-0.33 v5.18.2 GNU/Linux
Date: 2014-03-09T09:17:52Z
This distribution has been tested as part of the CPAN Testers
project, supporting the Perl programming language. See
http://wiki.cpantesters.org/ for more information or email
questions to cpan-testers-discuss@perl.org
--
Dear DHOSS,
This is a computer-generated report for Catalyst-View-Email-0.33
on perl 5.18.2, created by App::cpanminus::reporter 0.10 (1.7001).
Thank you for uploading your work to CPAN. Congratulations!
All tests were successful.
Sections of this report:
* Tester comments
* Program output
* Prerequisites
* Environment and other context
------------------------------
TESTER COMMENTS
------------------------------
Additional comments from tester:
none provided
------------------------------
PROGRAM OUTPUT
------------------------------
Output from '':
Building and testing Catalyst-View-Email-0.33
cp lib/Catalyst/View/Email.pm blib/lib/Catalyst/View/Email.pm
cp lib/Catalyst/View/Email/Template.pm blib/lib/Catalyst/View/Email/Template.pm
cp lib/Catalyst/Helper/View/Email.pm blib/lib/Catalyst/Helper/View/Email.pm
cp lib/Catalyst/Helper/View/Email/Template.pm blib/lib/Catalyst/Helper/View/Email/Template.pm
Manifying blib/man3/Catalyst::View::Email::Template.3
Manifying blib/man3/Catalyst::Helper::View::Email.3
Manifying blib/man3/Catalyst::View::Email.3
Manifying blib/man3/Catalyst::Helper::View::Email::Template.3
PERL_DL_NONLAZY=1 /home/rsrchboy/perl5/perlbrew/perls/5.18.2/bin/perl "-MExtUtils::Command::MM" "-e" "test_harness(0, 'inc', 'blib/lib', 'blib/arch')" t/01use.t t/02pod.t t/04basic.t t/05template.t t/06config.t t/07mason.t
t/01use.t ....... ok
t/02pod.t ....... skipped: Test::Pod 1.14 required
require TestApp::View::Mason was successful but the package is not defined. at /home/rsrchboy/.perlbrew/libs/5.18.2@trunk/lib/perl5/Catalyst/Utils.pm line 314.
Class::MOP::load_class is deprecated at /home/rsrchboy/.perlbrew/libs/5.18.2@trunk/lib/perl5/x86_64-linux/Class/MOP.pm line 73.
Class::MOP::load_class('Email::Sender::Transport::Test') called at /home/rsrchboy/.cpanm/work/1394353491.1895/Catalyst-View-Email-0.33/blib/lib/Catalyst/View/Email.pm line 226
Catalyst::View::Email::_build_mailer_obj('TestApp::View::Email=HASH(0x39ea2f0)') called at accessor Catalyst::View::Email::_mailer_obj (defined at /home/rsrchboy/.cpanm/work/1394353491.1895/Catalyst-View-Email-0.33/blib/lib/Catalyst/View/Email.pm line 21) line 10
Catalyst::View::Email::_mailer_obj('TestApp::View::Email=HASH(0x39ea2f0)') called at /home/rsrchboy/.cpanm/work/1394353491.1895/Catalyst-View-Email-0.33/blib/lib/Catalyst/View/Email.pm line 299
Catalyst::View::Email::process('TestApp::View::Email=HASH(0x39ea2f0)', 'TestApp=HASH(0x3b4cad0)') called at /home/rsrchboy/.perlbrew/libs/5.18.2@trunk/lib/perl5/Catalyst/Action.pm line 65
Catalyst::Action::execute('Catalyst::Action=HASH(0x3b59af8)', 'TestApp::View::Email=HASH(0x39ea2f0)', 'TestApp=HASH(0x3b4cad0)') called at /home/rsrchboy/.perlbrew/libs/5.18.2@trunk/lib/perl5/Catalyst.pm line 1733
eval {...} called at /home/rsrchboy/.perlbrew/libs/5.18.2@trunk/lib/perl5/Catalyst.pm line 1733
Catalyst::execute('TestApp=HASH(0x3b4cad0)', 'TestApp::View::Email', 'Catalyst::Action=HASH(0x3b59af8)') called at /home/rsrchboy/.perlbrew/libs/5.18.2@trunk/lib/perl5/Catalyst/Action.pm line 60
Catalyst::Action::dispatch('Catalyst::Action=HASH(0x3b59af8)', 'TestApp=HASH(0x3b4cad0)') called at /home/rsrchboy/.perlbrew/libs/5.18.2@trunk/lib/perl5/Catalyst/Dispatcher.pm line 258
Catalyst::Dispatcher::_do_forward('Catalyst::Dispatcher=HASH(0x3168230)', 'forward', 'TestApp=HASH(0x3b4cad0)', 'TestApp::View::Email') called at /home/rsrchboy/.perlbrew/libs/5.18.2@trunk/lib/perl5/Catalyst/Dispatcher.pm line 238
Catalyst::Dispatcher::forward('Catalyst::Dispatcher=HASH(0x3168230)', 'TestApp=HASH(0x3b4cad0)', 'TestApp::View::Email') called at /home/rsrchboy/.perlbrew/libs/5.18.2@trunk/lib/perl5/Catalyst.pm line 397
Catalyst::forward('TestApp=HASH(0x3b4cad0)', 'TestApp::View::Email') called at /home/rsrchboy/.cpanm/work/1394353491.1895/Catalyst-View-Email-0.33/t/lib/TestApp/Controller/Root.pm line 26
TestApp::Controller::Root::email('TestApp::Controller::Root=HASH(0x39ea938)', 'TestApp=HASH(0x3b4cad0)') called at /home/rsrchboy/.perlbrew/libs/5.18.2@trunk/lib/perl5/Catalyst/Action.pm line 65
Catalyst::Action::execute('Catalyst::Action=HASH(0x3ab3f10)', 'TestApp::Controller::Root=HASH(0x39ea938)', 'TestApp=HASH(0x3b4cad0)') called at /home/rsrchboy/.perlbrew/libs/5.18.2@trunk/lib/perl5/Catalyst.pm line 1733
eval {...} called at /home/rsrchboy/.perlbrew/libs/5.18.2@trunk/lib/perl5/Catalyst.pm line 1733
Catalyst::execute('TestApp=HASH(0x3b4cad0)', 'TestApp::Controller::Root', 'Catalyst::Action=HASH(0x3ab3f10)') called at /home/rsrchboy/.perlbrew/libs/5.18.2@trunk/lib/perl5/Catalyst/Action.pm line 60
Catalyst::Action::dispatch('Catalyst::Action=HASH(0x3ab3f10)', 'TestApp=HASH(0x3b4cad0)') called at /home/rsrchboy/.perlbrew/libs/5.18.2@trunk/lib/perl5/Catalyst/Controller.pm line 161
Catalyst::Controller::_ACTION('TestApp::Controller::Root=HASH(0x39ea938)', 'TestApp=HASH(0x3b4cad0)') called at /home/rsrchboy/.perlbrew/libs/5.18.2@trunk/lib/perl5/Catalyst/Action.pm line 65
Catalyst::Action::execute('Catalyst::Action=HASH(0x3ab0870)', 'TestApp::Controller::Root=HASH(0x39ea938)', 'TestApp=HASH(0x3b4cad0)') called at /home/rsrchboy/.perlbrew/libs/5.18.2@trunk/lib/perl5/Catalyst.pm line 1733
eval {...} called at /home/rsrchboy/.perlbrew/libs/5.18.2@trunk/lib/perl5/Catalyst.pm line 1733
Catalyst::execute('TestApp=HASH(0x3b4cad0)', 'TestApp::Controller::Root', 'Catalyst::Action=HASH(0x3ab0870)') called at /home/rsrchboy/.perlbrew/libs/5.18.2@trunk/lib/perl5/Catalyst/Action.pm line 60
Catalyst::Action::dispatch('Catalyst::Action=HASH(0x3ab0870)', 'TestApp=HASH(0x3b4cad0)') called at /home/rsrchboy/.perlbrew/libs/5.18.2@trunk/lib/perl5/Catalyst/Dispatcher.pm line 258
Catalyst::Dispatcher::_do_forward('Catalyst::Dispatcher=HASH(0x3168230)', 'forward', 'TestApp=HASH(0x3b4cad0)', '_ACTION') called at /home/rsrchboy/.perlbrew/libs/5.18.2@trunk/lib/perl5/Catalyst/Dispatcher.pm line 238
Catalyst::Dispatcher::forward('Catalyst::Dispatcher=HASH(0x3168230)', 'TestApp=HASH(0x3b4cad0)', '_ACTION') called at /home/rsrchboy/.perlbrew/libs/5.18.2@trunk/lib/perl5/Catalyst.pm line 397
Catalyst::forward('TestApp=HASH(0x3b4cad0)', '_ACTION') called at /home/rsrchboy/.perlbrew/libs/5.18.2@trunk/lib/perl5/Catalyst/Controller.pm line 135
Catalyst::Controller::_DISPATCH('TestApp::Controller::Root=HASH(0x39ea938)', 'TestApp=HASH(0x3b4cad0)') called at /home/rsrchboy/.perlbrew/libs/5.18.2@trunk/lib/perl5/Catalyst/Action.pm line 65
Catalyst::Action::execute('Catalyst::Action=HASH(0x3aafce8)', 'TestApp::Controller::Root=HASH(0x39ea938)', 'TestApp=HASH(0x3b4cad0)') called at /home/rsrchboy/.perlbrew/libs/5.18.2@trunk/lib/perl5/Catalyst.pm line 1733
eval {...} called at /home/rsrchboy/.perlbrew/libs/5.18.2@trunk/lib/perl5/Catalyst.pm line 1733
Catalyst::execute('TestApp=HASH(0x3b4cad0)', 'TestApp::Controller::Root', 'Catalyst::Action=HASH(0x3aafce8)') called at /home/rsrchboy/.perlbrew/libs/5.18.2@trunk/lib/perl5/Catalyst/Action.pm line 60
Catalyst::Action::dispatch('Catalyst::Action=HASH(0x3aafce8)', 'TestApp=HASH(0x3b4cad0)') called at /home/rsrchboy/.perlbrew/libs/5.18.2@trunk/lib/perl5/Catalyst/Dispatcher.pm line 258
Catalyst::Dispatcher::_do_forward('Catalyst::Dispatcher=HASH(0x3168230)', 'forward', 'TestApp=HASH(0x3b4cad0)', '/root/_DISPATCH') called at /home/rsrchboy/.perlbrew/libs/5.18.2@trunk/lib/perl5/Catalyst/Dispatcher.pm line 238
Catalyst::Dispatcher::forward('Catalyst::Dispatcher=HASH(0x3168230)', 'TestApp=HASH(0x3b4cad0)', '/root/_DISPATCH') called at /home/rsrchboy/.perlbrew/libs/5.18.2@trunk/lib/perl5/Catalyst.pm line 397
Catalyst::forward('TestApp=HASH(0x3b4cad0)', '/root/_DISPATCH') called at /home/rsrchboy/.perlbrew/libs/5.18.2@trunk/lib/perl5/Catalyst/Dispatcher.pm line 106
Catalyst::Dispatcher::dispatch('Catalyst::Dispatcher=HASH(0x3168230)', 'TestApp=HASH(0x3b4cad0)') called at /home/rsrchboy/.perlbrew/libs/5.18.2@trunk/lib/perl5/Catalyst.pm line 1679
Catalyst::dispatch('TestApp=HASH(0x3b4cad0)') called at /home/rsrchboy/.perlbrew/libs/5.18.2@trunk/lib/perl5/Catalyst.pm line 2014
Catalyst::try {...} () called at /home/rsrchboy/.perlbrew/libs/5.18.2@trunk/lib/perl5/Try/Tiny.pm line 81
eval {...} called at /home/rsrchboy/.perlbrew/libs/5.18.2@trunk/lib/perl5/Try/Tiny.pm line 72
Try::Tiny::try('CODE(0x3b4c3e0)', 'Try::Tiny::Catch=REF(0x3b4c278)') called at /home/rsrchboy/.perlbrew/libs/5.18.2@trunk/lib/perl5/Catalyst.pm line 2023
Catalyst::handle_request('TestApp', 'env', 'HASH(0x3729a60)', 'response_cb', 'CODE(0x3b4c2d8)') called at /home/rsrchboy/.perlbrew/libs/5.18.2@trunk/lib/perl5/Catalyst/Engine.pm line 797
Catalyst::Engine::__ANON__('CODE(0x3b4c2d8)') called at /home/rsrchboy/.perlbrew/libs/5.18.2@trunk/lib/perl5/Plack/Middleware/HTTPExceptions.pm line 32
Plack::Middleware::HTTPExceptions::try {...} () called at /home/rsrchboy/.perlbrew/libs/5.18.2@trunk/lib/perl5/Try/Tiny.pm line 81
eval {...} called at /home/rsrchboy/.perlbrew/libs/5.18.2@trunk/lib/perl5/Try/Tiny.pm line 72
Try::Tiny::try('CODE(0x3b4c110)', 'Try::Tiny::Catch=REF(0x3af7b80)') called at /home/rsrchboy/.perlbrew/libs/5.18.2@trunk/lib/perl5/Plack/Middleware/HTTPExceptions.pm line 41
Plack::Middleware::HTTPExceptions::__ANON__('CODE(0x3b4c008)') called at /home/rsrchboy/.perlbrew/libs/5.18.2@trunk/lib/perl5/Plack/Util.pm line 301
Plack::Util::__ANON__('CODE(0x3b4bf00)') called at /home/rsrchboy/.perlbrew/libs/5.18.2@trunk/lib/perl5/Plack/Util.pm line 301
Plack::Util::__ANON__('CODE(0x3b4bdf8)') called at /home/rsrchboy/.perlbrew/libs/5.18.2@trunk/lib/perl5/Plack/Util.pm line 301
Plack::Util::__ANON__('CODE(0x3af81c8)') called at /home/rsrchboy/.perlbrew/libs/5.18.2@trunk/lib/perl5/HTTP/Message/PSGI.pm line 100
HTTP::Message::PSGI::res_from_psgi('CODE(0x3af7a48)') called at /home/rsrchboy/.perlbrew/libs/5.18.2@trunk/lib/perl5/HTTP/Message/PSGI.pm line 155
HTTP::Response::from_psgi('HTTP::Response', 'CODE(0x3af7a48)') called at /home/rsrchboy/.perlbrew/libs/5.18.2@trunk/lib/perl5/Plack/Test/MockHTTP.pm line 24
Plack::Test::MockHTTP::try {...} () called at /home/rsrchboy/.perlbrew/libs/5.18.2@trunk/lib/perl5/Try/Tiny.pm line 76
eval {...} called at /home/rsrchboy/.perlbrew/libs/5.18.2@trunk/lib/perl5/Try/Tiny.pm line 72
Try::Tiny::try('CODE(0x3729b08)', 'Try::Tiny::Catch=REF(0x3a7d940)') called at /home/rsrchboy/.perlbrew/libs/5.18.2@trunk/lib/perl5/Plack/Test/MockHTTP.pm line 27
Plack::Test::MockHTTP::request('Plack::Test::MockHTTP=HASH(0x3ac7570)', 'HTTP::Request=HASH(0x3abcce8)') called at /home/rsrchboy/.perlbrew/libs/5.18.2@trunk/lib/perl5/Plack/Test.pm line 38
Plack::Test::__ANON__('HTTP::Request=HASH(0x3abcce8)') called at /home/rsrchboy/.perlbrew/libs/5.18.2@trunk/lib/perl5/Catalyst/Test.pm line 281
Catalyst::Test::__ANON__('CODE(0x3ac73d8)') called at /home/rsrchboy/.perlbrew/libs/5.18.2@trunk/lib/perl5/Plack/Test.pm line 38
Plack::Test::test_psgi('mangle_response', 'CODE(0x282a5a0)', 'app', 'CODE(0x3abc880)', 'app', 'CODE(0x3ae8250)', 'client', 'CODE(0x3ae82f8)') called at /home/rsrchboy/.perlbrew/libs/5.18.2@trunk/lib/perl5/Catalyst/Test.pm line 284
Catalyst::Test::_request('HASH(0x184d0c8)', '/email?time=1394356261') called at /home/rsrchboy/.perlbrew/libs/5.18.2@trunk/lib/perl5/Catalyst/Test.pm line 327
Catalyst::Test::_local_request('TestApp', '/email?time=1394356261') called at /home/rsrchboy/.perlbrew/libs/5.18.2@trunk/lib/perl5/Catalyst/Test.pm line 32
Catalyst::Test::__ANON__('/email?time=1394356261') called at t/04basic.t line 14
t/04basic.t ..... ok
require TestApp::View::Mason was successful but the package is not defined. at /home/rsrchboy/.perlbrew/libs/5.18.2@trunk/lib/perl5/Catalyst/Utils.pm line 314.
Class::MOP::load_class is deprecated at /home/rsrchboy/.perlbrew/libs/5.18.2@trunk/lib/perl5/x86_64-linux/Class/MOP.pm line 73.
Class::MOP::load_class('Email::Sender::Transport::Test') called at /home/rsrchboy/.cpanm/work/1394353491.1895/Catalyst-View-Email-0.33/blib/lib/Catalyst/View/Email.pm line 226
Catalyst::View::Email::_build_mailer_obj('TestApp::View::Email::Template=HASH(0x409d348)') called at accessor Catalyst::View::Email::_mailer_obj (defined at /home/rsrchboy/.cpanm/work/1394353491.1895/Catalyst-View-Email-0.33/blib/lib/Catalyst/View/Email.pm line 21) line 10
Catalyst::View::Email::_mailer_obj('TestApp::View::Email::Template=HASH(0x409d348)') called at /home/rsrchboy/.cpanm/work/1394353491.1895/Catalyst-View-Email-0.33/blib/lib/Catalyst/View/Email.pm line 299
Catalyst::View::Email::process('TestApp::View::Email::Template=HASH(0x409d348)', 'TestApp=HASH(0x42a36f8)') called at /home/rsrchboy/.cpanm/work/1394353491.1895/Catalyst-View-Email-0.33/blib/lib/Catalyst/View/Email/Template.pm line 306
Class::MOP::Class:::around('CODE(0x3fc0280)', 'TestApp::View::Email::Template=HASH(0x409d348)', 'TestApp=HASH(0x42a36f8)') called at /home/rsrchboy/.perlbrew/libs/5.18.2@trunk/lib/perl5/x86_64-linux/Class/MOP/Method/Wrapped.pm line 163
Class::MOP::Method::Wrapped::__ANON__('TestApp::View::Email::Template=HASH(0x409d348)', 'TestApp=HASH(0x42a36f8)') called at /home/rsrchboy/.perlbrew/libs/5.18.2@trunk/lib/perl5/x86_64-linux/Class/MOP/Method/Wrapped.pm line 92
Catalyst::View::Email::Template::process('TestApp::View::Email::Template=HASH(0x409d348)', 'TestApp=HASH(0x42a36f8)') called at /home/rsrchboy/.perlbrew/libs/5.18.2@trunk/lib/perl5/Catalyst/Action.pm line 65
Catalyst::Action::execute('Catalyst::Action=HASH(0x42ad830)', 'TestApp::View::Email::Template=HASH(0x409d348)', 'TestApp=HASH(0x42a36f8)') called at /home/rsrchboy/.perlbrew/libs/5.18.2@trunk/lib/perl5/Catalyst.pm line 1733
eval {...} called at /home/rsrchboy/.perlbrew/libs/5.18.2@trunk/lib/perl5/Catalyst.pm line 1733
Catalyst::execute('TestApp=HASH(0x42a36f8)', 'TestApp::View::Email::Template', 'Catalyst::Action=HASH(0x42ad830)') called at /home/rsrchboy/.perlbrew/libs/5.18.2@trunk/lib/perl5/Catalyst/Action.pm line 60
Catalyst::Action::dispatch('Catalyst::Action=HASH(0x42ad830)', 'TestApp=HASH(0x42a36f8)') called at /home/rsrchboy/.perlbrew/libs/5.18.2@trunk/lib/perl5/Catalyst/Dispatcher.pm line 258
Catalyst::Dispatcher::_do_forward('Catalyst::Dispatcher=HASH(0x3c3f5a8)', 'forward', 'TestApp=HASH(0x42a36f8)', 'TestApp::View::Email::Template') called at /home/rsrchboy/.perlbrew/libs/5.18.2@trunk/lib/perl5/Catalyst/Dispatcher.pm line 238
Catalyst::Dispatcher::forward('Catalyst::Dispatcher=HASH(0x3c3f5a8)', 'TestApp=HASH(0x42a36f8)', 'TestApp::View::Email::Template') called at /home/rsrchboy/.perlbrew/libs/5.18.2@trunk/lib/perl5/Catalyst.pm line 397
Catalyst::forward('TestApp=HASH(0x42a36f8)', 'TestApp::View::Email::Template') called at /home/rsrchboy/.cpanm/work/1394353491.1895/Catalyst-View-Email-0.33/t/lib/TestApp/Controller/Root.pm line 81
TestApp::Controller::Root::template_email('TestApp::Controller::Root=HASH(0x409c4c0)', 'TestApp=HASH(0x42a36f8)') called at /home/rsrchboy/.perlbrew/libs/5.18.2@trunk/lib/perl5/Catalyst/Action.pm line 65
Catalyst::Action::execute('Catalyst::Action=HASH(0x4207c70)', 'TestApp::Controller::Root=HASH(0x409c4c0)', 'TestApp=HASH(0x42a36f8)') called at /home/rsrchboy/.perlbrew/libs/5.18.2@trunk/lib/perl5/Catalyst.pm line 1733
eval {...} called at /home/rsrchboy/.perlbrew/libs/5.18.2@trunk/lib/perl5/Catalyst.pm line 1733
Catalyst::execute('TestApp=HASH(0x42a36f8)', 'TestApp::Controller::Root', 'Catalyst::Action=HASH(0x4207c70)') called at /home/rsrchboy/.perlbrew/libs/5.18.2@trunk/lib/perl5/Catalyst/Action.pm line 60
Catalyst::Action::dispatch('Catalyst::Action=HASH(0x4207c70)', 'TestApp=HASH(0x42a36f8)') called at /home/rsrchboy/.perlbrew/libs/5.18.2@trunk/lib/perl5/Catalyst/Controller.pm line 161
Catalyst::Controller::_ACTION('TestApp::Controller::Root=HASH(0x409c4c0)', 'TestApp=HASH(0x42a36f8)') called at /home/rsrchboy/.perlbrew/libs/5.18.2@trunk/lib/perl5/Catalyst/Action.pm line 65
Catalyst::Action::execute('Catalyst::Action=HASH(0x41f96a0)', 'TestApp::Controller::Root=HASH(0x409c4c0)', 'TestApp=HASH(0x42a36f8)') called at /home/rsrchboy/.perlbrew/libs/5.18.2@trunk/lib/perl5/Catalyst.pm line 1733
eval {...} called at /home/rsrchboy/.perlbrew/libs/5.18.2@trunk/lib/perl5/Catalyst.pm line 1733
Catalyst::execute('TestApp=HASH(0x42a36f8)', 'TestApp::Controller::Root', 'Catalyst::Action=HASH(0x41f96a0)') called at /home/rsrchboy/.perlbrew/libs/5.18.2@trunk/lib/perl5/Catalyst/Action.pm line 60
Catalyst::Action::dispatch('Catalyst::Action=HASH(0x41f96a0)', 'TestApp=HASH(0x42a36f8)') called at /home/rsrchboy/.perlbrew/libs/5.18.2@trunk/lib/perl5/Catalyst/Dispatcher.pm line 258
Catalyst::Dispatcher::_do_forward('Catalyst::Dispatcher=HASH(0x3c3f5a8)', 'forward', 'TestApp=HASH(0x42a36f8)', '_ACTION') called at /home/rsrchboy/.perlbrew/libs/5.18.2@trunk/lib/perl5/Catalyst/Dispatcher.pm line 238
Catalyst::Dispatcher::forward('Catalyst::Dispatcher=HASH(0x3c3f5a8)', 'TestApp=HASH(0x42a36f8)', '_ACTION') called at /home/rsrchboy/.perlbrew/libs/5.18.2@trunk/lib/perl5/Catalyst.pm line 397
Catalyst::forward('TestApp=HASH(0x42a36f8)', '_ACTION') called at /home/rsrchboy/.perlbrew/libs/5.18.2@trunk/lib/perl5/Catalyst/Controller.pm line 135
Catalyst::Controller::_DISPATCH('TestApp::Controller::Root=HASH(0x409c4c0)', 'TestApp=HASH(0x42a36f8)') called at /home/rsrchboy/.perlbrew/libs/5.18.2@trunk/lib/perl5/Catalyst/Action.pm line 65
Catalyst::Action::execute('Catalyst::Action=HASH(0x41fc338)', 'TestApp::Controller::Root=HASH(0x409c4c0)', 'TestApp=HASH(0x42a36f8)') called at /home/rsrchboy/.perlbrew/libs/5.18.2@trunk/lib/perl5/Catalyst.pm line 1733
eval {...} called at /home/rsrchboy/.perlbrew/libs/5.18.2@trunk/lib/perl5/Catalyst.pm line 1733
Catalyst::execute('TestApp=HASH(0x42a36f8)', 'TestApp::Controller::Root', 'Catalyst::Action=HASH(0x41fc338)') called at /home/rsrchboy/.perlbrew/libs/5.18.2@trunk/lib/perl5/Catalyst/Action.pm line 60
Catalyst::Action::dispatch('Catalyst::Action=HASH(0x41fc338)', 'TestApp=HASH(0x42a36f8)') called at /home/rsrchboy/.perlbrew/libs/5.18.2@trunk/lib/perl5/Catalyst/Dispatcher.pm line 258
Catalyst::Dispatcher::_do_forward('Catalyst::Dispatcher=HASH(0x3c3f5a8)', 'forward', 'TestApp=HASH(0x42a36f8)', '/root/_DISPATCH') called at /home/rsrchboy/.perlbrew/libs/5.18.2@trunk/lib/perl5/Catalyst/Dispatcher.pm line 238
Catalyst::Dispatcher::forward('Catalyst::Dispatcher=HASH(0x3c3f5a8)', 'TestApp=HASH(0x42a36f8)', '/root/_DISPATCH') called at /home/rsrchboy/.perlbrew/libs/5.18.2@trunk/lib/perl5/Catalyst.pm line 397
Catalyst::forward('TestApp=HASH(0x42a36f8)', '/root/_DISPATCH') called at /home/rsrchboy/.perlbrew/libs/5.18.2@trunk/lib/perl5/Catalyst/Dispatcher.pm line 106
Catalyst::Dispatcher::dispatch('Catalyst::Dispatcher=HASH(0x3c3f5a8)', 'TestApp=HASH(0x42a36f8)') called at /home/rsrchboy/.perlbrew/libs/5.18.2@trunk/lib/perl5/Catalyst.pm line 1679
Catalyst::dispatch('TestApp=HASH(0x42a36f8)') called at /home/rsrchboy/.perlbrew/libs/5.18.2@trunk/lib/perl5/Catalyst.pm line 2014
Catalyst::try {...} () called at /home/rsrchboy/.perlbrew/libs/5.18.2@trunk/lib/perl5/Try/Tiny.pm line 81
eval {...} called at /home/rsrchboy/.perlbrew/libs/5.18.2@trunk/lib/perl5/Try/Tiny.pm line 72
Try::Tiny::try('CODE(0x42a1bf0)', 'Try::Tiny::Catch=REF(0x42a1a88)') called at /home/rsrchboy/.perlbrew/libs/5.18.2@trunk/lib/perl5/Catalyst.pm line 2023
Catalyst::handle_request('TestApp', 'env', 'HASH(0x3ef77e0)', 'response_cb', 'CODE(0x42a1ae8)') called at /home/rsrchboy/.perlbrew/libs/5.18.2@trunk/lib/perl5/Catalyst/Engine.pm line 797
Catalyst::Engine::__ANON__('CODE(0x42a1ae8)') called at /home/rsrchboy/.perlbrew/libs/5.18.2@trunk/lib/perl5/Plack/Middleware/HTTPExceptions.pm line 32
Plack::Middleware::HTTPExceptions::try {...} () called at /home/rsrchboy/.perlbrew/libs/5.18.2@trunk/lib/perl5/Try/Tiny.pm line 81
eval {...} called at /home/rsrchboy/.perlbrew/libs/5.18.2@trunk/lib/perl5/Try/Tiny.pm line 72
Try::Tiny::try('CODE(0x42a1920)', 'Try::Tiny::Catch=REF(0x4248c90)') called at /home/rsrchboy/.perlbrew/libs/5.18.2@trunk/lib/perl5/Plack/Middleware/HTTPExceptions.pm line 41
Plack::Middleware::HTTPExceptions::__ANON__('CODE(0x42a1818)') called at /home/rsrchboy/.perlbrew/libs/5.18.2@trunk/lib/perl5/Plack/Util.pm line 301
Plack::Util::__ANON__('CODE(0x42a1710)') called at /home/rsrchboy/.perlbrew/libs/5.18.2@trunk/lib/perl5/Plack/Util.pm line 301
Plack::Util::__ANON__('CODE(0x42a1608)') called at /home/rsrchboy/.perlbrew/libs/5.18.2@trunk/lib/perl5/Plack/Util.pm line 301
Plack::Util::__ANON__('CODE(0x42a1590)') called at /home/rsrchboy/.perlbrew/libs/5.18.2@trunk/lib/perl5/HTTP/Message/PSGI.pm line 100
HTTP::Message::PSGI::res_from_psgi('CODE(0x4248b58)') called at /home/rsrchboy/.perlbrew/libs/5.18.2@trunk/lib/perl5/HTTP/Message/PSGI.pm line 155
HTTP::Response::from_psgi('HTTP::Response', 'CODE(0x4248b58)') called at /home/rsrchboy/.perlbrew/libs/5.18.2@trunk/lib/perl5/Plack/Test/MockHTTP.pm line 24
Plack::Test::MockHTTP::try {...} () called at /home/rsrchboy/.perlbrew/libs/5.18.2@trunk/lib/perl5/Try/Tiny.pm line 76
eval {...} called at /home/rsrchboy/.perlbrew/libs/5.18.2@trunk/lib/perl5/Try/Tiny.pm line 72
Try::Tiny::try('CODE(0x4066958)', 'Try::Tiny::Catch=REF(0x41d1198)') called at /home/rsrchboy/.perlbrew/libs/5.18.2@trunk/lib/perl5/Plack/Test/MockHTTP.pm line 27
Plack::Test::MockHTTP::request('Plack::Test::MockHTTP=HASH(0x4243fb0)', 'HTTP::Request=HASH(0x4217b08)') called at /home/rsrchboy/.perlbrew/libs/5.18.2@trunk/lib/perl5/Plack/Test.pm line 38
Plack::Test::__ANON__('HTTP::Request=HASH(0x4217b08)') called at /home/rsrchboy/.perlbrew/libs/5.18.2@trunk/lib/perl5/Catalyst/Test.pm line 281
Catalyst::Test::__ANON__('CODE(0x4243e18)') called at /home/rsrchboy/.perlbrew/libs/5.18.2@trunk/lib/perl5/Plack/Test.pm line 38
Plack::Test::test_psgi('mangle_response', 'CODE(0x324dd88)', 'app', 'CODE(0x420f0d8)', 'app', 'CODE(0x4243c38)', 'client', 'CODE(0x4243ce0)') called at /home/rsrchboy/.perlbrew/libs/5.18.2@trunk/lib/perl5/Catalyst/Test.pm line 284
Catalyst::Test::_request('HASH(0x13f55d8)', '/template_email?time=1394356261') called at /home/rsrchboy/.perlbrew/libs/5.18.2@trunk/lib/perl5/Catalyst/Test.pm line 327
Catalyst::Test::_local_request('TestApp', '/template_email?time=1394356261') called at /home/rsrchboy/.perlbrew/libs/5.18.2@trunk/lib/perl5/Catalyst/Test.pm line 32
Catalyst::Test::__ANON__('/template_email?time=1394356261') called at t/05template.t line 18
t/05template.t .. ok
require TestApp::View::Mason was successful but the package is not defined. at /home/rsrchboy/.perlbrew/libs/5.18.2@trunk/lib/perl5/Catalyst/Utils.pm line 314.
Class::MOP::load_class is deprecated at /home/rsrchboy/.perlbrew/libs/5.18.2@trunk/lib/perl5/x86_64-linux/Class/MOP.pm line 73.
Class::MOP::load_class('Email::Sender::Transport::Test') called at /home/rsrchboy/.cpanm/work/1394353491.1895/Catalyst-View-Email-0.33/blib/lib/Catalyst/View/Email.pm line 226
Catalyst::View::Email::_build_mailer_obj('TestApp::View::Email::AppConfig=HASH(0x4275790)') called at accessor Catalyst::View::Email::_mailer_obj (defined at /home/rsrchboy/.cpanm/work/1394353491.1895/Catalyst-View-Email-0.33/blib/lib/Catalyst/View/Email.pm line 21) line 10
Catalyst::View::Email::_mailer_obj('TestApp::View::Email::AppConfig=HASH(0x4275790)') called at /home/rsrchboy/.cpanm/work/1394353491.1895/Catalyst-View-Email-0.33/blib/lib/Catalyst/View/Email.pm line 299
Catalyst::View::Email::process('TestApp::View::Email::AppConfig=HASH(0x4275790)', 'TestApp=HASH(0x4441350)') called at /home/rsrchboy/.perlbrew/libs/5.18.2@trunk/lib/perl5/Catalyst/Action.pm line 65
Catalyst::Action::execute('Catalyst::Action=HASH(0x444cce0)', 'TestApp::View::Email::AppConfig=HASH(0x4275790)', 'TestApp=HASH(0x4441350)') called at /home/rsrchboy/.perlbrew/libs/5.18.2@trunk/lib/perl5/Catalyst.pm line 1733
eval {...} called at /home/rsrchboy/.perlbrew/libs/5.18.2@trunk/lib/perl5/Catalyst.pm line 1733
Catalyst::execute('TestApp=HASH(0x4441350)', 'TestApp::View::Email::AppConfig', 'Catalyst::Action=HASH(0x444cce0)') called at /home/rsrchboy/.perlbrew/libs/5.18.2@trunk/lib/perl5/Catalyst/Action.pm line 60
Catalyst::Action::dispatch('Catalyst::Action=HASH(0x444cce0)', 'TestApp=HASH(0x4441350)') called at /home/rsrchboy/.perlbrew/libs/5.18.2@trunk/lib/perl5/Catalyst/Dispatcher.pm line 258
Catalyst::Dispatcher::_do_forward('Catalyst::Dispatcher=HASH(0x3ddfa88)', 'forward', 'TestApp=HASH(0x4441350)', 'TestApp::View::Email::AppConfig') called at /home/rsrchboy/.perlbrew/libs/5.18.2@trunk/lib/perl5/Catalyst/Dispatcher.pm line 238
Catalyst::Dispatcher::forward('Catalyst::Dispatcher=HASH(0x3ddfa88)', 'TestApp=HASH(0x4441350)', 'TestApp::View::Email::AppConfig') called at /home/rsrchboy/.perlbrew/libs/5.18.2@trunk/lib/perl5/Catalyst.pm line 397
Catalyst::forward('TestApp=HASH(0x4441350)', 'TestApp::View::Email::AppConfig') called at /home/rsrchboy/.cpanm/work/1394353491.1895/Catalyst-View-Email-0.33/t/lib/TestApp/Controller/Root.pm line 48
TestApp::Controller::Root::email_app_config('TestApp::Controller::Root=HASH(0x42dc468)', 'TestApp=HASH(0x4441350)') called at /home/rsrchboy/.perlbrew/libs/5.18.2@trunk/lib/perl5/Catalyst/Action.pm line 65
Catalyst::Action::execute('Catalyst::Action=HASH(0x43a7de8)', 'TestApp::Controller::Root=HASH(0x42dc468)', 'TestApp=HASH(0x4441350)') called at /home/rsrchboy/.perlbrew/libs/5.18.2@trunk/lib/perl5/Catalyst.pm line 1733
eval {...} called at /home/rsrchboy/.perlbrew/libs/5.18.2@trunk/lib/perl5/Catalyst.pm line 1733
Catalyst::execute('TestApp=HASH(0x4441350)', 'TestApp::Controller::Root', 'Catalyst::Action=HASH(0x43a7de8)') called at /home/rsrchboy/.perlbrew/libs/5.18.2@trunk/lib/perl5/Catalyst/Action.pm line 60
Catalyst::Action::dispatch('Catalyst::Action=HASH(0x43a7de8)', 'TestApp=HASH(0x4441350)') called at /home/rsrchboy/.perlbrew/libs/5.18.2@trunk/lib/perl5/Catalyst/Controller.pm line 161
Catalyst::Controller::_ACTION('TestApp::Controller::Root=HASH(0x42dc468)', 'TestApp=HASH(0x4441350)') called at /home/rsrchboy/.perlbrew/libs/5.18.2@trunk/lib/perl5/Catalyst/Action.pm line 65
Catalyst::Action::execute('Catalyst::Action=HASH(0x43a2f88)', 'TestApp::Controller::Root=HASH(0x42dc468)', 'TestApp=HASH(0x4441350)') called at /home/rsrchboy/.perlbrew/libs/5.18.2@trunk/lib/perl5/Catalyst.pm line 1733
eval {...} called at /home/rsrchboy/.perlbrew/libs/5.18.2@trunk/lib/perl5/Catalyst.pm line 1733
Catalyst::execute('TestApp=HASH(0x4441350)', 'TestApp::Controller::Root', 'Catalyst::Action=HASH(0x43a2f88)') called at /home/rsrchboy/.perlbrew/libs/5.18.2@trunk/lib/perl5/Catalyst/Action.pm line 60
Catalyst::Action::dispatch('Catalyst::Action=HASH(0x43a2f88)', 'TestApp=HASH(0x4441350)') called at /home/rsrchboy/.perlbrew/libs/5.18.2@trunk/lib/perl5/Catalyst/Dispatcher.pm line 258
Catalyst::Dispatcher::_do_forward('Catalyst::Dispatcher=HASH(0x3ddfa88)', 'forward', 'TestApp=HASH(0x4441350)', '_ACTION') called at /home/rsrchboy/.perlbrew/libs/5.18.2@trunk/lib/perl5/Catalyst/Dispatcher.pm line 238
Catalyst::Dispatcher::forward('Catalyst::Dispatcher=HASH(0x3ddfa88)', 'TestApp=HASH(0x4441350)', '_ACTION') called at /home/rsrchboy/.perlbrew/libs/5.18.2@trunk/lib/perl5/Catalyst.pm line 397
Catalyst::forward('TestApp=HASH(0x4441350)', '_ACTION') called at /home/rsrchboy/.perlbrew/libs/5.18.2@trunk/lib/perl5/Catalyst/Controller.pm line 135
Catalyst::Controller::_DISPATCH('TestApp::Controller::Root=HASH(0x42dc468)', 'TestApp=HASH(0x4441350)') called at /home/rsrchboy/.perlbrew/libs/5.18.2@trunk/lib/perl5/Catalyst/Action.pm line 65
Catalyst::Action::execute('Catalyst::Action=HASH(0x437a320)', 'TestApp::Controller::Root=HASH(0x42dc468)', 'TestApp=HASH(0x4441350)') called at /home/rsrchboy/.perlbrew/libs/5.18.2@trunk/lib/perl5/Catalyst.pm line 1733
eval {...} called at /home/rsrchboy/.perlbrew/libs/5.18.2@trunk/lib/perl5/Catalyst.pm line 1733
Catalyst::execute('TestApp=HASH(0x4441350)', 'TestApp::Controller::Root', 'Catalyst::Action=HASH(0x437a320)') called at /home/rsrchboy/.perlbrew/libs/5.18.2@trunk/lib/perl5/Catalyst/Action.pm line 60
Catalyst::Action::dispatch('Catalyst::Action=HASH(0x437a320)', 'TestApp=HASH(0x4441350)') called at /home/rsrchboy/.perlbrew/libs/5.18.2@trunk/lib/perl5/Catalyst/Dispatcher.pm line 258
Catalyst::Dispatcher::_do_forward('Catalyst::Dispatcher=HASH(0x3ddfa88)', 'forward', 'TestApp=HASH(0x4441350)', '/root/_DISPATCH') called at /home/rsrchboy/.perlbrew/libs/5.18.2@trunk/lib/perl5/Catalyst/Dispatcher.pm line 238
Catalyst::Dispatcher::forward('Catalyst::Dispatcher=HASH(0x3ddfa88)', 'TestApp=HASH(0x4441350)', '/root/_DISPATCH') called at /home/rsrchboy/.perlbrew/libs/5.18.2@trunk/lib/perl5/Catalyst.pm line 397
Catalyst::forward('TestApp=HASH(0x4441350)', '/root/_DISPATCH') called at /home/rsrchboy/.perlbrew/libs/5.18.2@trunk/lib/perl5/Catalyst/Dispatcher.pm line 106
Catalyst::Dispatcher::dispatch('Catalyst::Dispatcher=HASH(0x3ddfa88)', 'TestApp=HASH(0x4441350)') called at /home/rsrchboy/.perlbrew/libs/5.18.2@trunk/lib/perl5/Catalyst.pm line 1679
Catalyst::dispatch('TestApp=HASH(0x4441350)') called at /home/rsrchboy/.perlbrew/libs/5.18.2@trunk/lib/perl5/Catalyst.pm line 2014
Catalyst::try {...} () called at /home/rsrchboy/.perlbrew/libs/5.18.2@trunk/lib/perl5/Try/Tiny.pm line 81
eval {...} called at /home/rsrchboy/.perlbrew/libs/5.18.2@trunk/lib/perl5/Try/Tiny.pm line 72
Try::Tiny::try('CODE(0x4440c60)', 'Try::Tiny::Catch=REF(0x4440af8)') called at /home/rsrchboy/.perlbrew/libs/5.18.2@trunk/lib/perl5/Catalyst.pm line 2023
Catalyst::handle_request('TestApp', 'env', 'HASH(0x436ee20)', 'response_cb', 'CODE(0x4440b58)') called at /home/rsrchboy/.perlbrew/libs/5.18.2@trunk/lib/perl5/Catalyst/Engine.pm line 797
Catalyst::Engine::__ANON__('CODE(0x4440b58)') called at /home/rsrchboy/.perlbrew/libs/5.18.2@trunk/lib/perl5/Plack/Middleware/HTTPExceptions.pm line 32
Plack::Middleware::HTTPExceptions::try {...} () called at /home/rsrchboy/.perlbrew/libs/5.18.2@trunk/lib/perl5/Try/Tiny.pm line 81
eval {...} called at /home/rsrchboy/.perlbrew/libs/5.18.2@trunk/lib/perl5/Try/Tiny.pm line 72
Try::Tiny::try('CODE(0x4440990)', 'Try::Tiny::Catch=REF(0x43e8c60)') called at /home/rsrchboy/.perlbrew/libs/5.18.2@trunk/lib/perl5/Plack/Middleware/HTTPExceptions.pm line 41
Plack::Middleware::HTTPExceptions::__ANON__('CODE(0x4440888)') called at /home/rsrchboy/.perlbrew/libs/5.18.2@trunk/lib/perl5/Plack/Util.pm line 301
Plack::Util::__ANON__('CODE(0x4440780)') called at /home/rsrchboy/.perlbrew/libs/5.18.2@trunk/lib/perl5/Plack/Util.pm line 301
Plack::Util::__ANON__('CODE(0x4440678)') called at /home/rsrchboy/.perlbrew/libs/5.18.2@trunk/lib/perl5/Plack/Util.pm line 301
Plack::Util::__ANON__('CODE(0x4440600)') called at /home/rsrchboy/.perlbrew/libs/5.18.2@trunk/lib/perl5/HTTP/Message/PSGI.pm line 100
HTTP::Message::PSGI::res_from_psgi('CODE(0x43e8b28)') called at /home/rsrchboy/.perlbrew/libs/5.18.2@trunk/lib/perl5/HTTP/Message/PSGI.pm line 155
HTTP::Response::from_psgi('HTTP::Response', 'CODE(0x43e8b28)') called at /home/rsrchboy/.perlbrew/libs/5.18.2@trunk/lib/perl5/Plack/Test/MockHTTP.pm line 24
Plack::Test::MockHTTP::try {...} () called at /home/rsrchboy/.perlbrew/libs/5.18.2@trunk/lib/perl5/Try/Tiny.pm line 76
eval {...} called at /home/rsrchboy/.perlbrew/libs/5.18.2@trunk/lib/perl5/Try/Tiny.pm line 72
Try::Tiny::try('CODE(0x40b4528)', 'Try::Tiny::Catch=REF(0x436f318)') called at /home/rsrchboy/.perlbrew/libs/5.18.2@trunk/lib/perl5/Plack/Test/MockHTTP.pm line 27
Plack::Test::MockHTTP::request('Plack::Test::MockHTTP=HASH(0x43b76d0)', 'HTTP::Request=HASH(0x43af840)') called at /home/rsrchboy/.perlbrew/libs/5.18.2@trunk/lib/perl5/Plack/Test.pm line 38
Plack::Test::__ANON__('HTTP::Request=HASH(0x43af840)') called at /home/rsrchboy/.perlbrew/libs/5.18.2@trunk/lib/perl5/Catalyst/Test.pm line 281
Catalyst::Test::__ANON__('CODE(0x43b7538)') called at /home/rsrchboy/.perlbrew/libs/5.18.2@trunk/lib/perl5/Plack/Test.pm line 38
Plack::Test::test_psgi('mangle_response', 'CODE(0x33eef00)', 'app', 'CODE(0x43af3d8)', 'app', 'CODE(0x43d9fd0)', 'client', 'CODE(0x43da078)') called at /home/rsrchboy/.perlbrew/libs/5.18.2@trunk/lib/perl5/Catalyst/Test.pm line 284
Catalyst::Test::_request('HASH(0x15955d8)', '/email_app_config?time=1394356262') called at /home/rsrchboy/.perlbrew/libs/5.18.2@trunk/lib/perl5/Catalyst/Test.pm line 327
Catalyst::Test::_local_request('TestApp', '/email_app_config?time=1394356262') called at /home/rsrchboy/.perlbrew/libs/5.18.2@trunk/lib/perl5/Catalyst/Test.pm line 32
Catalyst::Test::__ANON__('/email_app_config?time=1394356262') called at t/06config.t line 21
t/06config.t .... ok
t/07mason.t ..... skipped: Test requires module 'Catalyst::View::Mason' but it's not found
All tests successful.
Files=6, Tests=34, 2 wallclock secs ( 0.02 usr 0.02 sys + 1.74 cusr 0.10 csys = 1.88 CPU)
Result: PASS
------------------------------
PREREQUISITES
------------------------------
Prerequisite modules loaded:
No requirements found
------------------------------
ENVIRONMENT AND OTHER CONTEXT
------------------------------
Environment variables:
LANG = en_US.UTF-8
LANGUAGE = en_US
LC_CTYPE = en_US.UTF-8
PATH = /home/rsrchboy/.perlbrew/libs/5.18.2@trunk/bin:/home/rsrchboy/perl5/perlbrew/bin:/home/rsrchboy/perl5/perlbrew/perls/5.18.2/bin:/home/rsrchboy/bin:/home/rsrchboy/.gem/ruby/1.8/bin:/home/rsrchboy/bin:/home/rsrchboy/bin:/home/rsrchboy/.gem/ruby/1.8/bin:/usr/lib/lightdm/lightdm:/usr/local/sbin:/usr/local/bin:/usr/sbin:/usr/bin:/sbin:/bin:/usr/games:/usr/local/games
PERL5LIB = /home/rsrchboy/.perlbrew/libs/5.18.2@trunk/lib/perl5
PERLBREW_BASHRC_VERSION = 0.66
PERLBREW_HOME = /home/rsrchboy/.perlbrew
PERLBREW_LIB = trunk
PERLBREW_MANPATH = /home/rsrchboy/.perlbrew/libs/5.18.2@trunk/man:/home/rsrchboy/perl5/perlbrew/perls/5.18.2/man
PERLBREW_PATH = /home/rsrchboy/.perlbrew/libs/5.18.2@trunk/bin:/home/rsrchboy/perl5/perlbrew/bin:/home/rsrchboy/perl5/perlbrew/perls/5.18.2/bin
PERLBREW_PERL = 5.18.2
PERLBREW_ROOT = /home/rsrchboy/perl5/perlbrew
PERLBREW_VERSION = 0.66
PERL_LOCAL_LIB_ROOT = /home/rsrchboy/.perlbrew/libs/5.18.2@trunk
PERL_MB_OPT = --install_base /home/rsrchboy/.perlbrew/libs/5.18.2@trunk
PERL_MM_OPT = INSTALL_BASE=/home/rsrchboy/.perlbrew/libs/5.18.2@trunk
SHELL = /bin/bash
TERM = screen-256color
Perl special variables (and OS-specific diagnostics, for MSWin32):
EGID = 1000 4 24 27 30 46 104 112 121 124 999 1000
EUID = 1000
EXECUTABLE_NAME = /home/rsrchboy/perl5/perlbrew/perls/5.18.2/bin/perl
GID = 1000 4 24 27 30 46 104 112 121 124 999 1000
UID = 1000
Perl module toolchain versions installed:
Module Have
------------------- --------
CPAN 2.00
CPAN::Meta 2.140640
Cwd 3.40
ExtUtils::CBuilder 0.280210
ExtUtils::Command 1.17
ExtUtils::Install 1.59
ExtUtils::MakeMaker 6.90
ExtUtils::Manifest 1.63
ExtUtils::ParseXS 3.18
File::Spec 3.40
JSON 2.90
JSON::PP 2.27203
Module::Build 0.4003
Module::Signature n/a
Parse::CPAN::Meta 1.4414
Test::Harness 3.30
Test::More 1.001002
YAML 0.90
YAML::Syck n/a
version 0.9902
--
Summary of my perl5 (revision 5 version 18 subversion 2) configuration:
Platform:
osname=linux, osvers=3.11.0-18-generic, archname=x86_64-linux
uname='linux tychon 3.11.0-18-generic #32-ubuntu smp tue feb 18 21:11:14 utc 2014 x86_64 x86_64 x86_64 gnulinux '
config_args='-de -Dprefix=/home/rsrchboy/perl5/perlbrew/perls/5.18.2 -Aeval:scriptdir=/home/rsrchboy/perl5/perlbrew/perls/5.18.2/bin'
hint=recommended, useposix=true, d_sigaction=define
useithreads=undef, usemultiplicity=undef
useperlio=define, d_sfio=undef, uselargefiles=define, usesocks=undef
use64bitint=define, use64bitall=define, uselongdouble=undef
usemymalloc=n, bincompat5005=undef
Compiler:
cc='cc', ccflags ='-fno-strict-aliasing -pipe -fstack-protector -I/usr/local/include -D_LARGEFILE_SOURCE -D_FILE_OFFSET_BITS=64',
optimize='-O2',
cppflags='-fno-strict-aliasing -pipe -fstack-protector -I/usr/local/include'
ccversion='', gccversion='4.8.1', gccosandvers=''
intsize=4, longsize=8, ptrsize=8, doublesize=8, byteorder=12345678
d_longlong=define, longlongsize=8, d_longdbl=define, longdblsize=16
ivtype='long', ivsize=8, nvtype='double', nvsize=8, Off_t='off_t', lseeksize=8
alignbytes=8, prototype=define
Linker and Libraries:
ld='cc', ldflags =' -fstack-protector -L/usr/local/lib'
libpth=/usr/local/lib /lib/x86_64-linux-gnu /lib/../lib /usr/lib/x86_64-linux-gnu /usr/lib/../lib /lib /usr/lib
libs=-lnsl -ldl -lm -lcrypt -lutil -lc
perllibs=-lnsl -ldl -lm -lcrypt -lutil -lc
libc=libc-2.17.so, so=so, useshrplib=false, libperl=libperl.a
gnulibc_version='2.17'
Dynamic Linking:
dlsrc=dl_dlopen.xs, dlext=so, d_dlsymun=undef, ccdlflags='-Wl,-E'
cccdlflags='-fPIC', lddlflags='-shared -O2 -L/usr/local/lib -fstack-protector'
Characteristics of this binary (from libperl):
Compile-time options: HAS_TIMES PERLIO_LAYERS PERL_DONT_CREATE_GVSV
PERL_HASH_FUNC_ONE_AT_A_TIME_HARD PERL_MALLOC_WRAP
PERL_PRESERVE_IVUV PERL_SAWAMPERSAND USE_64_BIT_ALL
USE_64_BIT_INT USE_LARGE_FILES USE_LOCALE
USE_LOCALE_COLLATE USE_LOCALE_CTYPE
USE_LOCALE_NUMERIC USE_PERLIO USE_PERL_ATOF
Built under linux
Compiled at Mar 7 2014 14:56:34
%ENV:
PERL5LIB="/home/rsrchboy/.perlbrew/libs/5.18.2@trunk/lib/perl5"
PERLBREW_BASHRC_VERSION="0.66"
PERLBREW_HOME="/home/rsrchboy/.perlbrew"
PERLBREW_LIB="trunk"
PERLBREW_MANPATH="/home/rsrchboy/.perlbrew/libs/5.18.2@trunk/man:/home/rsrchboy/perl5/perlbrew/perls/5.18.2/man"
PERLBREW_PATH="/home/rsrchboy/.perlbrew/libs/5.18.2@trunk/bin:/home/rsrchboy/perl5/perlbrew/bin:/home/rsrchboy/perl5/perlbrew/perls/5.18.2/bin"
PERLBREW_PERL="5.18.2"
PERLBREW_ROOT="/home/rsrchboy/perl5/perlbrew"
PERLBREW_VERSION="0.66"
PERL_LOCAL_LIB_ROOT="/home/rsrchboy/.perlbrew/libs/5.18.2@trunk"
PERL_MB_OPT="--install_base /home/rsrchboy/.perlbrew/libs/5.18.2@trunk"
PERL_MM_OPT="INSTALL_BASE=/home/rsrchboy/.perlbrew/libs/5.18.2@trunk"
@INC:
/home/rsrchboy/.perlbrew/libs/5.18.2@trunk/lib/perl5/x86_64-linux
/home/rsrchboy/.perlbrew/libs/5.18.2@trunk/lib/perl5
/home/rsrchboy/perl5/perlbrew/perls/5.18.2/lib/site_perl/5.18.2/x86_64-linux
/home/rsrchboy/perl5/perlbrew/perls/5.18.2/lib/site_perl/5.18.2
/home/rsrchboy/perl5/perlbrew/perls/5.18.2/lib/5.18.2/x86_64-linux
/home/rsrchboy/perl5/perlbrew/perls/5.18.2/lib/5.18.2
.