Report for HTML-Format-2.11

Back
From: metabase:user:b53c7f44-4c0e-11e4-9ced-a04ade49192c
Subject: PASS HTML-Format-2.11 v5.12.0 GNU/Linux
Date: 2015-02-06T01:58:48Z

This distribution has been tested as part of the CPAN Testers
project, supporting the Perl programming language.  See
http://wiki.cpantesters.org/ for more information or email
questions to cpan-testers-discuss@perl.org


--
Dear Nigel Metheringham,

This is a computer-generated report for HTML-Format-2.11
on perl 5.12.0, created by CPAN-Reporter-1.2011.

Thank you for uploading your work to CPAN.  Congratulations!
All tests were successful.

Sections of this report:

    * Tester comments
    * Program output
    * Prerequisites
    * Environment and other context

------------------------------
TESTER COMMENTS
------------------------------

Additional comments from tester:

this report is from an automated smoke testing program
and was not reviewed by a human for accuracy

------------------------------
PROGRAM OUTPUT
------------------------------

Output from './Build test':

t/00-compile.t ............... ok
# Testing with Perl 5.012000, /opt/perlcc5-32-O0-5.12.0/bin/perl
#     Carp version is 1.3301
#     Data::Dumper version is 2.154
#     Encode version is 2.68
#     File::Slurp version is 9999.19
#     File::Spec version is 3.47
#     Font::Metrics::Courier version is undefined
#     Font::Metrics::CourierBold version is undefined
#     Font::Metrics::CourierBoldOblique version is undefined
#     Font::Metrics::CourierOblique version is undefined
#     Font::Metrics::Helvetica version is undefined
#     Font::Metrics::HelveticaBold version is undefined
#     Font::Metrics::HelveticaBoldOblique version is undefined
#     Font::Metrics::HelveticaOblique version is undefined
#     Font::Metrics::TimesBold version is undefined
#     Font::Metrics::TimesBoldItalic version is undefined
#     Font::Metrics::TimesItalic version is undefined
#     Font::Metrics::TimesRoman version is undefined
#     HTML::Element version is 5.03
#     HTML::TreeBuilder version is 5.03
#     IO::File version is 1.14
#     IO::Handle version is 1.28
#     IPC::Open3 version is 1.05
#     Module::Build version is 0.4211
#     Scalar::Util version is 1.41
#     Test::More version is 1.001014
#     base version is 2.18
#     bytes version is 1.04
#     integer version is 1.00
#     parent version is 0.228
#     strict version is 1.04
#     utf8 version is 1.08
#     warnings version is 1.09
t/000-report-versions.t ...... ok
t/01_ps.t .................... ok
t/02_rtf.t ................... ok
t/03_text.t .................. ok
t/04_md.t .................... ok
t/author-critic.t ............ skipped: these tests are for testing by the author
t/author-pod-spell.t ......... skipped: these tests are for testing by the author
t/release-dist-manifest.t .... skipped: these tests are for release candidate testing
t/release-distmeta.t ......... skipped: these tests are for release candidate testing
t/release-eol.t .............. skipped: these tests are for release candidate testing
t/release-has-version.t ...... skipped: these tests are for release candidate testing
t/release-minimum-version.t .. skipped: these tests are for release candidate testing
t/release-no-tabs.t .......... skipped: these tests are for release candidate testing
t/release-pod-syntax.t ....... skipped: these tests are for release candidate testing
t/release-portability.t ...... skipped: these tests are for release candidate testing
t/release-synopsis.t ......... skipped: these tests are for release candidate testing
t/release-unused-vars.t ...... skipped: these tests are for release candidate testing
t/rt69426.t .................. ok
All tests successful.
Files=19, Tests=103,  9 wallclock secs ( 0.40 usr  0.10 sys +  6.44 cusr  0.52 csys =  7.46 CPU)
Result: PASS

------------------------------
PREREQUISITES
------------------------------

Prerequisite modules loaded:

requires:

    Module                              Need   Have    
    ----------------------------------- ------ --------
    base                                0      2.18    
    Carp                                0      1.3301  
    Data::Dumper                        0      2.154   
    Encode                              0      2.68    
    Font::Metrics::Courier              0      0       
    Font::Metrics::CourierBold          0      0       
    Font::Metrics::CourierBoldOblique   0      0       
    Font::Metrics::CourierOblique       0      0       
    Font::Metrics::Helvetica            0      0       
    Font::Metrics::HelveticaBold        0      0       
    Font::Metrics::HelveticaBoldOblique 0      0       
    Font::Metrics::HelveticaOblique     0      0       
    Font::Metrics::TimesBold            0      0       
    Font::Metrics::TimesBoldItalic      0      0       
    Font::Metrics::TimesItalic          0      0       
    Font::Metrics::TimesRoman           0      0       
    HTML::Element                       3.15   5.03    
    HTML::TreeBuilder                   0      5.03    
    integer                             0      1.00    
    IO::File                            0      1.14    
    parent                              0      0.228   
    perl                                5.008  5.012000
    strict                              0      1.04    
    utf8                                0      1.08    
    warnings                            0      1.09    

build_requires:

    Module                              Need   Have    
    ----------------------------------- ------ --------
    bytes                               0      1.04    
    File::Slurp                         0      9999.19 
    File::Spec                          0      3.47    
    IO::Handle                          0      1.28    
    IPC::Open3                          0      1.05    
    Module::Build                       0.3601 0.4211  
    Scalar::Util                        0      1.41    
    Test::More                          0.96   1.001014

configure_requires:

    Module                              Need   Have    
    ----------------------------------- ------ --------
    Module::Build                       0.3601 0.4211  


------------------------------
ENVIRONMENT AND OTHER CONTEXT
------------------------------

Environment variables:

    AUTOMATED_TESTING = 1
    LANG = en_US.utf8
    NONINTERACTIVE_TESTING = 1
    PATH = /usr/lib/qt-3.3/bin:/usr/kerberos/sbin:/usr/kerberos/bin:/usr/lib/ccache:/usr/local/sbin:/usr/sbin:/sbin:/usr/local/bin:/usr/bin:/bin:/usr/lib/firebird/bin:/opt/real/RealPlayer:/root/bin:/usr/lib/firebird/bin:/opt/real/RealPlayer
    PERL5LIB = 
    PERL5OPT = 
    PERL5_CPANPLUS_IS_RUNNING = 3932
    PERL5_CPAN_IS_RUNNING = 3932
    PERL_MM_USE_DEFAULT = 1
    SHELL = /bin/bash
    TERM = xterm

Perl special variables (and OS-specific diagnostics, for MSWin32):

    $^X = /opt/perlcc5-32-O0-5.12.0/bin/perl
    $UID/$EUID = 0 / 0
    $GID = 0 0 1 2 3 4 6 10
    $EGID = 0 0 1 2 3 4 6 10

Perl module toolchain versions installed:

    Module              Have    
    ------------------- --------
    CPAN                2.05    
    CPAN::Meta          2.143240
    Cwd                 3.47    
    ExtUtils::CBuilder  0.280220
    ExtUtils::Command   1.16    
    ExtUtils::Install   2.04    
    ExtUtils::MakeMaker 7.04    
    ExtUtils::Manifest  1.70    
    ExtUtils::ParseXS   3.24    
    File::Spec          3.47    
    JSON                2.90    
    JSON::PP            2.27300 
    Module::Build       0.4211  
    Module::Signature   n/a     
    Parse::CPAN::Meta   1.4414  
    Test::Harness       3.35    
    Test::More          1.001014
    YAML                1.14    
    YAML::Syck          1.29    
    version             0.9912  


--

Summary of my perl5 (revision 5 version 12 subversion 0) configuration:
   
  Platform:
    osname=linux, osvers=2.6.32.63, archname=i686-linux-thread-multi-64int-ld
    uname='linux localhost.localdomain 2.6.32.63 #2 smp fri jan 30 10:45:01 pst 2015 i686 i686 i386 gnulinux '
    config_args='-Dcc=/opt/bin/gcc -Dprefix=/opt/perlcc5-32-O0-5.12.0 -DDEBUGGING'
    hint=recommended, useposix=true, d_sigaction=define
    useithreads=define, usemultiplicity=define
    useperlio=define, d_sfio=undef, uselargefiles=define, usesocks=undef
    use64bitint=define, use64bitall=undef, uselongdouble=define
    usemymalloc=y, bincompat5005=undef
  Compiler:
    cc='/opt/bin/gcc', ccflags ='-D_REENTRANT -D_GNU_SOURCE -DDEBUGGING -fno-strict-aliasing -pipe -fstack-protector -I/usr/local/include -D_LARGEFILE_SOURCE -D_FILE_OFFSET_BITS=64',
    optimize='-O0 -g',
    cppflags='-D_REENTRANT -D_GNU_SOURCE -DDEBUGGING -fno-strict-aliasing -pipe -fstack-protector -I/usr/local/include'
    ccversion='', gccversion='5.0.0 20140817 (experimental)', gccosandvers=''
    intsize=4, longsize=4, ptrsize=4, doublesize=8, byteorder=12345678
    d_longlong=define, longlongsize=8, d_longdbl=define, longdblsize=12
    ivtype='long long', ivsize=8, nvtype='long double', nvsize=12, Off_t='off_t', lseeksize=8
    alignbytes=4, prototype=define
  Linker and Libraries:
    ld='/opt/bin/gcc', ldflags =' -fstack-protector -L/usr/local/lib'
    libpth=/usr/local/lib /lib /usr/lib
    libs=-lnsl -lgdbm -ldb -ldl -lm -lcrypt -lutil -lpthread -lc
    perllibs=-lnsl -ldl -lm -lcrypt -lutil -lpthread -lc
    libc=/lib/libc-2.8.so, so=so, useshrplib=true, libperl=libperl.so
    gnulibc_version='2.8'
  Dynamic Linking:
    dlsrc=dl_dlopen.xs, dlext=so, d_dlsymun=undef, ccdlflags='-Wl,-E -Wl,-rpath,/opt/perlcc5-32-O0-5.12.0/lib/5.12.0/i686-linux-thread-multi-64int-ld/CORE'
    cccdlflags='-fPIC', lddlflags='-shared -O0 -g -L/usr/local/lib -fstack-protector'


Characteristics of this binary (from libperl): 
  Compile-time options: DEBUGGING MULTIPLICITY MYMALLOC PERL_DONT_CREATE_GVSV
                        PERL_IMPLICIT_CONTEXT PERL_MAD PERL_MALLOC_WRAP
                        PERL_TRACK_MEMPOOL USE_64_BIT_INT USE_FAST_STDIO
                        USE_ITHREADS USE_LARGE_FILES USE_LONG_DOUBLE
                        USE_PERLIO USE_PERL_ATOF USE_REENTRANT_API
  Built under linux
  Compiled at Jan 31 2015 04:23:01
  %ENV:
    PERL5LIB=""
    PERL5OPT=""
    PERL5_CPANPLUS_IS_RUNNING="3932"
    PERL5_CPAN_IS_RUNNING="3932"
    PERL_MM_USE_DEFAULT="1"
  @INC:
    /opt/perlcc5-32-O0-5.12.0/lib/site_perl/5.12.0/i686-linux-thread-multi-64int-ld
    /opt/perlcc5-32-O0-5.12.0/lib/site_perl/5.12.0
    /opt/perlcc5-32-O0-5.12.0/lib/5.12.0/i686-linux-thread-multi-64int-ld
    /opt/perlcc5-32-O0-5.12.0/lib/5.12.0
    .