Report for Module-PrintUsed-0.05

Back
From: metabase:user:9820532a-708b-1014-9a05-b18a96298da1
Subject: PASS Module-PrintUsed-0.05 v5.14.2 GNU/Linux
Date: 2011-11-21T00:56:48Z

This distribution has been tested as part of the CPAN Testers
project, supporting the Perl programming language.  See
http://wiki.cpantesters.org/ for more information or email
questions to cpan-testers-discuss@perl.org


--
Dear Christian Renz,

This is a computer-generated report for Module-PrintUsed-0.05
on perl 5.14.2, created by CPAN-Reporter-1.2002.

Thank you for uploading your work to CPAN.  Congratulations!
All tests were successful.

Sections of this report:

    * Tester comments
    * Program output
    * Prerequisites
    * Environment and other context

------------------------------
TESTER COMMENTS
------------------------------

Additional comments from tester:

this report is from an automated smoke testing program
and was not reviewed by a human for accuracy

------------------------------
PROGRAM OUTPUT
------------------------------

Output from '/usr/bin/make test':

PERL_DL_NONLAZY=1 /home/bri/perl5/perlbrew/perls/perl-5.14.2/bin/perl5.14.2 "-MExtUtils::Command::MM" "-e" "test_harness(0, 'blib/lib', 'blib/arch')" t/*.t

Modules used by t/1-use.t:
 - Carp                      1.23     /home/bri/perl5/perlbrew/perls/perl-5.14.2/lib/site_perl/5.14.2/Carp.pm
 - Exporter                  5.65     /home/bri/perl5/perlbrew/perls/perl-5.14.2/lib/5.14.2/Exporter.pm
 - Exporter::Heavy           5.65     /home/bri/perl5/perlbrew/perls/perl-5.14.2/lib/5.14.2/Exporter/Heavy.pm
 - Module::PrintUsed         0.05     /home/bri/.cpan/build/Module-PrintUsed-0.05-mej1bv/blib/lib/Module/PrintUsed.pm
 - Test                      1.25_02  /home/bri/perl5/perlbrew/perls/perl-5.14.2/lib/5.14.2/Test.pm
 - strict                    1.04     /home/bri/perl5/perlbrew/perls/perl-5.14.2/lib/5.14.2/strict.pm
 - vars                      1.02     /home/bri/perl5/perlbrew/perls/perl-5.14.2/lib/5.14.2/vars.pm
 - warnings                  1.12     /home/bri/perl5/perlbrew/perls/perl-5.14.2/lib/5.14.2/warnings.pm
 - warnings::register        1.02     /home/bri/perl5/perlbrew/perls/perl-5.14.2/lib/5.14.2/warnings/register.pm

t/1-use.t ......... ok

Modules used by t/2-modules.t:
 - Carp                      1.23     /home/bri/perl5/perlbrew/perls/perl-5.14.2/lib/site_perl/5.14.2/Carp.pm
 - Exporter                  5.65     /home/bri/perl5/perlbrew/perls/perl-5.14.2/lib/5.14.2/Exporter.pm
 - Exporter::Heavy           5.65     /home/bri/perl5/perlbrew/perls/perl-5.14.2/lib/5.14.2/Exporter/Heavy.pm
 - Module::PrintUsed         0.05     /home/bri/.cpan/build/Module-PrintUsed-0.05-mej1bv/blib/lib/Module/PrintUsed.pm
 - Test                      1.25_02  /home/bri/perl5/perlbrew/perls/perl-5.14.2/lib/5.14.2/Test.pm
 - strict                    1.04     /home/bri/perl5/perlbrew/perls/perl-5.14.2/lib/5.14.2/strict.pm
 - vars                      1.02     /home/bri/perl5/perlbrew/perls/perl-5.14.2/lib/5.14.2/vars.pm
 - warnings                  1.12     /home/bri/perl5/perlbrew/perls/perl-5.14.2/lib/5.14.2/warnings.pm
 - warnings::register        1.02     /home/bri/perl5/perlbrew/perls/perl-5.14.2/lib/5.14.2/warnings/register.pm

t/2-modules.t ..... ok

Modules used by t/pod-coverage.t:
 - B                         1.29     /home/bri/perl5/perlbrew/perls/perl-5.14.2/lib/5.14.2/i686-linux/B.pm
 - Carp                      1.23     /home/bri/perl5/perlbrew/perls/perl-5.14.2/lib/site_perl/5.14.2/Carp.pm
 - Config                             /home/bri/perl5/perlbrew/perls/perl-5.14.2/lib/5.14.2/i686-linux/Config.pm
 - Cwd                       3.33     /home/bri/perl5/perlbrew/perls/perl-5.14.2/lib/5.14.2/i686-linux/Cwd.pm
 - Devel::Symdump            2.08     /home/bri/perl5/perlbrew/perls/perl-5.14.2/lib/site_perl/5.14.2/Devel/Symdump.pm
 - Exporter                  5.65     /home/bri/perl5/perlbrew/perls/perl-5.14.2/lib/5.14.2/Exporter.pm
 - Exporter::Heavy           5.65     /home/bri/perl5/perlbrew/perls/perl-5.14.2/lib/5.14.2/Exporter/Heavy.pm
 - File::Basename            2.82     /home/bri/perl5/perlbrew/perls/perl-5.14.2/lib/5.14.2/File/Basename.pm
 - File::Find                1.19     /home/bri/perl5/perlbrew/perls/perl-5.14.2/lib/5.14.2/File/Find.pm
 - File::Spec                3.33     /home/bri/perl5/perlbrew/perls/perl-5.14.2/lib/5.14.2/i686-linux/File/Spec.pm
 - File::Spec::Unix          3.33     /home/bri/perl5/perlbrew/perls/perl-5.14.2/lib/5.14.2/i686-linux/File/Spec/Unix.pm
 - List::Util                1.23     /home/bri/perl5/perlbrew/perls/perl-5.14.2/lib/5.14.2/i686-linux/List/Util.pm
 - Module::PrintUsed         0.05     /home/bri/.cpan/build/Module-PrintUsed-0.05-mej1bv/blib/lib/Module/PrintUsed.pm
 - PerlIO                    1.07     /home/bri/perl5/perlbrew/perls/perl-5.14.2/lib/5.14.2/PerlIO.pm
 - Pod::Coverage             0.21     /home/bri/perl5/perlbrew/perls/perl-5.14.2/lib/site_perl/5.14.2/Pod/Coverage.pm
 - Pod::Find                 1.35     /home/bri/perl5/perlbrew/perls/perl-5.14.2/lib/5.14.2/Pod/Find.pm
 - Pod::InputObjects         1.31     /home/bri/perl5/perlbrew/perls/perl-5.14.2/lib/5.14.2/Pod/InputObjects.pm
 - Pod::Parser               1.37     /home/bri/perl5/perlbrew/perls/perl-5.14.2/lib/5.14.2/Pod/Parser.pm
 - Scalar::Util              1.23     /home/bri/perl5/perlbrew/perls/perl-5.14.2/lib/5.14.2/i686-linux/Scalar/Util.pm
 - Test::Builder             0.98     /home/bri/perl5/perlbrew/perls/perl-5.14.2/lib/5.14.2/Test/Builder.pm
 - Test::Builder::Module     0.98     /home/bri/perl5/perlbrew/perls/perl-5.14.2/lib/5.14.2/Test/Builder/Module.pm
 - Test::More                0.98     /home/bri/perl5/perlbrew/perls/perl-5.14.2/lib/5.14.2/Test/More.pm
 - Test::Pod::Coverage       1.08     /home/bri/perl5/perlbrew/perls/perl-5.14.2/lib/site_perl/5.14.2/Test/Pod/Coverage.pm
 - XSLoader                  0.15     /home/bri/perl5/perlbrew/perls/perl-5.14.2/lib/site_perl/5.14.2/i686-linux/XSLoader.pm
 - base                      2.15     /home/bri/perl5/perlbrew/perls/perl-5.14.2/lib/5.14.2/base.pm
 - constant                  1.21     /home/bri/perl5/perlbrew/perls/perl-5.14.2/lib/5.14.2/constant.pm
 - overload                  1.13     /home/bri/perl5/perlbrew/perls/perl-5.14.2/lib/5.14.2/overload.pm
 - re                        0.18     /home/bri/perl5/perlbrew/perls/perl-5.14.2/lib/5.14.2/i686-linux/re.pm
 - strict                    1.04     /home/bri/perl5/perlbrew/perls/perl-5.14.2/lib/5.14.2/strict.pm
 - vars                      1.02     /home/bri/perl5/perlbrew/perls/perl-5.14.2/lib/5.14.2/vars.pm
 - warnings                  1.12     /home/bri/perl5/perlbrew/perls/perl-5.14.2/lib/5.14.2/warnings.pm
 - warnings::register        1.02     /home/bri/perl5/perlbrew/perls/perl-5.14.2/lib/5.14.2/warnings/register.pm

t/pod-coverage.t .. ok
t/pod.t ........... ok
All tests successful.
Files=4, Tests=6,  0 wallclock secs ( 0.04 usr  0.01 sys +  0.16 cusr  0.02 csys =  0.23 CPU)
Result: PASS

------------------------------
PREREQUISITES
------------------------------

Prerequisite modules loaded:

build_requires:

    Module              Need Have   
    ------------------- ---- -------
    ExtUtils::MakeMaker 0    6.63_02


------------------------------
ENVIRONMENT AND OTHER CONTEXT
------------------------------

Environment variables:

    AUTOMATED_TESTING = 1
    LANG = C
    LANGUAGE = en_GB:en
    LC_ALL = C
    PATH = /home/bri/bin:/home/bri/perl5/perlbrew/bin:/home/bri/perl5/perlbrew/perls/perl-5.14.2/bin:~/bin:/usr/local/sbin:/usr/local/bin:/usr/sbin:/usr/bin:/sbin:/bin:/usr/games
    PATH_WITHOUT_PERLBREW = ~/bin:/usr/local/sbin:/usr/local/bin:/usr/sbin:/usr/bin:/sbin:/bin:/usr/games
    PERL5LIB = 
    PERL5OPT = 
    PERL5_CPANPLUS_IS_RUNNING = 654
    PERL5_CPAN_IS_RUNNING = 654
    PERL5_CPAN_IS_RUNNING_IN_RECURSION = 17546,654
    PERLBREW_BASHRC_VERSION = 0.33
    PERLBREW_HOME = /home/bri/.perlbrew
    PERLBREW_PATH = /home/bri/perl5/perlbrew/bin:/home/bri/perl5/perlbrew/perls/perl-5.14.2/bin
    PERLBREW_PERL = perl-5.14.2
    PERLBREW_ROOT = /home/bri/perl5/perlbrew
    PERLBREW_VERSION = 0.33
    PERL_CPANM_OPT = --prompt --mirror http://172.16.1.3/cpan/
    PERL_CR_SMOKER_CURRENT = Module-PrintUsed-0.05
    PERL_EXTUTILS_AUTOINSTALL = --defaultdeps
    PERL_MM_USE_DEFAULT = 1
    SHELL = /bin/bash
    TERM = linux

Perl special variables (and OS-specific diagnostics, for MSWin32):

    $^X = /home/bri/perl5/perlbrew/perls/perl-5.14.2/bin/perl5.14.2
    $UID/$EUID = 1000 / 1000
    $GID = 1000 4 20 24 46 112 120 122 1000
    $EGID = 1000 4 20 24 46 112 120 122 1000

Perl module toolchain versions installed:

    Module              Have    
    ------------------- --------
    CPAN                1.9800  
    CPAN::Meta          2.112621
    Cwd                 3.33    
    ExtUtils::CBuilder  0.280202
    ExtUtils::Command   1.17    
    ExtUtils::Install   1.56    
    ExtUtils::MakeMaker 6.63_02 
    ExtUtils::Manifest  1.60    
    ExtUtils::ParseXS   3.05    
    File::Spec          3.33    
    JSON                2.27    
    JSON::PP            2.27008 
    Module::Build       0.3800  
    Module::Signature   n/a     
    Parse::CPAN::Meta   1.4401  
    Test::Harness       3.23    
    Test::More          0.98    
    YAML                0.73    
    YAML::Syck          1.19    
    version             0.95    


--

Summary of my perl5 (revision 5 version 14 subversion 2) configuration:
   
  Platform:
    osname=linux, osvers=2.6.38-11-generic, archname=i686-linux
    uname='linux lappy 2.6.38-11-generic #48-ubuntu smp fri jul 29 19:05:14 utc 2011 i686 i686 i386 gnulinux '
    config_args='-de -Dprefix=/home/bri/perl5/perlbrew/perls/perl-5.14.2'
    hint=recommended, useposix=true, d_sigaction=define
    useithreads=undef, usemultiplicity=undef
    useperlio=define, d_sfio=undef, uselargefiles=define, usesocks=undef
    use64bitint=undef, use64bitall=undef, uselongdouble=undef
    usemymalloc=n, bincompat5005=undef
  Compiler:
    cc='cc', ccflags ='-fno-strict-aliasing -pipe -fstack-protector -I/usr/local/include -D_LARGEFILE_SOURCE -D_FILE_OFFSET_BITS=64',
    optimize='-O2',
    cppflags='-fno-strict-aliasing -pipe -fstack-protector -I/usr/local/include'
    ccversion='', gccversion='4.5.2', gccosandvers=''
    intsize=4, longsize=4, ptrsize=4, doublesize=8, byteorder=1234
    d_longlong=define, longlongsize=8, d_longdbl=define, longdblsize=12
    ivtype='long', ivsize=4, nvtype='double', nvsize=8, Off_t='off_t', lseeksize=8
    alignbytes=4, prototype=define
  Linker and Libraries:
    ld='cc', ldflags =' -fstack-protector -L/usr/local/lib'
    libpth=/usr/local/lib /lib /usr/lib /usr/lib/i386-linux-gnu /usr/lib64
    libs=-lnsl -ldl -lm -lcrypt -lutil -lc
    perllibs=-lnsl -ldl -lm -lcrypt -lutil -lc
    libc=, so=so, useshrplib=false, libperl=libperl.a
    gnulibc_version='2.13'
  Dynamic Linking:
    dlsrc=dl_dlopen.xs, dlext=so, d_dlsymun=undef, ccdlflags='-Wl,-E'
    cccdlflags='-fPIC', lddlflags='-shared -O2 -L/usr/local/lib -fstack-protector'


Characteristics of this binary (from libperl): 
  Compile-time options: PERL_DONT_CREATE_GVSV PERL_MALLOC_WRAP
                        PERL_PRESERVE_IVUV USE_LARGE_FILES USE_PERLIO
                        USE_PERL_ATOF
  Built under linux
  Compiled at Nov 15 2011 23:23:28
  %ENV:
    PERL5LIB=""
    PERL5OPT=""
    PERL5_CPANPLUS_IS_RUNNING="654"
    PERL5_CPAN_IS_RUNNING="654"
    PERL5_CPAN_IS_RUNNING_IN_RECURSION="17546,654"
    PERLBREW_BASHRC_VERSION="0.33"
    PERLBREW_HOME="/home/bri/.perlbrew"
    PERLBREW_PATH="/home/bri/perl5/perlbrew/bin:/home/bri/perl5/perlbrew/perls/perl-5.14.2/bin"
    PERLBREW_PERL="perl-5.14.2"
    PERLBREW_ROOT="/home/bri/perl5/perlbrew"
    PERLBREW_VERSION="0.33"
    PERL_CPANM_OPT="--prompt --mirror http://172.16.1.3/cpan/"
    PERL_CR_SMOKER_CURRENT="Module-PrintUsed-0.05"
    PERL_EXTUTILS_AUTOINSTALL="--defaultdeps"
    PERL_MM_USE_DEFAULT="1"
  @INC:
    /home/bri/perl5/perlbrew/perls/perl-5.14.2/lib/site_perl/5.14.2/i686-linux
    /home/bri/perl5/perlbrew/perls/perl-5.14.2/lib/site_perl/5.14.2
    /home/bri/perl5/perlbrew/perls/perl-5.14.2/lib/5.14.2/i686-linux
    /home/bri/perl5/perlbrew/perls/perl-5.14.2/lib/5.14.2
    .