Pithub v0.01041 Perl 5 v5.32.1 OpenBSD.amd64-openbsd-thread-multi
- Status
- Pass
- From
- Chris Williams (BINGOS)
- Dist
-
Pithub v0.01041
- Platform
- Perl 5 v5.32.1 OpenBSD.amd64-openbsd-thread-multi
- Date
- 2024-01-26 22:46:06
- ID
- b0fed43c-bc9c-11ee-98b0-b3c3213a625c
This distribution has been tested as part of the CPAN Testers
project, supporting the Perl programming language. See
http://wiki.cpantesters.org/ for more information or email
questions to cpan-testers-discuss@perl.org
--
Dear Olaf Alders,
This is a computer-generated error report created automatically by
CPANPLUS, version 0.9914. Testers personal comments may appear
at the end of this report.
Thank you for uploading your work to CPAN. Congratulations!
All tests were successful.
TEST RESULTS:
Below is the error stack from stage 'make test':
PERL_DL_NONLAZY=1 "/home/cpan/pit/thr/perl-5.32.1/bin/perl" "-MExtUtils::Command::MM" "-MTest::Harness" "-e" "undef *Test::Harness::Switches; test_harness(0, 'blib/lib', 'blib/arch')" t/*.t t/live/*.t t/live/repos/actions/*.t
#
# Versions for all modules listed in MYMETA.json (including optional ones):
#
# === Configure Requires ===
#
# Module Want Have
# ------------------- ----- --------
# ExtUtils::MakeMaker any 7.70
# perl 5.006 5.032001
#
# === Build Requires ===
#
# Module Want Have
# ------------------- ---- ----
# ExtUtils::MakeMaker any 7.70
#
# === Test Requires ===
#
# Module Want Have
# ------------------- ----- --------
# Exporter any 5.74
# ExtUtils::MakeMaker any 7.70
# File::Spec any 3.78
# FindBin any 1.51
# HTTP::Response any 6.45
# Import::Into any 1.002005
# MIME::Base64 any 3.15
# Path::Tiny any 0.144
# Scalar::Util any 1.63
# Test::Builder any 1.302198
# Test::Differences any 0.71
# Test::Exception any 0.43
# Test::More any 1.302198
# Test::Most any 0.38
# Test::Needs any 0.002010
# lib any 0.65
# perl 5.010 5.032001
#
# === Test Recommends ===
#
# Module Want Have
# ---------- -------- --------
# CPAN::Meta 2.120900 2.150010
#
# === Runtime Requires ===
#
# Module Want Have
# --------------------- ----- --------
# CHI any 0.61
# Carp any 1.50
# HTTP::Headers any 6.45
# HTTP::Request any 6.45
# HTTP::Request::Common any 6.45
# JSON::MaybeXS any 1.004005
# LWP::UserAgent any 6.76
# Moo any 2.005005
# Moo::Role any 2.005005
# URI any 5.24
# perl 5.010 5.032001
# strict any 1.11
# warnings any 1.47
#
t/00-report-prereqs.t ............. ok
t/basic.t ......................... ok
t/encoding.t ...................... ok
t/events.t ........................ ok
t/gists.t ......................... ok
t/git_data.t ...................... ok
t/issues.t ........................ ok
t/live/basic.t .................... ok
t/live/cache-lru.t ................ skipped: Need Cache::LRU
t/live/cache.t .................... skipped: Set PITHUB_TEST_LIVE to true to run these tests
t/live/events.t ................... ok
t/live/gists.t .................... ok
t/live/git_data.t ................. ok
t/live/issues.t ................... ok
t/live/orgs.t ..................... ok
t/live/pull_requests.t ............ ok
t/live/repos.t .................... ok
t/live/repos/actions/workflows.t .. ok
t/live/users.t .................... ok
t/multi.t ......................... ok
t/orgs.t .......................... ok
t/pull_requests.t ................. ok
t/repos.t ......................... ok
t/search.t ........................ ok
t/test.t .......................... ok
t/users.t ......................... ok
All tests successful.
Files=26, Tests=3029, 14 wallclock secs ( 0.48 usr 0.12 sys + 9.61 cusr 2.37 csys = 12.58 CPU)
Result: PASS
PREREQUISITES:
Here is a list of prerequisites you specified and versions we
managed to load:
Module Name Have Want
CHI 0.61 0
Carp 1.50 0
Exporter 5.74 0
ExtUtils::MakeMaker 7.70 0
File::Spec 3.78 0
FindBin 1.51 0
HTTP::Headers 6.45 0
HTTP::Request 6.45 0
HTTP::Request::Common 6.45 0
HTTP::Response 6.45 0
Import::Into 1.002005 0
JSON::MaybeXS 1.004005 0
LWP::UserAgent 6.76 0
MIME::Base64 3.15 0
Moo 2.005005 0
Moo::Role 2.005005 0
Path::Tiny 0.144 0
Scalar::Util 1.63 0
Test::Builder 1.302198 0
Test::Differences 0.71 0
Test::Exception 0.43 0
Test::More 1.302198 0
Test::Most 0.38 0
Test::Needs 0.002010 0
URI 5.24 0
lib 0.65 0
strict 1.11 0
warnings 1.47 0
Perl module toolchain versions installed:
Module Name Have
CPANPLUS 0.9914
CPANPLUS::Dist::Build 0.90
Cwd 3.78
ExtUtils::CBuilder 0.280236
ExtUtils::Command 7.70
ExtUtils::Install 2.22
ExtUtils::MakeMaker 7.70
ExtUtils::Manifest 1.75
ExtUtils::ParseXS 3.51
File::Spec 3.78
Module::Build 0.4234
Pod::Parser 0
Pod::Simple 3.40
Test2 1.302198
Test::Harness 3.48
Test::More 1.302198
version 0.9930
******************************** NOTE ********************************
The comments above are created mechanically, possibly without manual
checking by the sender. As there are many people performing automatic
tests on each upload to CPAN, it is likely that you will receive
identical messages about the same problem.
If you believe that the message is mistaken, please reply to the first
one with correction and/or additional informations, and do not take
it personally. We appreciate your patience. :)
**********************************************************************
Additional comments:
This report was machine-generated by CPANPLUS::Dist::YACSmoke 1.08.
Powered by minismokebox version 0.68
CPANPLUS is prefering Build.PL
------------------------------
ENVIRONMENT AND OTHER CONTEXT
------------------------------
Environment variables:
AUTOMATED_TESTING = 1
NONINTERACTIVE_TESTING = 1
PATH = /home/cpan/bin:/bin:/sbin:/usr/bin:/usr/sbin:/usr/X11R6/bin:/usr/local/bin:/usr/local/sbin
PERL5LIB = /home/cpan/pit/jail/JC0hYaejd4/lib/perl5:/home/cpan/pit/thr/conf/perl-5.32.1/.cpanplus/5.32.1/build/VqhniyrxlA/Pithub-0.01041/blib/lib:/home/cpan/pit/thr/conf/perl-5.32.1/.cpanplus/5.32.1/build/VqhniyrxlA/Pithub-0.01041/blib/arch
PERL5_CPANPLUS_IS_RUNNING = 2697
PERL5_CPANPLUS_IS_VERSION = 0.9914
PERL5_MINISMOKEBOX = 0.68
PERL5_YACSMOKE_BASE = /home/cpan/pit/thr/conf/perl-5.32.1
PERL_EXTUTILS_AUTOINSTALL = --defaultdeps
PERL_LOCAL_LIB_ROOT = /home/cpan/pit/jail/JC0hYaejd4
PERL_MB_OPT = --install_base "/home/cpan/pit/jail/JC0hYaejd4"
PERL_MM_OPT = INSTALL_BASE=/home/cpan/pit/jail/JC0hYaejd4
PERL_MM_USE_DEFAULT = 1
PERL_USE_UNSAFE_INC = 1
SHELL = /usr/local/bin/bash
TERM = screen.xterm-256color
Perl special variables (and OS-specific diagnostics, for MSWin32):
Perl: $^X = /home/cpan/pit/thr/perl-5.32.1/bin/perl
UID: $< = 1001
EUID: $> = 1001
GID: $( = 1001 1001
EGID: $) = 1001 1001
-------------------------------
--
Summary of my perl5 (revision 5 version 32 subversion 1) configuration:
Platform:
osname=openbsd
osvers=7.3
archname=OpenBSD.amd64-openbsd-thread-multi
uname='openbsd overture.bingosnet.co.uk 7.3 generic#1072 amd64 '
config_args='-des -Dprefix=/home/cpan/pit/thr/perl-5.32.1 -Dusethreads'
hint=recommended
useposix=true
d_sigaction=define
useithreads=define
usemultiplicity=define
use64bitint=define
use64bitall=define
uselongdouble=undef
usemymalloc=n
default_inc_excludes_dot=define
bincompat5005=undef
Compiler:
cc='cc'
ccflags ='-pthread -fno-strict-aliasing -pipe -fstack-protector-strong -I/usr/local/include'
optimize='-O2'
cppflags='-pthread -fno-strict-aliasing -pipe -fstack-protector-strong -I/usr/local/include'
ccversion=''
gccversion='OpenBSD Clang 13.0.0'
gccosandvers=''
intsize=4
longsize=8
ptrsize=8
doublesize=8
byteorder=12345678
doublekind=3
d_longlong=define
longlongsize=8
d_longdbl=define
longdblsize=16
longdblkind=3
ivtype='long'
ivsize=8
nvtype='double'
nvsize=8
Off_t='off_t'
lseeksize=8
alignbytes=8
prototype=define
Linker and Libraries:
ld='cc'
ldflags ='-pthread -Wl,-E -fstack-protector-strong -L/usr/local/lib'
libpth=/usr/lib/clang/13.0.0/lib /usr/lib /usr/local/lib
libs=-lpthread -lgdbm -lm -lutil -lc
perllibs=-lpthread -lm -lutil -lc
libc=/usr/lib/libc.so.97.0
so=so
useshrplib=false
libperl=libperl.a
gnulibc_version=''
Dynamic Linking:
dlsrc=dl_dlopen.xs
dlext=so
d_dlsymun=undef
ccdlflags=' '
cccdlflags='-DPIC -fPIC '
lddlflags='-shared -fPIC -L/usr/local/lib -fstack-protector-strong'
Characteristics of this binary (from libperl):
Compile-time options:
HAS_TIMES
MULTIPLICITY
PERLIO_LAYERS
PERL_COPY_ON_WRITE
PERL_DONT_CREATE_GVSV
PERL_IMPLICIT_CONTEXT
PERL_MALLOC_WRAP
PERL_OP_PARENT
PERL_PRESERVE_IVUV
USE_64_BIT_ALL
USE_64_BIT_INT
USE_ITHREADS
USE_LARGE_FILES
USE_LOCALE
USE_LOCALE_COLLATE
USE_LOCALE_CTYPE
USE_LOCALE_NUMERIC
USE_LOCALE_TIME
USE_PERLIO
USE_PERL_ATOF
USE_REENTRANT_API
Locally applied patches:
Devel::PatchPerl 2.08
Built under openbsd
Compiled at May 30 2023 12:09:58
%ENV:
PERL5LIB="/home/cpan/pit/jail/JC0hYaejd4/lib/perl5:/home/cpan/pit/thr/conf/perl-5.32.1/.cpanplus/5.32.1/build/VqhniyrxlA/Pithub-0.01041/blib/lib:/home/cpan/pit/thr/conf/perl-5.32.1/.cpanplus/5.32.1/build/VqhniyrxlA/Pithub-0.01041/blib/arch"
PERL5_CPANPLUS_IS_RUNNING="2697"
PERL5_CPANPLUS_IS_VERSION="0.9914"
PERL5_MINISMOKEBOX="0.68"
PERL5_YACSMOKE_BASE="/home/cpan/pit/thr/conf/perl-5.32.1"
PERL_EXTUTILS_AUTOINSTALL="--defaultdeps"
PERL_LOCAL_LIB_ROOT="/home/cpan/pit/jail/JC0hYaejd4"
PERL_MB_OPT="--install_base "/home/cpan/pit/jail/JC0hYaejd4""
PERL_MM_OPT="INSTALL_BASE=/home/cpan/pit/jail/JC0hYaejd4"
PERL_MM_USE_DEFAULT="1"
PERL_USE_UNSAFE_INC="1"
@INC:
/home/cpan/pit/jail/JC0hYaejd4/lib/perl5/5.32.1/OpenBSD.amd64-openbsd-thread-multi
/home/cpan/pit/jail/JC0hYaejd4/lib/perl5/5.32.1
/home/cpan/pit/jail/JC0hYaejd4/lib/perl5/OpenBSD.amd64-openbsd-thread-multi
/home/cpan/pit/jail/JC0hYaejd4/lib/perl5
/home/cpan/pit/thr/conf/perl-5.32.1/.cpanplus/5.32.1/build/VqhniyrxlA/Pithub-0.01041/blib/lib
/home/cpan/pit/thr/conf/perl-5.32.1/.cpanplus/5.32.1/build/VqhniyrxlA/Pithub-0.01041/blib/arch
/home/cpan/pit/thr/perl-5.32.1/lib/site_perl/5.32.1/OpenBSD.amd64-openbsd-thread-multi
/home/cpan/pit/thr/perl-5.32.1/lib/site_perl/5.32.1
/home/cpan/pit/thr/perl-5.32.1/lib/5.32.1/OpenBSD.amd64-openbsd-thread-multi
/home/cpan/pit/thr/perl-5.32.1/lib/5.32.1
.