Report for MKDoc-Text-Structured-0.83

Back
From: metabase:user:30f0bd62-2aae-11df-837a-5e0a49663a4f
Subject: PASS MKDoc-Text-Structured-0.83 v5.15.6 OpenBSD
Date: 2012-02-11T21:59:38Z

This distribution has been tested as part of the CPAN Testers
project, supporting the Perl programming language.  See
http://wiki.cpantesters.org/ for more information or email
questions to cpan-testers-discuss@perl.org


--
Dear Bruno Postle,

This is a computer-generated report for MKDoc-Text-Structured-0.83
on perl 5.15.6, created by CPAN-Reporter-1.2002.

Thank you for uploading your work to CPAN.  Congratulations!
All tests were successful.

Sections of this report:

    * Tester comments
    * Program output
    * Prerequisites
    * Environment and other context

------------------------------
TESTER COMMENTS
------------------------------

Additional comments from tester:

this report is from an automated smoke testing program
and was not reviewed by a human for accuracy

------------------------------
PROGRAM OUTPUT
------------------------------

Output from '/usr/bin/make test':

PERL_DL_NONLAZY=1 /home/sts/cpansmoke/perl-5.15.6/bin/perl5.15.6 "-MExtUtils::Command::MM" "-e" "test_harness(0, 'blib/lib', 'blib/arch')" t/*.t
t/001_p.t ................. ok
t/002_h1_h2_h3.t .......... ok
t/003_pre.t ............... ok
t/004_strong.t ............ ok
t/005_strong_across.t ..... ok
t/006_em.t ................ ok
t/007_em_across.t ......... ok
t/008_blockquote.t ........ ok
t/010_ul.t ................ ok
t/011_ol.t ................ ok
t/012_spaces_only.t ....... ok
t/013_pre_sep.t ........... ok
t/014_niceties.t .......... ok
t/015_becky_marketeese.t .. ok
t/016_uri.t ............... ok
t/017_entities_only.t ..... ok
t/018_pre_indented.t ...... ok
t/019_insert_spaces.t ..... ok
t/020_mailto.t ............ ok
t/021_smilies.t ........... ok
t/022_nofollow.t .......... ok
All tests successful.
Files=21, Tests=133,  5 wallclock secs ( 0.29 usr  0.17 sys +  3.41 cusr  0.57 csys =  4.44 CPU)
Result: PASS

------------------------------
PREREQUISITES
------------------------------

Prerequisite modules loaded:

requires:

    Module              Need Have    
    ------------------- ---- --------
    Getopt::Declare     0    1.14    
    Scalar::Util        1.07 1.23    
    Test::More          0.47 0.98    
    URI::Find           0.13 20111103

build_requires:

    Module              Need Have    
    ------------------- ---- --------
    ExtUtils::MakeMaker 0    6.63_02 


------------------------------
ENVIRONMENT AND OTHER CONTEXT
------------------------------

Environment variables:

    AUTOMATED_TESTING = 1
    PATH = /home/sts/bin:/bin:/sbin:/usr/bin:/usr/sbin:/usr/X11R6/bin:/usr/local/bin:/usr/local/sbin:/usr/games:.
    PERL5LIB = /home/sts/cpansmoke/perl-5.15.6/cpan/build/Getopt-Declare-1.14-SAj07g/blib/arch:/home/sts/cpansmoke/perl-5.15.6/cpan/build/Getopt-Declare-1.14-SAj07g/blib/lib:/home/sts/cpansmoke/perl-5.15.6/cpan/build/URI-Find-20111103-H8pLtN/blib/arch:/home/sts/cpansmoke/perl-5.15.6/cpan/build/URI-Find-20111103-H8pLtN/blib/lib:/home/sts/cpansmoke/perl-5.15.6/cpan/build/URI-1.59-DGOOgx/blib/arch:/home/sts/cpansmoke/perl-5.15.6/cpan/build/URI-1.59-DGOOgx/blib/lib
    PERL5OPT = 
    PERL5_CPANPLUS_IS_RUNNING = 3236
    PERL5_CPAN_IS_RUNNING = 3236
    PERL5_CPAN_IS_RUNNING_IN_RECURSION = 13564,3236
    PERL_CR_SMOKER_CURRENT = MKDoc-Text-Structured-0.83
    PERL_EXTUTILS_AUTOINSTALL = --defaultdeps
    PERL_MM_USE_DEFAULT = 1
    SHELL = /usr/local/bin/bash
    TERM = screen
    TMPDIR = /home/sts/cpansmoke/tmp

Perl special variables (and OS-specific diagnostics, for MSWin32):

    $^X = /home/sts/cpansmoke/perl-5.15.6/bin/perl5.15.6
    $UID/$EUID = 1000 / 1000
    $GID = 10 10 0
    $EGID = 10 10 0

Perl module toolchain versions installed:

    Module              Have    
    ------------------- --------
    CPAN                1.9800  
    CPAN::Meta          2.112621
    Cwd                 3.38    
    ExtUtils::CBuilder  0.280205
    ExtUtils::Command   1.17    
    ExtUtils::Install   1.57    
    ExtUtils::MakeMaker 6.63_02 
    ExtUtils::Manifest  1.60    
    ExtUtils::ParseXS   3.08    
    File::Spec          3.34    
    JSON                n/a     
    JSON::PP            2.27200 
    Module::Build       0.39_01 
    Module::Signature   n/a     
    Parse::CPAN::Meta   1.4401  
    Test::Harness       3.23    
    Test::More          0.98    
    YAML                n/a     
    YAML::Syck          1.19    
    version             0.96    


--

Summary of my perl5 (revision 5 version 15 subversion 6) configuration:
   
  Platform:
    osname=openbsd, osvers=5.0, archname=OpenBSD.i386-openbsd-thread-multi
    uname='openbsd cpansmoke5 5.0 generic.mp#59 i386 '
    config_args='-des -Dusedevel -Dusethreads -Dprefix=/home/sts/cpansmoke/perl-5.15.6'
    hint=recommended, useposix=true, d_sigaction=define
    useithreads=define, usemultiplicity=define
    useperlio=define, d_sfio=undef, uselargefiles=define, usesocks=undef
    use64bitint=undef, use64bitall=undef, uselongdouble=undef
    usemymalloc=y, bincompat5005=undef
  Compiler:
    cc='cc', ccflags ='-pthread -fno-strict-aliasing -pipe -fstack-protector -I/usr/local/include',
    optimize='-O2',
    cppflags='-pthread -fno-strict-aliasing -pipe -fstack-protector -I/usr/local/include'
    ccversion='', gccversion='4.2.1 20070719 ', gccosandvers='openbsd5.0'
    intsize=4, longsize=4, ptrsize=4, doublesize=8, byteorder=1234
    d_longlong=define, longlongsize=8, d_longdbl=define, longdblsize=12
    ivtype='long', ivsize=4, nvtype='double', nvsize=8, Off_t='off_t', lseeksize=8
    alignbytes=4, prototype=define
  Linker and Libraries:
    ld='cc', ldflags ='-pthread -Wl,-E  -fstack-protector -L/usr/local/lib'
    libpth=/usr/local/lib /usr/lib
    libs=-lgdbm -lm -lutil -lc
    perllibs=-lm -lutil -lc
    libc=/usr/lib/libc.so.60.1, so=so, useshrplib=false, libperl=libperl.a
    gnulibc_version=''
  Dynamic Linking:
    dlsrc=dl_dlopen.xs, dlext=so, d_dlsymun=undef, ccdlflags=' '
    cccdlflags='-DPIC -fPIC ', lddlflags='-shared -fPIC  -L/usr/local/lib -fstack-protector'


Characteristics of this binary (from libperl): 
  Compile-time options: HAS_TIMES MULTIPLICITY MYMALLOC PERLIO_LAYERS
                        PERL_DONT_CREATE_GVSV PERL_IMPLICIT_CONTEXT
                        PERL_MALLOC_WRAP PERL_PRESERVE_IVUV PERL_USE_DEVEL
                        USE_ITHREADS USE_LARGE_FILES USE_LOCALE
                        USE_LOCALE_COLLATE USE_LOCALE_CTYPE
                        USE_LOCALE_NUMERIC USE_PERLIO USE_PERL_ATOF
                        USE_REENTRANT_API
  Built under openbsd
  Compiled at Dec 23 2011 07:44:18
  %ENV:
    PERL5LIB="/home/sts/cpansmoke/perl-5.15.6/cpan/build/Getopt-Declare-1.14-SAj07g/blib/arch:/home/sts/cpansmoke/perl-5.15.6/cpan/build/Getopt-Declare-1.14-SAj07g/blib/lib:/home/sts/cpansmoke/perl-5.15.6/cpan/build/URI-Find-20111103-H8pLtN/blib/arch:/home/sts/cpansmoke/perl-5.15.6/cpan/build/URI-Find-20111103-H8pLtN/blib/lib:/home/sts/cpansmoke/perl-5.15.6/cpan/build/URI-1.59-DGOOgx/blib/arch:/home/sts/cpansmoke/perl-5.15.6/cpan/build/URI-1.59-DGOOgx/blib/lib"
    PERL5OPT=""
    PERL5_CPANPLUS_IS_RUNNING="3236"
    PERL5_CPAN_IS_RUNNING="3236"
    PERL5_CPAN_IS_RUNNING_IN_RECURSION="13564,3236"
    PERL_CR_SMOKER_CURRENT="MKDoc-Text-Structured-0.83"
    PERL_EXTUTILS_AUTOINSTALL="--defaultdeps"
    PERL_MM_USE_DEFAULT="1"
  @INC:
    /home/sts/cpansmoke/perl-5.15.6/cpan/build/Getopt-Declare-1.14-SAj07g/blib/arch
    /home/sts/cpansmoke/perl-5.15.6/cpan/build/Getopt-Declare-1.14-SAj07g/blib/lib
    /home/sts/cpansmoke/perl-5.15.6/cpan/build/URI-Find-20111103-H8pLtN/blib/arch
    /home/sts/cpansmoke/perl-5.15.6/cpan/build/URI-Find-20111103-H8pLtN/blib/lib
    /home/sts/cpansmoke/perl-5.15.6/cpan/build/URI-1.59-DGOOgx/blib/arch
    /home/sts/cpansmoke/perl-5.15.6/cpan/build/URI-1.59-DGOOgx/blib/lib
    /home/sts/cpansmoke/perl-5.15.6/lib/site_perl/5.15.6/OpenBSD.i386-openbsd-thread-multi
    /home/sts/cpansmoke/perl-5.15.6/lib/site_perl/5.15.6
    /home/sts/cpansmoke/perl-5.15.6/lib/5.15.6/OpenBSD.i386-openbsd-thread-multi
    /home/sts/cpansmoke/perl-5.15.6/lib/5.15.6
    .