Geo-Coder-List v0.29 Perl 5 v5.34.1 RC2 x86_64-linux-ld
        
            - Status
 
            - Pass
 
            - From
 
            - Andreas J. König (ANDK)
 
            - Dist
 
            - 
                Geo-Coder-List v0.29
            
 
            - Platform
 
            - Perl 5 v5.34.1 RC2 x86_64-linux-ld
 
            - Date
 
            - 2022-03-13 18:45:02
 
            - ID
 
            - b130308c-a2fd-11ec-885d-f6538e06f81f
 
        
        This distribution has been tested as part of the CPAN Testers
project, supporting the Perl programming language.  See
http://wiki.cpantesters.org/ for more information or email
questions to cpan-testers-discuss@perl.org
--
Dear Nigel Horne,
This is a computer-generated report for Geo-Coder-List-0.29
on perl 5.34.1, created by CPAN-Reporter-1.2018.
Thank you for uploading your work to CPAN.  Congratulations!
All tests were successful.
Sections of this report:
    * Tester comments
    * Program output
    * Prerequisites
    * Environment and other context
------------------------------
TESTER COMMENTS
------------------------------
Additional comments from tester:
this report is from an automated smoke testing program
and was not reviewed by a human for accuracy
------------------------------
PROGRAM OUTPUT
------------------------------
Output from '/usr/bin/make test':
PERL_DL_NONLAZY=1 "/tmp/basesmoker-reloperl-Ezxt/bin/perl" "-MExtUtils::Command::MM" "-MTest::Harness" "-e" "undef *Test::Harness::Switches; test_harness(0, 'blib/lib', 'blib/arch')" t/*.t
# Testing Geo::Coder::List 0.29, Perl 5.034001, /tmp/basesmoker-reloperl-Ezxt/bin/perl
t/00-load.t ........... ok
t/10-new.t ............ ok
# Geo::Coder::Bing not installed - skipping tests
t/bing.t .............. ok
t/boiler.t ............ ok
# Using Geo::Coder::CA 0.12
t/canada.t ............ ok
# Geo::Coder::US::Census not installed - skipping tests
t/census.t ............ ok
t/changes.t ........... skipped: Author tests not required for installation
t/comment-spelling.t .. skipped: Author tests not required for installation
t/coverage.t .......... ok
t/critic.t ............ skipped: Author tests not required for installation
t/cv.t ................ skipped: Author tests not required for installation
t/dist.t .............. skipped: Author tests not required for installation
t/eof.t ............... skipped: Author tests not required for installation
t/eol.t ............... skipped: Author tests not required for installation
# Geo::Coder::Free not installed - skipping tests
t/free.t .............. ok
# Using Geo::Coder::GeocodeFarm 0.0402
# Not enabling this test for smokers
t/geofarm.t ........... ok
# Geo::GeoNames not installed - skipping tests
t/geonames.t .......... ok
# Using Geo::Coder::Google::V3 0.20
# Set GMAP_KEY to enable more tests
t/google.t ............ ok
# Geo::Coder::GooglePlaces::V3 not installed - skipping tests
t/googleplaces.t ...... ok
t/gv.t ................ skipped: Author tests not required for installation
t/kwalitee.t .......... skipped: Author tests not required for installation
t/links.t ............. skipped: Author tests not required for installation
t/list.t .............. ok
t/manifest.t .......... skipped: Author tests not required for installation
# Geo::Coder::Mapbox not installed - skipping tests
t/mapbox.t ............ ok
t/no404s.t ............ skipped: Author tests not required for installation
t/noplan.t ............ skipped: Author tests not required for installation
# Using Geo::Coder::OpenCage 0.33
# Set BMAP_KEY to enable more tests
t/opencage.t .......... ok
# Using Geo::Coder::OSM 0.03
t/osm.t ............... ok
t/ovi.t ............... ok
t/pod-cm.t ............ ok
t/pod-spelling.t ...... skipped: Author tests not required for installation
t/pod.t ............... skipped: Author tests not required for installation
# Using Geo::Coder::Postcodes 0.07
t/postcodes.t ......... ok
# Geo::Coder::RandMcnally not installed - skipping tests
t/rand.t .............. ok
t/snippets.t .......... skipped: Author tests not required for installation
t/unused.t ............ skipped: Author tests not required for installation
t/us.t ................ ok
t/used.t .............. skipped: Author tests not required for installation
t/vars.t .............. skipped: Author tests not required for installation
t/xyz.t ............... ok
All tests successful.
Test Summary Report
-------------------
t/boiler.t          (Wstat: 0 Tests: 3 Failed: 0)
  TODO passed:   1-3
Files=41, Tests=381, 45 wallclock secs ( 0.08 usr  0.18 sys +  3.78 cusr  1.26 csys =  5.30 CPU)
Result: PASS
------------------------------
PREREQUISITES
------------------------------
Prerequisite modules loaded:
requires:
    Module                         Need     Have    
    ------------------------------ -------- --------
    Carp                           0        1.52    
    HTML::Entities                 0        3.76    
    LWP::Protocol::https           0        6.10    
    perl                           5.010001 5.034001
    Time::HiRes                    0        1.9767  
build_requires:
    Module                         Need     Have    
    ------------------------------ -------- --------
    ExtUtils::MakeMaker            0        7.64    
    Geo::Coder::CA                 0        0.12    
    Geo::Coder::DataScienceToolkit 0        0.02    
    Geo::Coder::GeocodeFarm        0        0.0402  
    Geo::Coder::OpenCage           0        0.33    
    Geo::Coder::OSM                0        0.03    
    Geo::Coder::Ovi                0        0.03    
    Geo::Coder::Postcodes          0        0.07    
    LWP::UserAgent::Throttled      0.04     0.09    
    Test::Carp                     0        0.2     
    Test::Deep                     0        1.130   
    Test::LWP::UserAgent           0        0.036   
    Test::Most                     0        0.37    
    Test::NoWarnings               0        1.06    
    Test::Number::Delta            0        1.06    
configure_requires:
    Module                         Need     Have    
    ------------------------------ -------- --------
    ExtUtils::MakeMaker            0        7.64    
------------------------------
ENVIRONMENT AND OTHER CONTEXT
------------------------------
Environment variables:
    AUTOMATED_TESTING = 1
    LANG = en_US.utf8
    PATH = /home/sand/bin:/usr/local/bin:/usr/local/sbin:/usr/sbin:/usr/bin:/sbin:/bin:/usr/games:/usr/local/games:/snap/bin:/usr/local/perl/bin:/usr/X11/bin
    PERL = /tmp/basesmoker-reloperl-Ezxt/bin/perl
    PERL5LIB = /tmp/loop_over_bdir-25384-YzblV2/Simulation-Automate-1.0.1-0/blib/arch:/tmp/loop_over_bdir-25384-YzblV2/Simulation-Automate-1.0.1-0/blib/lib:/tmp/loop_over_bdir-25384-YzblV2/DBIx-Migration-Directories-0.12-0/blib/arch:/tmp/loop_over_bdir-25384-YzblV2/DBIx-Migration-Directories-0.12-0/blib/lib:/tmp/loop_over_bdir-25384-YzblV2/triceps-2.1.0-0/blib/arch:/tmp/loop_over_bdir-25384-YzblV2/triceps-2.1.0-0/blib/lib:/tmp/loop_over_bdir-25384-YzblV2/Linux-InitFS-0.2-0/blib/arch:/tmp/loop_over_bdir-25384-YzblV2/Linux-InitFS-0.2-0/blib/lib:/tmp/loop_over_bdir-25384-YzblV2/Devel-Required-0.16-0/blib/arch:/tmp/loop_over_bdir-25384-YzblV2/Devel-Required-0.16-0/blib/lib:/tmp/loop_over_bdir-25384-YzblV2/makepp-1.19-0/blib/arch:/tmp/loop_over_bdir-25384-YzblV2/makepp-1.19-0/blib/lib:/tmp/loop_over_bdir-25384-YzblV2/Alien-SNMP-MIBDEV-2.020000-0/blib/arch:/tmp/loop_over_bdir-25384-YzblV2/Alien-SNMP-MIBDEV-2.020000-0/blib/lib:/tmp/loop_over_bdir-25384-YzblV2/App-rmcd-0.280-0/blib/arch:/tmp/loop_over_bdir-25384-YzblV2/App-rmcd-0.280-0/blib/lib:/tmp/loop_over_bdir-25384-YzblV2/BuzzSaw-0.12.0-0/blib/arch:/tmp/loop_over_bdir-25384-YzblV2/BuzzSaw-0.12.0-0/blib/lib:/tmp/loop_over_bdir-25384-YzblV2/Dpkg-1.21.1-0/blib/arch:/tmp/loop_over_bdir-25384-YzblV2/Dpkg-1.21.1-0/blib/lib:/tmp/loop_over_bdir-25384-YzblV2/AllKnowingDNS-1.7-0/blib/arch:/tmp/loop_over_bdir-25384-YzblV2/AllKnowingDNS-1.7-0/blib/lib:/tmp/loop_over_bdir-25384-YzblV2/Serge-1.4-0/blib/arch:/tmp/loop_over_bdir-25384-YzblV2/Serge-1.4-0/blib/lib
    PERL5OPT = 
    PERL5_CPANPLUS_IS_RUNNING = 25395
    PERL5_CPAN_IS_RUNNING = 25395
    PERL_CANARY_STABILITY_NOPROMPT = 1
    PERL_MM_USE_DEFAULT = 1
    PERL_USE_UNSAFE_INC = 1
    SHELL = /usr/bin/zsh
    TERM = screen
Perl special variables (and OS-specific diagnostics, for MSWin32):
    $^X = /tmp/basesmoker-reloperl-Ezxt/bin/perl
    $UID/$EUID = 1005 / 1005
    $GID = 1005 1005
    $EGID = 1005 1005
Perl module toolchain versions installed:
    Module              Have    
    ------------------- --------
    CPAN                2.33    
    CPAN::Meta          2.150010
    Cwd                 3.80    
    ExtUtils::CBuilder  0.280236
    ExtUtils::Command   7.64    
    ExtUtils::Install   2.20    
    ExtUtils::MakeMaker 7.64    
    ExtUtils::Manifest  1.73    
    ExtUtils::ParseXS   3.43    
    File::Spec          3.80    
    JSON                4.05    
    JSON::PP            4.06    
    Module::Build       0.4231  
    Module::Signature   0.88    
    Parse::CPAN::Meta   2.150010
    Test::Harness       3.43    
    Test::More          1.302190
    YAML                1.30    
    YAML::Syck          1.34    
    version             0.9929  
--
Summary of my perl5 (revision 5 version 34 subversion 1) configuration:
  Commit id: 23fa289c91349497f7c149ace76da18516ca92be
  Platform:
    osname=linux
    osvers=4.15.0-169-generic
    archname=x86_64-linux-ld
    uname='linux k93bionic 4.15.0-169-generic #177-ubuntu smp thu feb 3 10:50:38 utc 2022 x86_64 x86_64 x86_64 gnulinux '
    config_args='-Dprefix=/home/sand/src/perl/repoperls/installed-perls/host/k93bionic/v5.34.1-RC2/ca05 -Dmyhostname=k93bionic -Dinstallusrbinperl=n -Uversiononly -Dusedevel -des -Ui_db -Dlibswanted=cl pthread socket inet nsl gdbm dbm malloc dl ld sun m crypt sec util c cposix posix ucb BSD gdbm_compat -Uuseithreads -Duselongdouble -DEBUGGING=-g'
    hint=recommended
    useposix=true
    d_sigaction=define
    useithreads=undef
    usemultiplicity=undef
    use64bitint=define
    use64bitall=define
    uselongdouble=define
    usemymalloc=n
    default_inc_excludes_dot=define
  Compiler:
    cc='cc'
    ccflags ='-fwrapv -fno-strict-aliasing -pipe -fstack-protector-strong -I/usr/local/include -D_LARGEFILE_SOURCE -D_FILE_OFFSET_BITS=64'
    optimize='-O2 -g'
    cppflags='-fwrapv -fno-strict-aliasing -pipe -fstack-protector-strong -I/usr/local/include'
    ccversion=''
    gccversion='7.5.0'
    gccosandvers=''
    intsize=4
    longsize=8
    ptrsize=8
    doublesize=8
    byteorder=12345678
    doublekind=3
    d_longlong=define
    longlongsize=8
    d_longdbl=define
    longdblsize=16
    longdblkind=3
    ivtype='long'
    ivsize=8
    nvtype='long double'
    nvsize=16
    Off_t='off_t'
    lseeksize=8
    alignbytes=16
    prototype=define
  Linker and Libraries:
    ld='cc'
    ldflags =' -fstack-protector-strong -L/usr/local/lib'
    libpth=/usr/local/lib /usr/lib/x86_64-linux-gnu /usr/lib /lib/x86_64-linux-gnu /lib
    libs=-lpthread -lnsl -ldl -lm -lcrypt -lutil -lc
    perllibs=-lpthread -lnsl -ldl -lm -lcrypt -lutil -lc
    libc=libc-2.27.so
    so=so
    useshrplib=false
    libperl=libperl.a
    gnulibc_version='2.27'
  Dynamic Linking:
    dlsrc=dl_dlopen.xs
    dlext=so
    d_dlsymun=undef
    ccdlflags='-Wl,-E'
    cccdlflags='-fPIC'
    lddlflags='-shared -O2 -g -L/usr/local/lib -fstack-protector-strong'
Characteristics of this binary (from libperl): 
  Compile-time options:
    HAS_TIMES
    PERLIO_LAYERS
    PERL_COPY_ON_WRITE
    PERL_DONT_CREATE_GVSV
    PERL_MALLOC_WRAP
    PERL_OP_PARENT
    PERL_PRESERVE_IVUV
    PERL_USE_DEVEL
    USE_64_BIT_ALL
    USE_64_BIT_INT
    USE_LARGE_FILES
    USE_LOCALE
    USE_LOCALE_COLLATE
    USE_LOCALE_CTYPE
    USE_LOCALE_NUMERIC
    USE_LOCALE_TIME
    USE_LONG_DOUBLE
    USE_PERLIO
    USE_PERL_ATOF
  Locally applied patches:
    RC2
  Built under linux
  Compiled at Mar 10 2022 14:28:32
  %ENV:
    PERL="/tmp/basesmoker-reloperl-Ezxt/bin/perl"
    PERL5LIB="/tmp/loop_over_bdir-25384-YzblV2/Simulation-Automate-1.0.1-0/blib/arch:/tmp/loop_over_bdir-25384-YzblV2/Simulation-Automate-1.0.1-0/blib/lib:/tmp/loop_over_bdir-25384-YzblV2/DBIx-Migration-Directories-0.12-0/blib/arch:/tmp/loop_over_bdir-25384-YzblV2/DBIx-Migration-Directories-0.12-0/blib/lib:/tmp/loop_over_bdir-25384-YzblV2/triceps-2.1.0-0/blib/arch:/tmp/loop_over_bdir-25384-YzblV2/triceps-2.1.0-0/blib/lib:/tmp/loop_over_bdir-25384-YzblV2/Linux-InitFS-0.2-0/blib/arch:/tmp/loop_over_bdir-25384-YzblV2/Linux-InitFS-0.2-0/blib/lib:/tmp/loop_over_bdir-25384-YzblV2/Devel-Required-0.16-0/blib/arch:/tmp/loop_over_bdir-25384-YzblV2/Devel-Required-0.16-0/blib/lib:/tmp/loop_over_bdir-25384-YzblV2/makepp-1.19-0/blib/arch:/tmp/loop_over_bdir-25384-YzblV2/makepp-1.19-0/blib/lib:/tmp/loop_over_bdir-25384-YzblV2/Alien-SNMP-MIBDEV-2.020000-0/blib/arch:/tmp/loop_over_bdir-25384-YzblV2/Alien-SNMP-MIBDEV-2.020000-0/blib/lib:/tmp/loop_over_bdir-25384-YzblV2/App-rmcd-0.280-0/blib/arch:/tmp/loop_over_bdir-25384-YzblV2/App-rmcd-0.280-0/blib/lib:/tmp/loop_over_bdir-25384-YzblV2/BuzzSaw-0.12.0-0/blib/arch:/tmp/loop_over_bdir-25384-YzblV2/BuzzSaw-0.12.0-0/blib/lib:/tmp/loop_over_bdir-25384-YzblV2/Dpkg-1.21.1-0/blib/arch:/tmp/loop_over_bdir-25384-YzblV2/Dpkg-1.21.1-0/blib/lib:/tmp/loop_over_bdir-25384-YzblV2/AllKnowingDNS-1.7-0/blib/arch:/tmp/loop_over_bdir-25384-YzblV2/AllKnowingDNS-1.7-0/blib/lib:/tmp/loop_over_bdir-25384-YzblV2/Serge-1.4-0/blib/arch:/tmp/loop_over_bdir-25384-YzblV2/Serge-1.4-0/blib/lib"
    PERL5OPT=""
    PERL5_CPANPLUS_IS_RUNNING="25395"
    PERL5_CPAN_IS_RUNNING="25395"
    PERL_CANARY_STABILITY_NOPROMPT="1"
    PERL_MM_USE_DEFAULT="1"
    PERL_USE_UNSAFE_INC="1"
  @INC:
    /tmp/loop_over_bdir-25384-YzblV2/Simulation-Automate-1.0.1-0/blib/arch
    /tmp/loop_over_bdir-25384-YzblV2/Simulation-Automate-1.0.1-0/blib/lib
    /tmp/loop_over_bdir-25384-YzblV2/DBIx-Migration-Directories-0.12-0/blib/arch
    /tmp/loop_over_bdir-25384-YzblV2/DBIx-Migration-Directories-0.12-0/blib/lib
    /tmp/loop_over_bdir-25384-YzblV2/triceps-2.1.0-0/blib/arch
    /tmp/loop_over_bdir-25384-YzblV2/triceps-2.1.0-0/blib/lib
    /tmp/loop_over_bdir-25384-YzblV2/Linux-InitFS-0.2-0/blib/arch
    /tmp/loop_over_bdir-25384-YzblV2/Linux-InitFS-0.2-0/blib/lib
    /tmp/loop_over_bdir-25384-YzblV2/Devel-Required-0.16-0/blib/arch
    /tmp/loop_over_bdir-25384-YzblV2/Devel-Required-0.16-0/blib/lib
    /tmp/loop_over_bdir-25384-YzblV2/makepp-1.19-0/blib/arch
    /tmp/loop_over_bdir-25384-YzblV2/makepp-1.19-0/blib/lib
    /tmp/loop_over_bdir-25384-YzblV2/Alien-SNMP-MIBDEV-2.020000-0/blib/arch
    /tmp/loop_over_bdir-25384-YzblV2/Alien-SNMP-MIBDEV-2.020000-0/blib/lib
    /tmp/loop_over_bdir-25384-YzblV2/App-rmcd-0.280-0/blib/arch
    /tmp/loop_over_bdir-25384-YzblV2/App-rmcd-0.280-0/blib/lib
    /tmp/loop_over_bdir-25384-YzblV2/BuzzSaw-0.12.0-0/blib/arch
    /tmp/loop_over_bdir-25384-YzblV2/BuzzSaw-0.12.0-0/blib/lib
    /tmp/loop_over_bdir-25384-YzblV2/Dpkg-1.21.1-0/blib/arch
    /tmp/loop_over_bdir-25384-YzblV2/Dpkg-1.21.1-0/blib/lib
    /tmp/loop_over_bdir-25384-YzblV2/AllKnowingDNS-1.7-0/blib/arch
    /tmp/loop_over_bdir-25384-YzblV2/AllKnowingDNS-1.7-0/blib/lib
    /tmp/loop_over_bdir-25384-YzblV2/Serge-1.4-0/blib/arch
    /tmp/loop_over_bdir-25384-YzblV2/Serge-1.4-0/blib/lib
    /home/sand/src/perl/repoperls/installed-perls/host/k93bionic/v5.34.1-RC2/ca05/lib/site_perl/5.34.1/x86_64-linux-ld
    /home/sand/src/perl/repoperls/installed-perls/host/k93bionic/v5.34.1-RC2/ca05/lib/site_perl/5.34.1
    /home/sand/src/perl/repoperls/installed-perls/host/k93bionic/v5.34.1-RC2/ca05/lib/5.34.1/x86_64-linux-ld
    /home/sand/src/perl/repoperls/installed-perls/host/k93bionic/v5.34.1-RC2/ca05/lib/5.34.1
    .