PadWalker v2.5 Perl 5 v5.33.3 i86pc-solaris-64

Status
Pass
From
Carlos Guevara
Dist
PadWalker v2.5
Platform
Perl 5 v5.33.3 i86pc-solaris-64
Date
2020-10-20 18:54:33
ID
b130ae1a-1305-11eb-bfaa-551b291158cc
This distribution has been tested as part of the CPAN Testers
project, supporting the Perl programming language.  See
http://wiki.cpantesters.org/ for more information or email
questions to cpan-testers-discuss@perl.org


--
Dear Robin Houston,

This is a computer-generated report for PadWalker-2.5
on perl 5.33.3, created by CPAN-Reporter-1.2018.

Thank you for uploading your work to CPAN.  Congratulations!
All tests were successful.

Sections of this report:

    * Tester comments
    * Program output
    * Prerequisites
    * Environment and other context

------------------------------
TESTER COMMENTS
------------------------------

Additional comments from tester:

this report is from an automated smoke testing program
and was not reviewed by a human for accuracy

------------------------------
PROGRAM OUTPUT
------------------------------

Output from '/usr/bin/make test':

"/export/home/cpan/bin/perl-blead/bin/perl5.33.3" -MExtUtils::Command::MM -e 'cp_nonempty' -- PadWalker.bs blib/arch/auto/PadWalker/PadWalker.bs 644
PERL_DL_NONLAZY=1 "/export/home/cpan/bin/perl-blead/bin/perl5.33.3" "-MExtUtils::Command::MM" "-MTest::Harness" "-e" "undef *Test::Harness::Switches; test_harness(0, 'blib/lib', 'blib/arch')" t/*.t
"my" variable $blah masks earlier declaration in same scope at t/closure.t line 57.
t/closure.t ... ok
"my" variable $x masks earlier declaration in same scope at t/dm.t line 58.
"our" variable $x masks earlier declaration in same scope at t/dm.t line 63.
t/dm.t ........ ok
t/foo.t ....... ok
"my" variable $h masks earlier declaration in same scope at t/our.t line 12.
t/our.t ....... ok
t/recurse.t ... ok
t/sub.t ....... ok
t/test.t ...... ok
t/tt.t ........ ok
"my" variable $foo masks earlier declaration in same scope at t/var_name.t line 13.
t/var_name.t .. ok
All tests successful.
Files=9, Tests=82,  0 wallclock secs ( 0.06 usr  0.04 sys +  0.13 cusr  0.08 csys =  0.31 CPU)
Result: PASS

------------------------------
PREREQUISITES
------------------------------

Prerequisite modules loaded:

requires:

    Module              Need     Have    
    ------------------- -------- --------
    perl                5.008001 5.033003

build_requires:

    Module              Need     Have    
    ------------------- -------- --------
    ExtUtils::MakeMaker 0        7.48    

configure_requires:

    Module              Need     Have    
    ------------------- -------- --------
    ExtUtils::MakeMaker 0        7.48    


------------------------------
ENVIRONMENT AND OTHER CONTEXT
------------------------------

Environment variables:

    AUTOMATED_TESTING = 1
    DATE_MANIP_TEST_DM5 = 1
    LANG = en_US.UTF-8
    LC_ALL = C
    NONINTERACTIVE_TESTING = 1
    PATH = /home/cpan/bin/perl-blead/bin:/home/cpan/bin:/usr/bin:/usr/sbin:/sbin:/opt/ooce/bin:/usr/gnu/bin
    PERL5LIB = 
    PERL5OPT = 
    PERL5_CPANPLUS_IS_RUNNING = 12035
    PERL5_CPAN_IS_RUNNING = 12035
    PERL_MM_USE_DEFAULT = 1
    PERL_USE_UNSAFE_INC = 1
    PERL_VERSION = blead
    SHELL = /bin/bash
    TERM = screen.xterm-256color
    TMPDIR = /home/cpan/tmp

Perl special variables (and OS-specific diagnostics, for MSWin32):

    $^X = /export/home/cpan/bin/perl-blead/bin/perl5.33.3
    $UID/$EUID = 101 / 101
    $GID = 1 1
    $EGID = 1 1

Perl module toolchain versions installed:

    Module              Have    
    ------------------- --------
    CPAN                2.28    
    CPAN::Meta          2.150010
    Cwd                 3.78    
    ExtUtils::CBuilder  0.280234
    ExtUtils::Command   7.48    
    ExtUtils::Install   2.18    
    ExtUtils::MakeMaker 7.48    
    ExtUtils::Manifest  1.72    
    ExtUtils::ParseXS   3.41    
    File::Spec          3.78    
    JSON                4.02    
    JSON::PP            4.05    
    Module::Build       0.4231  
    Module::Signature   n/a     
    Parse::CPAN::Meta   2.150010
    Test::Harness       3.42    
    Test::More          1.302182
    YAML                n/a     
    YAML::Syck          n/a     
    version             0.9928  


--

Summary of my perl5 (revision 5 version 33 subversion 3) configuration:
  Commit id: d4c12c727047dbade2551e3297e90f7dbbf34d71
  Platform:
    osname=solaris
    osvers=2.11
    archname=i86pc-solaris-64
    uname='sunos cjg-omniosce 5.11 omnios-r151032-b7806e2511 i86pc i386 i86pc '
    config_args='-des -Dprefix=~/bin/perl-blead -Dscriptdir=~/bin/perl-blead/bin -Dusedevel -Duse64bitall -Dcc=gcc'
    hint=recommended
    useposix=true
    d_sigaction=define
    useithreads=undef
    usemultiplicity=undef
    use64bitint=define
    use64bitall=define
    uselongdouble=undef
    usemymalloc=n
    default_inc_excludes_dot=define
  Compiler:
    cc='gcc'
    ccflags ='-m64 -fwrapv -fno-strict-aliasing -pipe -fstack-protector-strong -D_LARGEFILE_SOURCE -D_FILE_OFFSET_BITS=64 -D_FORTIFY_SOURCE=2 -DPERL_USE_SAFE_PUTENV'
    optimize='-O'
    cppflags='-m64 -fwrapv -fno-strict-aliasing -pipe -fstack-protector-strong'
    ccversion=''
    gccversion='7.4.0'
    gccosandvers=''
    intsize=4
    longsize=8
    ptrsize=8
    doublesize=8
    byteorder=12345678
    doublekind=3
    d_longlong=define
    longlongsize=8
    d_longdbl=define
    longdblsize=16
    longdblkind=3
    ivtype='long'
    ivsize=8
    nvtype='double'
    nvsize=8
    Off_t='off_t'
    lseeksize=8
    alignbytes=8
    prototype=define
  Linker and Libraries:
    ld='gcc'
    ldflags =' -m64 -fstack-protector-strong -L/usr/gnu/lib '
    libpth=/opt/gcc-7/lib /opt/gcc-7/lib/gcc/i386-pc-solaris2.11/7.4.0/include-fixed /usr/lib /usr/gnu/lib /usr/ccs/lib
    libs=-lpthread -lsocket -lnsl -ldl -lm -lc
    perllibs=-lpthread -lsocket -lnsl -ldl -lm -lc
    libc=/lib/libc.so
    so=so
    useshrplib=true
    libperl=libperl.so
    gnulibc_version=''
  Dynamic Linking:
    dlsrc=dl_dlopen.xs
    dlext=so
    d_dlsymun=undef
    ccdlflags='  -R /home/cpan/bin/perl-blead/lib/5.33.3/i86pc-solaris-64/CORE'
    cccdlflags='-fPIC'
    lddlflags=' -shared -m64 -L/usr/gnu/lib -fstack-protector-strong'


Characteristics of this binary (from libperl): 
  Compile-time options:
    HAS_TIMES
    PERLIO_LAYERS
    PERL_COPY_ON_WRITE
    PERL_DONT_CREATE_GVSV
    PERL_MALLOC_WRAP
    PERL_OP_PARENT
    PERL_PRESERVE_IVUV
    PERL_USE_DEVEL
    PERL_USE_SAFE_PUTENV
    USE_64_BIT_ALL
    USE_64_BIT_INT
    USE_LARGE_FILES
    USE_LOCALE
    USE_LOCALE_COLLATE
    USE_LOCALE_CTYPE
    USE_LOCALE_NUMERIC
    USE_LOCALE_TIME
    USE_PERLIO
    USE_PERL_ATOF
  Built under solaris
  Compiled at Oct 20 2020 13:07:04
  %ENV:
    PERL5LIB=""
    PERL5OPT=""
    PERL5_CPANPLUS_IS_RUNNING="12035"
    PERL5_CPAN_IS_RUNNING="12035"
    PERL_MM_USE_DEFAULT="1"
    PERL_USE_UNSAFE_INC="1"
    PERL_VERSION="blead"
  @INC:
    /home/cpan/bin/perl-blead/lib/site_perl/5.33.3/i86pc-solaris-64
    /home/cpan/bin/perl-blead/lib/site_perl/5.33.3
    /home/cpan/bin/perl-blead/lib/5.33.3/i86pc-solaris-64
    /home/cpan/bin/perl-blead/lib/5.33.3
    .