DBIx-Class v0.082843 Perl 5 v5.30.3 amd64-freebsd
- Status
- Pass
- From
- Slaven Rezić
- Dist
-
DBIx-Class v0.082843
- Platform
- Perl 5 v5.30.3 amd64-freebsd
- Date
- 2022-05-17 11:08:34
- ID
- b14fde08-d5d1-11ec-9eb0-39571f24ea8f
This distribution has been tested as part of the CPAN Testers
project, supporting the Perl programming language. See
http://wiki.cpantesters.org/ for more information or email
questions to cpan-testers-discuss@perl.org
--
Dear Peter Rabbitson,
This is a computer-generated report for DBIx-Class-0.082843
on perl 5.30.3, created by CPAN-Reporter-1.2018.
Thank you for uploading your work to CPAN. Congratulations!
All tests were successful.
Sections of this report:
* Tester comments
* Program output
* Prerequisites
* Environment and other context
------------------------------
TESTER COMMENTS
------------------------------
Additional comments from tester:
none provided
------------------------------
PROGRAM OUTPUT
------------------------------
Output from 'make test DBIC_NO_WARN_BAD_PERL=1':
PERL_DL_NONLAZY=1 "/usr/perl5.30.3p/bin/perl" "-MExtUtils::Command::MM" "-MTest::Harness" "-e" "undef *Test::Harness::Switches; test_harness(0, 'inc', 'blib/lib', 'blib/arch')" t/*.t t/admin/*.t t/cdbi/*.t t/cdbi/DeepAbstractSearch/*.t t/cdbi/abstract/*.t t/cdbi/sweet/*.t t/count/*.t t/debug/*.t t/delete/*.t t/inflate/*.t t/multi_create/*.t t/ordered/*.t t/pager/*.t t/pager/data_page_compat/*.t t/prefetch/*.t t/relationship/*.t t/resultset/*.t t/resultsource/*.t t/row/*.t t/schema/*.t t/search/*.t t/sqlmaker/*.t t/sqlmaker/hierarchical/*.t t/sqlmaker/limit_dialects/*.t t/storage/*.t t/update/*.t
Mismatch of versions '1.1' and '1.45', obtained respectively via `Params::ValidationCompiler::Exception::Named::Extra->VERSION` and parsing the version out of <<SL>>/Exception/Class.pm with ExtUtils::MakeMaker@7.64. This should never happen - please check whether this is still present in the latest version, and then file a bug with the distribution containing Params::ValidationCompiler::Exception::Named::Extra.
Mismatch of versions '1.1' and '1.45', obtained respectively via `Params::ValidationCompiler::Exception::Named::Required->VERSION` and parsing the version out of <<SL>>/Exception/Class.pm with ExtUtils::MakeMaker@7.64. This should never happen - please check whether this is still present in the latest version, and then file a bug with the distribution containing Params::ValidationCompiler::Exception::Named::Required.
Mismatch of versions '1.1' and '1.45', obtained respectively via `Params::ValidationCompiler::Exception::ValidationFailedForMooseTypeConstraint->VERSION` and parsing the version out of <<SL>>/Exception/Class.pm with ExtUtils::MakeMaker@7.64. This should never happen - please check whether this is still present in the latest version, and then file a bug with the distribution containing Params::ValidationCompiler::Exception::ValidationFailedForMooseTypeConstraint.
Mismatch of versions '1.1' and '1.45', obtained respectively via `Params::ValidationCompiler::Exception::Positional::Required->VERSION` and parsing the version out of <<SL>>/Exception/Class.pm with ExtUtils::MakeMaker@7.64. This should never happen - please check whether this is still present in the latest version, and then file a bug with the distribution containing Params::ValidationCompiler::Exception::Positional::Required.
Mismatch of versions '1.1' and '1.45', obtained respectively via `Params::ValidationCompiler::Exception::Positional::Extra->VERSION` and parsing the version out of <<SL>>/Exception/Class.pm with ExtUtils::MakeMaker@7.64. This should never happen - please check whether this is still present in the latest version, and then file a bug with the distribution containing Params::ValidationCompiler::Exception::Positional::Extra.
Mismatch of versions '1.1' and '1.45', obtained respectively via `Params::ValidationCompiler::Exception::BadArguments->VERSION` and parsing the version out of <<SL>>/Exception/Class.pm with ExtUtils::MakeMaker@7.64. This should never happen - please check whether this is still present in the latest version, and then file a bug with the distribution containing Params::ValidationCompiler::Exception::BadArguments.
#
#
# List of loadable modules within both *OPTIONAL* and core dependency chains
# present on this system (modules sourced from ./blib, ./lib, ./t, and ./xt
# with versions identical to their parent namespace were omitted for brevity)
#
# *** Note that *MANY* of these modules will *NEVER* be loaded ***
# *** during normal operation of DBIx::Class ***
#
# @INC at startup (does not reflect manipulation at runtime):
# 0: ./inc/
# 1: ./blib/lib/
# 2: ./blib/arch/
# 3: <<SA>>/
# 4: <<SL>>/
# 5: <<PA>>/
# 6: <<PL>>/
# 7: ./
#
# Sourcing markers:
# PA: $Config{archlib}
# PL: $Config{privlib}
# SA: $Config{sitearch}
# SL: $Config{sitelib}
# BLL: ./blib/lib/
#
# =============================
# PA 0.33 attributes [ MD5: cb2dfe85830228bd01da1c85867ba42d ]
# PL 5.74 AutoLoader [ MD5: c923fac66a84c6b5dbbf01250e7c1a42 ]
# PA 1.76 B [ MD5: 723d59333870ac19c0245d3279738fc8 ]
# SL 0.24 B::Hooks::EndOfScope [ MD5: 3b9731e44ba19c730e41ef0865a9611a ]
# SL 0.24 B::Hooks::EndOfScope::XS [ MD5: e329476ce9d632219d1448c8dd641a25 ]
# PL 2.27 base [ MD5: 23b7d65e22b42927d6fcec631ab1c211 ]
# PL 1.07 bytes [ MD5: e45975770af354328fdac78e9facee40 ]
# PL 1.50 Carp [ MD5: 01d59a664a69ffaed1bd0300ba0c7134 ]
# SL 6.08 Carp::Clan [ MD5: 7670ec49eede64de73e580ded76b5aaa ]
# PL 1.50 Carp::Heavy [ MD5: e9735f342b2b84149a56cd1ac967130a ]
# SL 0.10014 Class::Accessor::Grouped [ MD5: e62be17499d53d13f67a4361268aac40 ]
# SL 1.001002 Class::C3::Componentised [ MD5: 2e92d4f7f9a7d2eda3cd1100583541a2 ]
# SL 0.08 Class::Data::Inheritable [ MD5: eaa489d785a175db193d92b13674d96d ]
# SL 1.36 Class::Inspector [ MD5: 7aed0ce1dfc5dd2067632ea22fd2f483 ]
# SL 0.25 Class::Load [ MD5: 52debf263bbf547f0260f9d66a071eee ]
# SA 0.10 Class::Load::XS [ MD5: cc30760936bb48922d9898c915555a19 ]
# SL 2.13 Class::Method::Modifiers [ MD5: 95e9116eb4d94ad43359870692641915 ]
# SA 2.2201 Class::MOP [ MD5: d353d3d7f856f6caf5e2d2cd4b5f983e ]
# SA 2.2201 Class::MOP::Attribute [ MD5: 5d5fa3c228eda7231502d2ec6f86d69c ]
# SA 2.2201 Class::MOP::Class [ MD5: 0a82593cacba2b818949878ffd92403b ]
# SA 2.2201 Class::MOP::Class::Immutable::Trait [ MD5: 831515476d8db451da7500a4bb96f285 ]
# SA 2.2201 Class::MOP::Deprecated [ MD5: 55754eef4c52661ffe0e0c36f1d45ebf ]
# SA 2.2201 Class::MOP::Instance [ MD5: ebf49474db2bf0e2ca2ef273e57d9217 ]
# SA 2.2201 Class::MOP::Method [ MD5: 56680c7766798edc02ca540f6b250344 ]
# SA 2.2201 Class::MOP::Method::Accessor [ MD5: bbb45edff830b03156dde9208749a36a ]
# SA 2.2201 Class::MOP::Method::Constructor [ MD5: b3ae719bcee390915aa540b2e8feb9aa ]
# SA 2.2201 Class::MOP::Method::Generated [ MD5: c9d91ef99d2b4b4aeedb931f66b444d4 ]
# SA 2.2201 Class::MOP::Method::Inlined [ MD5: 4ca509b45120607e459cf84d23c7c85d ]
# SA 2.2201 Class::MOP::Method::Meta [ MD5: ce016b2eb14f2ff58502334ebd394197 ]
# SA 2.2201 Class::MOP::Method::Wrapped [ MD5: e5757b0d0aa994d2994b8d1c617157e5 ]
# SA 2.2201 Class::MOP::MiniTrait [ MD5: 0db1722d4f1fc90a5e9b4a038973d9ca ]
# SA 2.2201 Class::MOP::Mixin [ MD5: 298d18e2966c8e94aaa83d2e9ae16926 ]
# SA 2.2201 Class::MOP::Mixin::AttributeCore [ MD5: c82181d5d91851068dc9fc1dc711778f ]
# SA 2.2201 Class::MOP::Mixin::HasAttributes [ MD5: d500b98b98bec30a315bc1eeb7f3ab65 ]
# SA 2.2201 Class::MOP::Mixin::HasMethods [ MD5: e163d505d0e3669a4020e2df2f3aa02a ]
# SA 2.2201 Class::MOP::Mixin::HasOverloads [ MD5: b1566bcfc778b218f15e353f9d97613f ]
# SA 2.2201 Class::MOP::Module [ MD5: 609689b7b512e4cdf03e3861e4877b3a ]
# SA 2.2201 Class::MOP::Object [ MD5: 829f9daa28def2cec3a395565762ca08 ]
# SA 2.2201 Class::MOP::Overload [ MD5: 3dd5548f33fb32ce87ebb1798013e1d1 ]
# SA 2.2201 Class::MOP::Package [ MD5: 80eaec335e6a76d877a94fce28f90f69 ]
# SL 1.5 Class::Singleton [ MD5: d1b724a6b51de027cc1656e67ada9a32 ]
# PL 0.65 Class::Struct [ MD5: cf060e4d87730484dcdf246d806fec93 ]
# SL 0.15 Class::Trigger [ MD5: 523fca6dd358a74679ed25047870b150 ]
# SL 0.11 Class::Unload [ MD5: f1fa19d4b6c75047849dcb0e8a1b383b ]
# SA 1.19 Class::XSAccessor [ MD5: 0b7adfcc61192a80f97463e89d6d1696 ]
# SA 1.19 Class::XSAccessor::Heavy [ MD5: db9379a668d6133fce801e4648cdef45 ]
# SA 0.45 Clone [ MD5: 0921ec15aa13688a65c12919e85f1257 ]
# SL 0.010 Clone::Choose [ MD5: 884cece05d3959f067c7e20ed3d05cf5 ]
# SA 3.75 common::sense [ MD5: 1b8ce0294e68ed9c32018e63e12451f7 ]
# PA 5.030003 Config [ MD5: 15cffc077746fb253eeade41a9076fd0 ]
# PL 1.33 constant [ MD5: 56cde6eba0f667ab56196613df3933c1 ]
# SL 0.03 Context::Preserve [ MD5: 62155e2bc041508eff050250d74a0c38 ]
# SA 4.27 Cpanel::JSON::XS [ MD5: a32810cb20608fbec2e1468071d250f9 ]
# PA 3.78 Cwd [ MD5: 35968627324b71ec08e9a019e7047ce3 ]
# SA 2.183 Data::Dumper [ MD5: b1c3fda67f43438ec2423c94de4f7f06 ]
# SL 2.023 Data::Dumper::Concise [ MD5: b18cb47e46e385ccee825ac7e5e59d9e ]
# SL 0.112 Data::OptList [ MD5: 4129a199fd9affcbca10df42e1630b3f ]
# SA 3.03 Date::Simple [ MD5: 7f0f57291d06fba6dec8f2c89418d833 ]
# SA Date::Simple::D8 [ MD5: 3adf337de741bbdafc195903c5fba746 ]
# SA Date::Simple::Fmt [ MD5: d7b0634fe9be047bf070ece7ad10bbf1 ]
# SA Date::Simple::ISO [ MD5: 6daa0380c65f785087c38917770cd9a1 ]
# SA 1.58 DateTime [ MD5: ee16991b86e12ce6242d7198484e0653 ]
# SA 1.58 DateTime::Duration [ MD5: 3a3b456a5ec9207323e63dc9b409c444 ]
# SL 0.83 DateTime::Format::Builder [ MD5: 4f31a9b73863282341622e5a21a8f125 ]
# SL 0.83 DateTime::Format::Builder::Parser [ MD5: 7f4181c9250337dde326d7c2a3371669 ]
# SL 0.83 DateTime::Format::Builder::Parser::Dispatch [ MD5: 3668e3e42ba37ff1810ce8c103553040 ]
# SL 0.83 DateTime::Format::Builder::Parser::generic [ MD5: dff11c7aaa43fbcd2b535938b627a70c ]
# SL 0.83 DateTime::Format::Builder::Parser::Quick [ MD5: 8d9b53a0e5f4703ab305a864d563033d ]
# SL 0.83 DateTime::Format::Builder::Parser::Regex [ MD5: c11242681cc7cdc00c18895358e83930 ]
# SL 0.83 DateTime::Format::Builder::Parser::Strptime [ MD5: aa098ce4ef418bb50b4591217573e439 ]
# SL 0.0701 DateTime::Format::MySQL [ MD5: 35f2f6d77b5303a26c9dfcb50ca53f85 ]
# SL 0.16014 DateTime::Format::Pg [ MD5: f3d2de623b97f0732cd7052748762c2b ]
# SL 0.11 DateTime::Format::SQLite [ MD5: 1cff4caa26c417be96d7a8843fc32825 ]
# SL 1.79 DateTime::Format::Strptime [ MD5: 9854a69d2499db0306ab22fdc6f8d080 ]
# SL 1.79 DateTime::Format::Strptime::Types [ MD5: 917eae04a97b45fa4d6edb13bd046bb9 ]
# SA 1.58 DateTime::Helpers [ MD5: e83df39de91cb5014e1090d74a651c15 ]
# SA 1.58 DateTime::Infinite [ MD5: 7daade068295a1295e5395d684e0b418 ]
# SL 1.32 DateTime::Locale [ MD5: fd4926e61f338d18518012e665bc06af ]
# SL 1.32 DateTime::Locale::Base [ MD5: 9bcdcccb9a6fbbcf4eb151ec16f89460 ]
# SL 1.32 DateTime::Locale::Data [ MD5: dfec7a2320061944f586be9df5b20ec0 ]
# SL 1.32 DateTime::Locale::FromData [ MD5: 5264ec20afb90d5e7441a7400aacf4a4 ]
# SL 1.32 DateTime::Locale::Util [ MD5: b0d041c104b67aab1c6253a20112edc9 ]
# SL 2.52 DateTime::TimeZone [ MD5: ef99ffefdcf32c848b81c8587ee4805a ]
# SL 2.52 DateTime::TimeZone::Catalog [ MD5: 6d02cfef9358d811bd9b33b9e8eb7867 ]
# SL 2.52 DateTime::TimeZone::Floating [ MD5: d94d9d688ce4ec949ceb9ed2d3bba438 ]
# SL 2.52 DateTime::TimeZone::Local [ MD5: 79e19f70cbfeb8f8596fd5d843fd3958 ]
# SL 2.52 DateTime::TimeZone::OffsetOnly [ MD5: 9df0203cbd38cca303dc254ba94eb385 ]
# SL 2.52 DateTime::TimeZone::OlsonDB::Change [ MD5: 545ad4980c0a8c811f643a2be4b15c90 ]
# SL 2.52 DateTime::TimeZone::UTC [ MD5: d42bbdcd04dfdab845fe61101a0676c0 ]
# SA 1.58 DateTime::Types [ MD5: cc1e508fda520ded44bd167a5d373d48 ]
# SA 1.70 DBD::SQLite [ MD5: 3ca3c09548b8f3132641b67c848bfff1 ]
# SA 1.643 DBI [ MD5: f21c16d842093e2a90b21537379e38df ]
# BLL 0.082843 DBIx::Class [ MD5: c7e0efa8ca59419329d4b8c7a6364ea1 ]
# SL 0.14 Devel::GlobalDestruction [ MD5: fa8dcedeb9a8a3d29fbef7dfce342970 ]
# SL 0.005 Devel::OverloadInfo [ MD5: 585b292147dc170f3b3f3611ee04a32b ]
# SL 2.04 Devel::StackTrace [ MD5: 86e99556d4064ec1f14fe93b0505b5ec ]
# SL 2.04 Devel::StackTrace::Frame [ MD5: 7d7bbe06b5e11f6bb6f8051ff628be97 ]
# SL 2.18 Devel::Symdump [ MD5: e649ab91a4890ab2543e821daef73079 ]
# SL 1.20 Digest::base [ MD5: b5de2696c583dfec247af39b45288735 ]
# SA 2.58 Digest::MD5 [ MD5: d75a3d708ce93ad8d99fcbdefa2c8429 ]
# PA 6.02 Digest::SHA [ MD5: 00b35f65c881fa6db2940e462485fdf8 ]
# PA 1.45 DynaLoader [ MD5: 2bb6b7fb8c733376ac82dcd6e009a9b1 ]
# SA 3.13 Encode [ MD5: bbdfee435176cc8260639473ed2c6462 ]
# SA 2.24 Encode::Alias [ MD5: c3280193456386938373947a4be14c6b ]
# SA 2.05 Encode::Config [ MD5: 7bdd1d8dffa8d3500086802451fc020d ]
# SA 2.08 Encode::Encoding [ MD5: 3f40faa217288ed2cb4e34af87b6bfd6 ]
# SA 1.03 Encode::MIME::Name [ MD5: 056ea8f31df117e2984d9bd3a77555dc ]
# PA 1.30 Errno [ MD5: 27aafba0845c4415bfd3a12e60c557f9 ]
# SL 0.14 Eval::Closure [ MD5: 6c72ca7cb0924d00e0c1a8bee904c349 ]
# SL 1.45 Exception::Class [ MD5: a45a42ee006782394ce58ca86d75f55e ]
# SL 1.45 Exception::Class::Base [ MD5: c76488ed5376025f6d8f2dec9ca0fec5 ]
# PL 5.73 Exporter [ MD5: 118f47a7245b8d8026e8a9ac78f35ebb ]
# PL 5.73 Exporter::Heavy [ MD5: d8032ca40b44e010673e6dd5816ca66b ]
# SL 1.002002 Exporter::Tiny [ MD5: 22e5f888b47a0cbea617ba76c28a78ec ]
# SL 7.64 ExtUtils::Liblist [ MD5: 7505134abff36b1cb078c0075253d01e ]
# SL 7.64 ExtUtils::Liblist::Kid [ MD5: 834e97c4eab6307a94b3fee7f4bf56f9 ]
# SL 7.64 ExtUtils::MakeMaker [ MD5: 5d09dfe43f345694faa9c79a2c3d989e ]
# SL 7.64 ExtUtils::MakeMaker::Config [ MD5: b654fc815d7ce31484e23caab2a2ae84 ]
# SL 7.64 ExtUtils::MakeMaker::Locale [ MD5: 30824f063dbecb321f7f0a551778ead1 ]
# SL 7.64 ExtUtils::MakeMaker::version [ MD5: 7f807dd16caceca5071848db18150c54 ]
# SL 7.64 ExtUtils::MM [ MD5: 4606ac39087ef4475cfa765648b206eb ]
# SL 7.64 ExtUtils::MM_Any [ MD5: 2fc0b695dc1e32651ac6b0adcd6ca019 ]
# SL 7.64 ExtUtils::MM_Unix [ MD5: a405d0a63233c5de0871a17fbd73a79b ]
# SL 7.64 ExtUtils::MY [ MD5: 55734b0a74c06ddcc61e09c1318f7d32 ]
# PA 1.13 Fcntl [ MD5: b337d563fd4bc958c7e0a2bba2ca86d2 ]
# PL 2.85 File::Basename [ MD5: 060f029d056cc44e536c7d278f69bf43 ]
# PL 2.34 File::Copy [ MD5: d7f23cf4eaeacebae16ccc3c3f37f22d ]
# PL 1.36 File::Find [ MD5: 9e97e4101da1b7160454270a61978ad2 ]
# PA 1.32 File::Glob [ MD5: 4f78f72b1e8039446e6206fa07e36828 ]
# SL 1.006 File::HomeDir [ MD5: f1092b953f4b9227b2d0a476122688e0 ]
# SL 1.006 File::HomeDir::Driver [ MD5: 9db939fdf7422e82c2d1c54b08dbff59 ]
# SL 1.006 File::HomeDir::Unix [ MD5: f44911496a20430138ea26a3175b78bd ]
# SL 2.18 File::Path [ MD5: 3e82792800b06742b5e275937e6637d5 ]
# SL 1.118 File::ShareDir [ MD5: 84426a6f71f433987a2199b9f670c782 ]
# PA 3.78 File::Spec [ MD5: 087cb22c43a86e42aaf8138ea7211ede ]
# PA 3.78 File::Spec::Functions [ MD5: 90fc379dde276e4c4b297dd318524c83 ]
# PA 3.78 File::Spec::Unix [ MD5: 0021b70f7a42ecbf37c407f821ba0400 ]
# PL 1.08 File::stat [ MD5: 452f0de8b428a7ac3c169600705a7c5a ]
# SL 0.2311 File::Temp [ MD5: d1685b3aa6a3cea2b2b6c61aa1111db8 ]
# 0.2311 File::Temp::Dir ! -f $INC{'File/Temp/Dir.pm'}
# SL 1.23 File::Which [ MD5: 2db291b6abbcd6ccafc8bdbf4535f509 ]
# SL 1.52 FindBin [ MD5: f81ad32746e4bac1859d585facfe7654 ]
# SL 2.52 Getopt::Long [ MD5: 47df1b846f087d5978c7e3227a9ce11a ]
# SL 0.105 Getopt::Long::Descriptive [ MD5: d38222d0f66a30c5e1c7c0f1aadf57cd ]
# SL 0.105 Getopt::Long::Descriptive::Opts [ MD5: 83cad8f20612bf903b2cf61426074006 ]
# SL 0.105 Getopt::Long::Descriptive::Usage [ MD5: 156ba8c899377c9062b8b5fb0015d261 ]
# SL 0.300 Hash::Merge [ MD5: 6d88a0cad7f5b301c53a27491c664a53 ]
# PA 0.18 I18N::Langinfo [ MD5: 61716285851d7d806f1133a667785959 ]
# PL 0.0608 if [ MD5: 8135da5c6624f925318fea6ba657b498 ]
# SL 1.002005 Import::Into [ MD5: 7f498658c2a0e06c5c034165db33ad65 ]
# PL 1.01 integer [ MD5: 3e5ff5fb486c95945e10e79859dd5bfb ]
# SA 1.45 IO [ MD5: 06cb23dc49f3074b907dfce64614563b ]
# SA 1.45 IO::Dir [ MD5: 71b36aa8fac1399eace7305eb528e8fa ]
# SA 1.45 IO::File [ MD5: 8817ea91f4bd10f6b503edafd373b333 ]
# SA 1.45 IO::Handle [ MD5: 235dac0f19594dcc9ebef6d5e1a27af7 ]
# SA 1.45 IO::Seekable [ MD5: 01d3151b000f57635c8097ed8959e21a ]
# SL 4.05 JSON [ MD5: 0409bbef92e8fd32eac8daa9eec6bd86 ]
# SL 1.39 JSON::Any [ MD5: 58091791762a014d447fdd6f05000e17 ]
# 4.03 JSON::Backend::XS ! -f $INC{'JSON/Backend/XS.pm'}
# SL 4.08 JSON::PP [ MD5: cc6cf5fdb603d49048f28f981ff9574c ]
# SL 4.08 JSON::PP::Boolean [ MD5: d87ab9b4cf4d73bb861f5830684fbdc1 ]
# 1.01 JSON::PP::IncrParser ! -f $INC{'JSON/PP/IncrParser.pm'}
# SA 4.03 JSON::XS [ MD5: 0a5b3cc4af5711071df876e912784347 ]
# 4.08 JSON::XS::Boolean ! -f $INC{'JSON/XS/Boolean.pm'}
# SL 0.430 List::MoreUtils [ MD5: 0cb4732c1304c6aeaa4963da6a85271d ]
# SL 0.430 List::MoreUtils::PP [ MD5: 40f6af6eedf793474e122fee93949428 ]
# SA 0.430 List::MoreUtils::XS [ MD5: bf41dfe84426559433a4ece7a763669b ]
# SA 1.60 List::Util [ MD5: e4cc70cd1c442e83653dc770c608488e ]
# PL 1.09 locale [ MD5: 0e2f243d25cdd1380e17ebfb8b9eee5c ]
# SL 1.004 Log::Agent [ MD5: 43d0f4b631aa4dc4aabd4844384c82f6 ]
# SL Log::Agent::Formatting [ MD5: 0aa4d02db051070bbacb4ac37b16e260 ]
# SL Log::Agent::Message [ MD5: 022b5782ba605295f4149b159a4b7cff ]
# SL Log::Agent::Priorities [ MD5: cbfffb6bc5fb5a1e8361b4bb76110720 ]
# SL 1.999831 Math::BigInt [ MD5: b6ce2754c577264b9458037d3cb7f2f5 ]
# SA 2.2201 metaclass [ MD5: d5dfb58ebfdcd6c9c22a8d2f095d7eb5 ]
# SL Method::Generate::Accessor [ MD5: 553c297417b01f995ee4826b1e154733 ]
# SL Method::Generate::BuildAll [ MD5: 9c6e7b29be6b53e381e0cf7acff94de8 ]
# SL Method::Generate::Constructor [ MD5: d33d2fc8977016214174a74af38df8b9 ]
# SL 0.09 Module::Implementation [ MD5: 2a146bb117cd6b798e2b928231799546 ]
# SL 0.016 Module::Runtime [ MD5: db1042b0f9341111c7f904480a82596a ]
# SL 2.005004 Moo [ MD5: 283068faf3b877947e1693c7650e8be4 ]
# SL Moo::HandleMoose [ MD5: ce4041d5986e71a57d7a7dc2d161911c ]
# SL Moo::HandleMoose::FakeMetaClass [ MD5: bf661037cf497b96816975139c05898b ]
# SL Moo::Object [ MD5: f6f8cdcf4b6326f4bf927941d2276d4f ]
# SL 2.005004 Moo::Role [ MD5: 2482d06056baa93f4843026aabd0f238 ]
# SL Moo::sification [ MD5: 1c3b20406b7da09888e8557b40e9ce0d ]
# SA 2.2201 Moose [ MD5: 8f0778f43ea5cafbf4c7023f8a60e827 ]
# SA 2.2201 Moose::Deprecated [ MD5: d770cb3133c3e101a8965421e11eed07 ]
# SA 2.2201 Moose::Exporter [ MD5: 37b05af403ce3ae7b2516637dc544961 ]
# SA 2.2201 Moose::Meta::Attribute [ MD5: 6320d2181d4f7891e70e2a67d55264ba ]
# SA 2.2201 Moose::Meta::Attribute::Native [ MD5: 7b7c560d3d60798b324cb207a7e8954c ]
# SA 2.2201 Moose::Meta::Attribute::Native::Trait [ MD5: 58d3e2c2c38e32113a4bc8ff066ac4e0 ]
# SA 2.2201 Moose::Meta::Attribute::Native::Trait::Counter [ MD5: f6f8936770d81a6897a188a4c4dcc9d0 ]
# SA 2.2201 Moose::Meta::Attribute::Native::Trait::Hash [ MD5: 9a77d11f460ec06a1253931dad27efc7 ]
# SA 2.2201 Moose::Meta::Class [ MD5: 0405166aadd5c8ba6e79d180031aeb03 ]
# SA 2.2201 Moose::Meta::Class::Immutable::Trait [ MD5: e1ceb2f2fb6a54c0c4863d0588326d68 ]
# SA 2.2201 Moose::Meta::Instance [ MD5: 64cd4b8b1e1a30473136c22cea1a8c68 ]
# SA 2.2201 Moose::Meta::Method [ MD5: cf2c19f1877ecd06aa7a3524d65bac03 ]
# SA 2.2201 Moose::Meta::Method::Accessor [ MD5: f2b26f6a023f3e8aa594e408c67f1c62 ]
# SA 2.2201 Moose::Meta::Method::Accessor::Native [ MD5: 1bfd4cfcf7a5998de6f9bee88f2c1444 ]
# SA 2.2201 Moose::Meta::Method::Accessor::Native::Collection [ MD5: 518ad96b49ad01ca11557a54521bc910 ]
# SA 2.2201 Moose::Meta::Method::Accessor::Native::Counter::inc [ MD5: b99437251ba4fb24e6704e83c12378e8 ]
# SA 2.2201 Moose::Meta::Method::Accessor::Native::Hash [ MD5: 1edb604329053f4541865c6465b698ce ]
# SA 2.2201 Moose::Meta::Method::Accessor::Native::Hash::count [ MD5: 0bd6a3f56e9896248305d3d2ed026e46 ]
# SA 2.2201 Moose::Meta::Method::Accessor::Native::Hash::delete [ MD5: cc96a044e7a74c86ce992cf2d9d0d8e0 ]
# SA 2.2201 Moose::Meta::Method::Accessor::Native::Hash::get [ MD5: f02d38ad40e76e789fa78a337d734c7c ]
# SA 2.2201 Moose::Meta::Method::Accessor::Native::Hash::is_empty [ MD5: 247f188dd18f5a5516e57f153efd3aa4 ]
# SA 2.2201 Moose::Meta::Method::Accessor::Native::Hash::set [ MD5: 6933d97445496c3f33b2b20011d0243a ]
# SA 2.2201 Moose::Meta::Method::Accessor::Native::Hash::values [ MD5: 7b042aabd587028fe47d1e8d43a58d5e ]
# SA 2.2201 Moose::Meta::Method::Accessor::Native::Hash::Writer [ MD5: 570d0d79aa754cefc367893b6892e19a ]
# SA 2.2201 Moose::Meta::Method::Accessor::Native::Reader [ MD5: e9a3ffd1ac7b737de6dc9ebd87bf9f24 ]
# SA 2.2201 Moose::Meta::Method::Accessor::Native::Writer [ MD5: 2b943dbdf47ce11de8fc755cebfcace5 ]
# SA 2.2201 Moose::Meta::Method::Augmented [ MD5: 2d90ee91b347de2a9bb223dcc01a1bd9 ]
# SA 2.2201 Moose::Meta::Method::Constructor [ MD5: 02342d102ca3f92ae612fcb3d8a74cef ]
# SA 2.2201 Moose::Meta::Method::Delegation [ MD5: c7619741e24d40b4e04c3494678b06df ]
# SA 2.2201 Moose::Meta::Method::Destructor [ MD5: 32990627f2503cf6fd4de261a5f62c60 ]
# SA 2.2201 Moose::Meta::Method::Meta [ MD5: 7dcdb657c1b253a8293a60fe3155d6dd ]
# SA 2.2201 Moose::Meta::Method::Overridden [ MD5: 1e6b3019ee60cb782c35a7d35daefdf2 ]
# SA 2.2201 Moose::Meta::Mixin::AttributeCore [ MD5: a9cb485d4683a57fa84309b2db51421a ]
# SA 2.2201 Moose::Meta::Object::Trait [ MD5: 27e606445c5dd8ba76f75cd107fc563a ]
# SA 2.2201 Moose::Meta::Role [ MD5: 52a72d2a59882a7defe5654a3be6e5c0 ]
# SA 2.2201 Moose::Meta::Role::Application [ MD5: 800b274b0514c70aa41d1432c143dda7 ]
# SA 2.2201 Moose::Meta::Role::Application::RoleSummation [ MD5: f1fbbd561afc2c204c5a83e00441813e ]
# SA 2.2201 Moose::Meta::Role::Application::ToClass [ MD5: e469724261aa5138381af033ec98bf87 ]
# SA 2.2201 Moose::Meta::Role::Application::ToInstance [ MD5: 2c255d9406ca5a2a1cc54fcf7f564b4e ]
# SA 2.2201 Moose::Meta::Role::Application::ToRole [ MD5: bf58c15490d39e86035965aca59ddb97 ]
# SA 2.2201 Moose::Meta::Role::Attribute [ MD5: 31d69060b9c3f2125183ad7e1fad0d80 ]
# SA 2.2201 Moose::Meta::Role::Composite [ MD5: 2652fabdf386d3c4a16ee3f2d69b0942 ]
# SA 2.2201 Moose::Meta::Role::Method [ MD5: 45f4bde3f4dff7d3b72d5d3aecd5e19a ]
# SA 2.2201 Moose::Meta::Role::Method::Conflicting [ MD5: b7e19670e9ebf5b3f8418b5b51051256 ]
# SA 2.2201 Moose::Meta::Role::Method::Required [ MD5: 438f6bd699647da138a3931bfebd729d ]
# SA 2.2201 Moose::Meta::TypeCoercion [ MD5: be3d700370aac99cbd4b44b243f930df ]
# SA 2.2201 Moose::Meta::TypeCoercion::Union [ MD5: 4439e0cbbf5cf5977374e599149cf9b4 ]
# SA 2.2201 Moose::Meta::TypeConstraint [ MD5: f4082c9cd1c73251f8b3b0051a03ec47 ]
# SA 2.2201 Moose::Meta::TypeConstraint::Class [ MD5: 80d4adce7e93a7d09860175a9178f004 ]
# SA 2.2201 Moose::Meta::TypeConstraint::DuckType [ MD5: 96aa82f70c7cb32ec8f88311ee69d5c5 ]
# SA 2.2201 Moose::Meta::TypeConstraint::Enum [ MD5: 803eff147a842a40145856d488f3983f ]
# SA 2.2201 Moose::Meta::TypeConstraint::Parameterizable [ MD5: 632c5249dc8b4eceb20cad9dc8466466 ]
# SA 2.2201 Moose::Meta::TypeConstraint::Parameterized [ MD5: e6fff94004467e854f82868b7fd218b1 ]
# SA 2.2201 Moose::Meta::TypeConstraint::Registry [ MD5: 7b096624592bc1f7846a712dbad29ecf ]
# SA 2.2201 Moose::Meta::TypeConstraint::Role [ MD5: 887e27fd4cb70629ab73a8d28d88dd56 ]
# SA 2.2201 Moose::Meta::TypeConstraint::Union [ MD5: 4c7e3bbd50c1141ad775631a4d5b96b0 ]
# SA 2.2201 Moose::Object [ MD5: 9b0ca4e79239bdb9a5032a170e64d88d ]
# SA 2.2201 Moose::Role [ MD5: 2aa616b3a1b12e15c3e29e634b923473 ]
# SA 2.2201 Moose::Util [ MD5: 84508c79ce0d67e0e4f6a313a3f38b7a ]
# SA 2.2201 Moose::Util::MetaRole [ MD5: 91fe34b21b45d020ef69d9850bc8a135 ]
# SA 2.2201 Moose::Util::TypeConstraints [ MD5: ec659a219cd1dafef54ef6f55da09577 ]
# SA 2.2201 Moose::Util::TypeConstraints::Builtins [ MD5: 9e9f1ba00b778fedb5451ff959e41297 ]
# SL 0.74 MooseX::Getopt [ MD5: 40abdba238cea848804787831051e64f ]
# SL 0.74 MooseX::Getopt::Basic [ MD5: 54a2af329204a981054314d0c7657607 ]
# SL 0.74 MooseX::Getopt::GLD [ MD5: 512d99bf9565ff8633154eac185afb90 ]
# SL 0.74 MooseX::Getopt::Meta::Attribute [ MD5: 6045bc05e8ed49ff343f9e6eb83c20e0 ]
# SL 0.74 MooseX::Getopt::Meta::Attribute::NoGetopt [ MD5: fa946a76db86dd308e461027af33a13b ]
# SL 0.74 MooseX::Getopt::Meta::Attribute::Trait [ MD5: ec38bb43ccf247ed289d00ca808d64f2 ]
# SL 0.74 MooseX::Getopt::Meta::Attribute::Trait::NoGetopt [ MD5: 5220a78810bab143535842589537fb6c ]
# SL 0.74 MooseX::Getopt::OptionTypeMap [ MD5: b922c61c22effb08865ce1531db0b10d ]
# SL 0.74 MooseX::Getopt::ProcessedArgv [ MD5: 561e6a6823f763779f2cc77778e89636 ]
# SL 1.11 MooseX::Role::Parameterized [ MD5: 57153224a71a842e11fafa48d1c5ff35 ]
# SL 1.11 MooseX::Role::Parameterized::Meta::Role::Parameterized [ MD5: 7389d3c80b088f4a60a749669a272108 ]
# SL 1.11 MooseX::Role::Parameterized::Meta::Trait::Parameterizable [ MD5: 8ff297332b4cd51253fbc3775b527897 ]
# SL 1.11 MooseX::Role::Parameterized::Meta::Trait::Parameterized [ MD5: dff12bf74839402e2722ab5c7a4c139a ]
# SL 1.11 MooseX::Role::Parameterized::Parameters [ MD5: 7ae31512eb36785cce307f8b53708e23 ]
# SL 0.50 MooseX::Types [ MD5: 17bbbb8842f7942f7dbbb26921f6a101 ]
# SL 0.50 MooseX::Types::Base [ MD5: d150a08c20428cc44a004f8638ad41db ]
# SL 0.50 MooseX::Types::CheckedUtilExports [ MD5: 557b5771665a6e0ec9ccfe638cecb5b7 ]
# SL 0.015 MooseX::Types::LoadableClass [ MD5: ecc36756c227d77f3e0d50c3b93ae209 ]
# SL 0.50 MooseX::Types::Moose [ MD5: 50ab28fc41501c0c28f0dcd01ca1df26 ]
# SL 0.09 MooseX::Types::Path::Class [ MD5: fa4152eac64df55ede9de273d21bc2d3 ]
# SL 0.50 MooseX::Types::TypeDecorator [ MD5: f141bb4c2a1c181421144011515c112b ]
# SL 0.50 MooseX::Types::UndefinedType [ MD5: 2fd1fdbd0da64f6d55375bce8458d66d ]
# SL 0.50 MooseX::Types::Util [ MD5: 39cdff774bdb7208e1c73892a26ccd3a ]
# PA 1.22 mro [ MD5: ceaa202f99a130f2781db933e6629951 ]
# SL 0.13 MRO::Compat [ MD5: 0e22f9bf6be934a1ef7ecc18c01ea6be ]
# SL 0.29 namespace::autoclean [ MD5: cb986f01f8feabc7b72cc8e09d0aa1be ]
# SL 0.27 namespace::clean [ MD5: f3e03f7f5f26391565d98357834e909b ]
# PL 1.30 overload [ MD5: 35e01c1aa7d55d0ba53dfdef6be2d803 ]
# PL 0.02 overloading [ MD5: 36e1b34f8175e036d57e51fd7d56becd ]
# SL 0.17 Package::DeprecationManager [ MD5: 93dddddd7913b016f00963197be1c5f1 ]
# SL 0.38 Package::Stash [ MD5: eb2d8bc231d6485055686fba89992d05 ]
# SA 0.29 Package::Stash::XS [ MD5: fd533e932b5895d3a734d7f04ee3bf87 ]
# SL 1.003002 Package::Variant [ MD5: dab12020035bf6d34adc8aa771e7df9c ]
# SA 2.5 PadWalker [ MD5: 75ab18df28634d5c1936987e4bcae857 ]
# SA 1.07 Params::Util [ MD5: dae515c40e02b36de308e51ddf0e8edd ]
# SA 1.30 Params::Validate [ MD5: 92fa5613cb252f64eb57471be9ef58b2 ]
# SA 1.30 Params::Validate::Constants [ MD5: bd34565e9f38fa81481755bd0aa29942 ]
# SA 1.30 Params::Validate::XS [ MD5: 1ed2a2358f6435f1ea3b8298815c6f6b ]
# SL 0.30 Params::ValidationCompiler [ MD5: c86b40c1604b45d8559c16261fd85ed6 ]
# SL 0.30 Params::ValidationCompiler::Compiler [ MD5: c220ead17495813b8958943283b30257 ]
# SL 1.45 Params::ValidationCompiler::Exception::BadArguments [ MD5: a45a42ee006782394ce58ca86d75f55e ]
# SL 1.45 Params::ValidationCompiler::Exception::Named::Extra [ MD5: a45a42ee006782394ce58ca86d75f55e ]
# SL 1.45 Params::ValidationCompiler::Exception::Named::Required [ MD5: a45a42ee006782394ce58ca86d75f55e ]
# SL 1.45 Params::ValidationCompiler::Exception::Positional::Extra [ MD5: a45a42ee006782394ce58ca86d75f55e ]
# SL 1.45 Params::ValidationCompiler::Exception::Positional::Required [ MD5: a45a42ee006782394ce58ca86d75f55e ]
# SL 1.45 Params::ValidationCompiler::Exception::ValidationFailedForMooseTypeConstraint [ MD5: a45a42ee006782394ce58ca86d75f55e ]
# SL 0.30 Params::ValidationCompiler::Exceptions [ MD5: 25fc4c6b5f365fddb4a1ab812c5bcf2d ]
# PL 0.237 parent [ MD5: 9e9122bfa8bc731887ded9555b91e3ad ]
# SL 0.37 Path::Class [ MD5: 62b3248e0d25291933a8d0f09e731547 ]
# SL 0.37 Path::Class::Dir [ MD5: 9b7bd783037e1e812d6a82d62bcecb92 ]
# SL 0.37 Path::Class::Entity [ MD5: 8e14d34b8f5a0909736e9bdaac460848 ]
# SL 0.37 Path::Class::File [ MD5: b7f9029ac9e90dc1d509a95d12103c69 ]
# 5.030003 perl [ MD5: 16aaa5d9c9b3606cabf6ca95b63effa5 ]
# PL 1.10 PerlIO [ MD5: 66c4f1af51bbeb98e0f6ca863f8d1615 ]
# SL 0.23 Pod::Coverage [ MD5: d53035083682c2a78d56d998ad7239d2 ]
# PL 1.07 Pod::Escapes [ MD5: 66b73dccf48caa9ab161e8c3805cf955 ]
# PL 1.63 Pod::Find [ MD5: 1e09437d4c107f7ef2690f6b9995dbd7 ]
# PL 1.63 Pod::InputObjects [ MD5: 6b7a4d75d42c87da3929354fafa2a5a6 ]
# PL 1.63 Pod::Parser [ MD5: 9b166f82ac0afacbb4e2c0140725f29d ]
# SL 3.43 Pod::Simple [ MD5: b86a7500d3b905b764ff99f111af4782 ]
# SL 3.43 Pod::Simple::BlackBox [ MD5: 1395ca0b97d7de9447bd05e7a3810ded ]
# SL 3.43 Pod::Simple::LinkSection [ MD5: 220977e6012f2689651a79edf725de05 ]
# SL 3.43 Pod::Simple::TiedOutFH [ MD5: fbc124bec344d6220c8d090f8d9d342a ]
# PA 1.88 POSIX [ MD5: c4c4038f120a27913fff93deecb578af ]
# PA 0.37 re [ MD5: 4136dc3706a65eb00f81d47936e6a656 ]
# SL 0.204 Ref::Util [ MD5: 6cbf466e6da28a59c14b1185ae73a653 ]
# SA 0.117 Ref::Util::XS [ MD5: aae385ffc545b1a3083aefa334789c0f ]
# SL 2.002004 Role::Tiny [ MD5: 861d0b2534a79b6019bc7147c041cad4 ]
# SL 2.002004 Role::Tiny::With [ MD5: 3553d98b3d121c03e2dbaae52e034503 ]
# SA 1.60 Scalar::Util [ MD5: 7e55696c31b9766df5239c904f3cfad8 ]
# SL 0.21 Scope::Guard [ MD5: 914494bdeb65cd340f14eae265635cf2 ]
# PL 1.02 SelectSaver [ MD5: bddc465e351ad0508581b94ef112d322 ]
# SL 0.46 Specio [ MD5: aa3cf2c2b9072aee8c3dae27270d1d49 ]
# SL 0.46 Specio::Coercion [ MD5: 2eca68bdf3431c2def39d0683904986c ]
# SL 0.46 Specio::Constraint::AnyCan [ MD5: bcb4217d7626a3cbf809d38a13d0312d ]
# SL 0.46 Specio::Constraint::Enum [ MD5: bf9fc02915b6786633ae20233ad2dea2 ]
# SL 0.46 Specio::Constraint::ObjectCan [ MD5: 2ebe9e7fbad4f0212db47ccc27dda350 ]
# SL 0.46 Specio::Constraint::ObjectIsa [ MD5: aadbff720c576a79ab42bdc9a0983998 ]
# SL 0.46 Specio::Constraint::Parameterizable [ MD5: 3f49014d6edd9bcc3332979a8c6b082c ]
# SL 0.46 Specio::Constraint::Parameterized [ MD5: 491efb6453e2e2b11f7d4818ef68e06c ]
# SL 0.46 Specio::Constraint::Role::CanType [ MD5: 48239f268552ab9eec299c596fade193 ]
# SL 0.46 Specio::Constraint::Role::Interface [ MD5: 3731f00b8612ab6a4441d560c6e016a3 ]
# SL 0.46 Specio::Constraint::Role::IsaType [ MD5: 5b237398fcd22390fbe74fa6eb91f0e1 ]
# SL 0.46 Specio::Constraint::Simple [ MD5: 85b4f43750fb2f46a6cd70d612921bf6 ]
# SL 0.46 Specio::Constraint::Union [ MD5: 91aacc1b77f2098f3bc122a4200a4c7f ]
# SL 0.46 Specio::Declare [ MD5: fe4e518b70b320218392a6a1970d8c9e ]
# SL 0.46 Specio::DeclaredAt [ MD5: 191de23b8342a7e3eaf82cdd72b6bcfa ]
# SL 0.46 Specio::Exception [ MD5: 9de72be400f76270c44dad35b48e6345 ]
# SL 0.46 Specio::Exporter [ MD5: 329468e77dc8090b39a44c77f62d09ce ]
# SL 0.46 Specio::Helpers [ MD5: 34dfc6b123058b69fbd23be85d07738a ]
# SL 0.46 Specio::Library::Builtins [ MD5: 959833682ea8cb2bf9c31f8bde4984c6 ]
# SL 0.46 Specio::Library::Numeric [ MD5: 42ad5fda1ef3065e4c2f5c7928ea569d ]
# SL 0.46 Specio::Library::Perl [ MD5: c7cce12d5e5ef4aaa42113d28ee5a153 ]
# SL 0.46 Specio::Library::String [ MD5: 01f738f41c7b6419d40a3fd3c8a951b8 ]
# SL 0.46 Specio::OO [ MD5: 6d47d176bd8e302f6ad91f17462a032e ]
# SL 0.46 Specio::PartialDump [ MD5: 4a7bb465d0eb9575d4c7ba8a4bc1802e ]
# SL 0.46 Specio::Registry [ MD5: d5235243db2911c4c8744a2fe81a83f8 ]
# SL 0.46 Specio::Role::Inlinable [ MD5: 5f4ecc793059f269739543e4ce6ad7dd ]
# SL 0.46 Specio::Subs [ MD5: a3cb15d0e6eab89a17b84e3f442fc567 ]
# SL 0.46 Specio::TypeChecks [ MD5: c640e8ececa887191f7d3dafd1e01606 ]
# SL 1.91 SQL::Abstract::Classic [ MD5: 82c47bb99257b1225bb3576458e85992 ]
# SL SQL::Abstract::Tree [ MD5: 4ebd475571c49fd341fd961558c89c7b ]
# SL SQL::Abstract::Util [ MD5: 4599b28bcd164597e690650c495bd658 ]
# SL 1.62 SQL::Translator [ MD5: 6d10377297a3001bc784dfa1ed25be30 ]
# BLL 1.10 SQL::Translator::Parser::DBIx::Class [ MD5: a2e6513ee1189074e99c2a7753d7fb2a ]
# SL 1.62 SQL::Translator::Producer [ MD5: b9385043e973c80b1c47cf14309e87f1 ]
# BLL 0.1 SQL::Translator::Producer::DBIx::Class::File [ MD5: c69e702afc25396bd697909dc8536bf1 ]
# SL SQL::Translator::Role::BuildArgs [ MD5: da4de7404aebe70de0aaa77689a9d9a2 ]
# SL SQL::Translator::Role::Debug [ MD5: 12120b74191e9a87aca4f4fa9d3f6ae4 ]
# SL SQL::Translator::Role::Error [ MD5: fd75a6bb42465db4e3c6447beb7779d4 ]
# SL SQL::Translator::Role::ListAttr [ MD5: 9b44f5bb79226f54a5c2d66b8121583d ]
# SL 1.62 SQL::Translator::Schema [ MD5: 599c87759f089f01186a471f3eef8710 ]
# SL 1.62 SQL::Translator::Schema::Constants [ MD5: cb5cb8bfeb7213451466ddd4b62743a4 ]
# SL 1.62 SQL::Translator::Schema::Constraint [ MD5: 0871665d0bf058e19ab5ade42007a48c ]
# SL 1.62 SQL::Translator::Schema::Field [ MD5: 7d7222c48ccff522b918752a8a9a47d0 ]
# SL 1.62 SQL::Translator::Schema::Index [ MD5: 4a5f8938544692e128c968417d577e75 ]
# SL 1.62 SQL::Translator::Schema::Object [ MD5: c2baab12e7cf9a79e8d2f607f276f994 ]
# SL 1.62 SQL::Translator::Schema::Procedure [ MD5: 5b048788a23991b0eddf83465527565b ]
# SL SQL::Translator::Schema::Role::Compare [ MD5: c779113b952d8a8d70a5eee87a97a0c2 ]
# SL SQL::Translator::Schema::Role::Extra [ MD5: 34c2f771146c0fd45bb22fb08c9afd77 ]
# SL 1.62 SQL::Translator::Schema::Table [ MD5: b941bbde324289e5cb46321be7357d65 ]
# SL 1.62 SQL::Translator::Schema::Trigger [ MD5: ae0fea820794e02b06784cc108d051a1 ]
# SL 1.62 SQL::Translator::Schema::View [ MD5: 8bf8c9d96071fd01ee07f843899e7df9 ]
# SL SQL::Translator::Types [ MD5: f750930fdefdeca9559b44d101ce1761 ]
# SL 1.62 SQL::Translator::Utils [ MD5: f0787a2d37ed122f5f8d750a0dbffea1 ]
# SA 3.25 Storable [ MD5: e9a33f56cbcade2846ccdb2e4a0dd2c6 ]
# PL 1.11 strict [ MD5: 441328c7ffbbe42a0226ec65bde71715 ]
# SL 2.000006 strictures [ MD5: 99d8e04c827a8c381a2b1253ac729182 ]
# SL 2.006006 Sub::Defer [ MD5: d3942ab62222394a34d49d8a4e5d7e69 ]
# SL 0.988 Sub::Exporter [ MD5: 5f0211451dfaff5fa5471f59b16ce364 ]
# SL 0.100052 Sub::Exporter::ForMethods [ MD5: 50b7071f63f77815db48360df0b102c4 ]
# SL 0.001013 Sub::Exporter::Progressive [ MD5: 5f37412f2438f87c7b088c7b2e6dd8ab ]
# SL 0.988 Sub::Exporter::Util [ MD5: 1adb88b66026f472fb2aa3145de111d5 ]
# SA 0.14 Sub::Identify [ MD5: c5aa7af217a6440b522298715d770472 ]
# SL 0.928 Sub::Install [ MD5: f077d4c445e5cceebd5aab8460fd2d5e ]
# SA 0.26 Sub::Name [ MD5: 9ffca0ac7776cb7653a81b85330b6b71 ]
# SL 2.006006 Sub::Quote [ MD5: 5601633673df930e47b212c2022b4eec ]
# SA 1.60 Sub::Util [ MD5: 59c46ade232bda047ee556d7958c4b43 ]
# PL 1.08 Symbol [ MD5: f261ff12097b376fceb636639aa228c8 ]
# SL 1.302190 Test2::API [ MD5: 3a9c301b324592aef1efae28db633e13 ]
# SL 1.302190 Test2::API::Context [ MD5: 1658bd027cc95dc945eec16a9a4880b5 ]
# SL 1.302190 Test2::API::Instance [ MD5: 6de6be6e9d41a61b2a5629d4fa9a4dae ]
# SL 1.302190 Test2::API::Stack [ MD5: 6291b9bc736f024da94269567d2394a5 ]
# SL 1.302190 Test2::Event [ MD5: b4b487e390573a729d216b62d842801a ]
# SL 1.302190 Test2::Event::Bail [ MD5: 80de46c8bd525d4e9b91fcaae5d978ef ]
# SL 1.302190 Test2::Event::Diag [ MD5: cbe4a79127d0ba487bd45d0cb09284de ]
# SL 1.302190 Test2::Event::Exception [ MD5: cf39c6da232557143fd5ecceffa59163 ]
# SL 1.302190 Test2::Event::Fail [ MD5: e7fa81ec1a5792295ccf29ea21d6ae70 ]
# SL 1.302190 Test2::Event::Note [ MD5: d1d29e6d3a6e72de8f296e50c8b5a913 ]
# SL 1.302190 Test2::Event::Ok [ MD5: b592b49a54a1ec878178ae677cbe81c4 ]
# SL 1.302190 Test2::Event::Pass [ MD5: bf5d732f139e44dc64b3611149419c90 ]
# SL 1.302190 Test2::Event::Plan [ MD5: 9e021c781988c7389ba90117a6e342eb ]
# SL 1.302190 Test2::Event::Skip [ MD5: bd2c7672738ac4c374ad25b990d88a62 ]
# SL 1.302190 Test2::Event::Subtest [ MD5: 8ec3e4dafa8aa0335bee5a99cd904a00 ]
# SL 1.302190 Test2::Event::V2 [ MD5: 2364822dd0abe4a193695e242c94a6b3 ]
# SL 1.302190 Test2::Event::Waiting [ MD5: ebb8b3cd5dfe43fd2a9fe399bdeeb001 ]
# SL 1.302190 Test2::EventFacet [ MD5: 210dab9da36aada13e0ff27582cf0fc0 ]
# SL 1.302190 Test2::EventFacet::About [ MD5: d146c13f7bfd3409fed4af15f4864f76 ]
# SL 1.302190 Test2::EventFacet::Amnesty [ MD5: 447dda1594c407e8a622f957e739e5b3 ]
# SL 1.302190 Test2::EventFacet::Assert [ MD5: 85fcdb6fa4b4831af6fa2b14b6ca4809 ]
# SL 1.302190 Test2::EventFacet::Control [ MD5: ed1e40382e6de89c590cf5f6a0f6851c ]
# SL 1.302190 Test2::EventFacet::Error [ MD5: aca6211e00af2565f982fd281b565930 ]
# SL 1.302190 Test2::EventFacet::Hub [ MD5: 3497901c0be31411786da0339b602dd2 ]
# SL 1.302190 Test2::EventFacet::Info [ MD5: 364a0d4ff900a5eeb481e80e8f345506 ]
# SL 1.302190 Test2::EventFacet::Meta [ MD5: a08fa87da18428a992d4d0eb46ffaa99 ]
# SL 1.302190 Test2::EventFacet::Parent [ MD5: 7549464383743af13b7619e684b63fdf ]
# SL 1.302190 Test2::EventFacet::Plan [ MD5: 1d1c2a615ea7af958a6e1be08b25a9a4 ]
# SL 1.302190 Test2::EventFacet::Trace [ MD5: d93e45b091562bbf77f2ba1ed3e0df2d ]
# SL 1.302190 Test2::Formatter [ MD5: 5c5775bf38f3da638deb1b1efbc1b783 ]
# SL 1.302190 Test2::Formatter::TAP [ MD5: ccaabc641f09ff8b5b69495831711155 ]
# SL 1.302190 Test2::Hub [ MD5: d00a2eba7b905b238518c281c1e568e4 ]
# SL 1.302190 Test2::Hub::Interceptor [ MD5: 3b3cc1987e6e9c5bc9a01f97651282e3 ]
# SL 1.302190 Test2::Hub::Interceptor::Terminator [ MD5: de8e1120b69d14303cba4bdcfd60be48 ]
# SL 1.302190 Test2::Hub::Subtest [ MD5: 0f014d2ce5fe26912d41e1244ea6b85a ]
# SL 1.302190 Test2::Util [ MD5: 5228d81d916abcc5c1096a5d80907213 ]
# SL 1.302190 Test2::Util::ExternalMeta [ MD5: c209cebb34567000291b3a5fc585ec5f ]
# SL 1.302190 Test2::Util::Facets2Legacy [ MD5: f04f9ec9e5c49c7c0398b96f116f3563 ]
# SL 1.302190 Test2::Util::HashBase [ MD5: d47d8e7cf14b5dfeff4f9102e569abad ]
# SL 1.302190 Test2::Util::Trace [ MD5: 993c68caf9c177347bb47a079f29fb61 ]
# SL 1.302190 Test::Builder [ MD5: fc42321fdb0d6900590dfc64cd315bf3 ]
# SL 1.302190 Test::Builder::Formatter [ MD5: cd1e35a68b59305535a0a8fb1c1309f0 ]
# SL 1.302190 Test::Builder::Module [ MD5: f543801ae1c797b39771adcb7bf61534 ]
# SL 1.302190 Test::Builder::TodoDiag [ MD5: 6b82ddf328037a8c393f2c4413a9448c ]
# SL 2.00 Test::EOL [ MD5: 863a9894c60d455a12c7c030fb075a0a ]
# SA 2.2201 Test::Moose [ MD5: 2e6a811efc82e8c3337905b7bdb508f2 ]
# SL 1.302190 Test::More [ MD5: cff473a3c02b51a7eb2339129f42e77d ]
# SL 2.02 Test::NoTabs [ MD5: a136a1f75f3296f62c8bdc898d4dc83e ]
# SL 1.52 Test::Pod [ MD5: 57529b9abbdd5ecf857b9c354764eb31 ]
# SL 1.10 Test::Pod::Coverage [ MD5: b751ee701f87277a9013c485f474424e ]
# SL 0.52 Test::Strict [ MD5: ef2aca15b1c442f7eaf533b540acf4ea ]
# SL 2.01 Text::CSV [ MD5: fe22b8db816d46fb5eaafb5839e345d6 ]
# SA 1.46 Text::CSV_XS [ MD5: c757d7893b2689cdd2bec5f0d0c5a284 ]
# PL 1.05 Tie::Hash [ MD5: acc4709f0adb89bef2863771b6995d2b ]
# SA 1.9764 Time::HiRes [ MD5: 9e98203b6bfe720128717ba8e8ae4148 ]
# SL 0.31 Try::Tiny [ MD5: bd4812ceab0afd05e1c985d727a8b3a1 ]
# SL 1.0 Types::Serialiser [ MD5: b409e70ebab79d5b48b44dde9574b411 ]
# 4.08 Types::Serialiser::Boolean ! -f $INC{'Types/Serialiser/Boolean.pm'}
# PL 1.22 utf8 [ MD5: 3a12d2af9d7b145bb4f16f0f80680430 ]
# SA 0.62 Variable::Magic [ MD5: f799b01d18fef4f04032b0737bca868c ]
# PL 1.05 vars [ MD5: fec1c1985d96c2edd842ff2b71821afb ]
# PL 0.9924 version [ MD5: e60bdde345251ac96b5f59aaeb77b683 ]
# PL 0.9924 version::regex [ MD5: 1804cdcea69766fe0b4587f713779d20 ]
# PL 1.44 warnings [ MD5: 641dfe74c961eb0f4e4831423364efc0 ]
# PL 1.04 warnings::register [ MD5: 2d8f6ce093a2176b982c0e12c0194b3b ]
# PL 0.30 XSLoader [ MD5: f868a2bca863df438aafe6a677cbfa42 ]
# SA 0.004 XString [ MD5: 0c376086a716277defd5097cbe609b9d ]
# =============================
#
# List of loadable modules within both *OPTIONAL* and core dependency chains
# present on this system (modules sourced from ./blib, ./lib, ./t, and ./xt
# with versions identical to their parent namespace were omitted for brevity)
#
# *** Note that *MANY* of these modules will *NEVER* be loaded ***
# *** during normal operation of DBIx::Class ***
#
#
t/00describe_environment.t .......................... ok
t/04_c3_mro.t ....................................... ok
t/05components.t .................................... ok
t/100extra_source.t ................................. ok
t/100populate.t ..................................... ok
t/101populate_rs.t .................................. ok
t/101source.t ....................................... ok
t/102load_classes.t ................................. ok
t/103many_to_many_warning.t ......................... ok
t/104view.t ......................................... ok
t/106dbic_carp.t .................................... ok
t/107obj_result_class.t ............................. ok
t/18insert_default.t ................................ ok
t/19retrieve_on_insert.t ............................ ok
t/20setuperrors.t ................................... ok
t/26dumper.t ........................................ ok
t/33exception_wrap.t ................................ ok
t/34exception_action.t .............................. ok
t/35exception_inaction.t ............................ skipped: not running dangerous segfault-prone test on plain install
t/39load_namespaces_1.t ............................. ok
t/39load_namespaces_2.t ............................. ok
t/39load_namespaces_3.t ............................. ok
t/39load_namespaces_4.t ............................. ok
t/39load_namespaces_exception.t ..................... ok
t/39load_namespaces_rt41083.t ....................... ok
t/39load_namespaces_stress.t ........................ ok
t/40compose_connection.t ............................ ok
t/40resultsetmanager.t .............................. ok
t/46where_attribute.t ............................... ok
t/50fork.t .......................................... skipped: Set $ENV{DBICTEST_PG_DSN}, _USER and _PASS to run this test (note: creates and drops a table named artist!)
t/51threadnodb.t .................................... skipped: your perl does not support ithreads
t/51threads.t ....................................... skipped: your perl does not support ithreads
t/51threadtxn.t ..................................... skipped: your perl does not support ithreads
t/52leaks.t ......................................... ok
t/53lean_startup.t .................................. ok
t/55namespaces_cleaned.t ............................ skipped: Skipping test on plain module install
t/60core.t .......................................... ok
t/61findnot.t ....................................... ok
t/63register_class.t ................................ ok
t/63register_column.t ............................... ok
t/63register_source.t ............................... ok
t/64db.t ............................................ ok
t/65multipk.t ....................................... ok
t/69update.t ........................................ ok
t/70auto.t .......................................... ok
t/71mysql.t ......................................... skipped: Set $ENV{DBICTEST_MYSQL_DSN}, _USER and _PASS to run this test
t/72pg.t ............................................ skipped: Set $ENV{DBICTEST_PG_DSN}, _USER and _PASS to run this test
t/72pg_bytea.t ...................................... skipped: Set $ENV{DBICTEST_PG_DSN}, _USER and _PASS to run this test
t/73oracle.t ........................................ skipped: Set $ENV{DBICTEST_ORA_DSN}, _USER and _PASS to run this test.
t/73oracle_blob.t ................................... skipped: Set $ENV{DBICTEST_ORA_DSN}, _USER and _PASS to run this test.
t/73oracle_hq.t ..................................... skipped: Set $ENV{DBICTEST_ORA_DSN}, _USER and _PASS to run this test.
t/745db2.t .......................................... skipped: Set $ENV{DBICTEST_DB2_DSN}, _USER and _PASS to run this test
t/746db2_400.t ...................................... skipped: Set $ENV{DBICTEST_DB2_400_DSN}, _USER and _PASS to run this test
t/746mssql.t ........................................ skipped: Set $ENV{DBICTEST_MSSQL_ODBC_DSN}, _USER and _PASS to run this test
t/746sybase.t ....................................... skipped: Set $ENV{DBICTEST_SYBASE_DSN}, _USER and _PASS to run this test. Warning: This test drops and creates the tables: 'artist', 'money_test' and 'bindtype_test'
t/747mssql_ado.t .................................... skipped: Set $ENV{DBICTEST_MSSQL_ADO_DSN}, _USER and _PASS to run this test
t/748informix.t ..................................... skipped: Set $ENV{DBICTEST_INFORMIX_DSN}, _USER and _PASS to run this test
t/749sqlanywhere.t .................................. skipped: Set $ENV{DBICTEST_SQLANYWHERE_DSN} and/or $ENV{DBICTEST_SQLANYWHERE_ODBC_DSN},
t/74mssql.t ......................................... skipped: Set $ENV{DBICTEST_MSSQL_DSN}, _USER and _PASS to run this test
t/750firebird.t ..................................... skipped: Set $ENV{DBICTEST_FIREBIRD_DSN} and/or $ENV{DBICTEST_FIREBIRD_INTERBASE_DSN} and/or $ENV{DBICTEST_FIREBIRD_ODBC_DSN}, _USER and _PASS to run these tests. WARNING: this test creates and drops the tables "artist", "bindtype_test" and "sequence_test"; the generators "gen_artist_artistid", "pkid1_seq", "pkid2_seq" and "nonpkid_seq" and the trigger "artist_bi".
t/751msaccess.t ..................................... skipped: Set $ENV{DBICTEST_MSACCESS_ODBC_DSN} and/or $ENV{DBICTEST_MSACCESS_ADO_DSN} (and optionally _USER and _PASS) to run these tests.
t/752sqlite.t ....................................... ok
t/76joins.t ......................................... ok
t/76select.t ........................................ ok
t/77join_count.t .................................... ok
t/78self_referencial.t .............................. ok
t/79aliasing.t ...................................... ok
t/80unique.t ........................................ ok
t/82cascade_copy.t .................................. ok
t/83cache.t ......................................... ok
t/84serialize.t ..................................... ok
t/85utf8.t .......................................... ok
t/86might_have.t .................................... ok
t/86sqlt.t .......................................... ok
t/87ordered.t ....................................... ok
t/88result_set_column.t ............................. ok
t/90ensure_class_loaded.t ........................... ok
t/90join_torture.t .................................. ok
t/91merge_joinpref_attr.t ........................... ok
t/93autocast.t ...................................... ok
t/93single_accessor_object.t ........................ ok
t/94pk_mutation.t ................................... ok
t/94versioning.t .................................... skipped: Set $ENV{DBICTEST_MYSQL_DSN}, _USER and _PASS to run this test
t/96_is_deteministic_value.t ........................ ok
t/97result_class.t .................................. ok
t/99dbic_sqlt_parser.t .............................. ok
t/admin/01load.t .................................... skipped: Test needs MooseX::Types::JSON >= 0.02 (see DBIx::Class::Optional::Dependencies for details)
t/admin/02ddl.t ..................................... skipped: Test needs MooseX::Types::JSON >= 0.02 (see DBIx::Class::Optional::Dependencies for details)
t/admin/03data.t .................................... skipped: Test needs MooseX::Types::JSON >= 0.02 (see DBIx::Class::Optional::Dependencies for details)
t/admin/10script.t .................................. skipped: Test needs JSON::DWIW, MooseX::Types::JSON >= 0.02
t/cdbi/01-columns.t ................................. skipped: Class::DBI required for this test
t/cdbi/02-Film.t .................................... skipped: Class::DBI required for this test
t/cdbi/03-subclassing.t ............................. skipped: Class::DBI required for this test
t/cdbi/04-lazy.t .................................... skipped: Class::DBI required for this test
t/cdbi/06-hasa.t .................................... skipped: Class::DBI required for this test
t/cdbi/08-inheritcols.t ............................. skipped: Class::DBI required for this test
t/cdbi/09-has_many.t ................................ skipped: Class::DBI required for this test
t/cdbi/11-triggers.t ................................ skipped: Class::DBI required for this test
t/cdbi/12-filter.t .................................. skipped: Class::DBI required for this test
t/cdbi/13-constraint.t .............................. skipped: Class::DBI required for this test
t/cdbi/14-might_have.t .............................. skipped: Class::DBI required for this test
t/cdbi/15-accessor.t ................................ skipped: Class::DBI required for this test
t/cdbi/16-reserved.t ................................ skipped: Class::DBI required for this test
t/cdbi/18-has_a.t ................................... skipped: Class::DBI required for this test
t/cdbi/19-set_sql.t ................................. skipped: Class::DBI required for this test
t/cdbi/21-iterator.t ................................ skipped: Class::DBI required for this test
t/cdbi/22-deflate_order.t ........................... skipped: Class::DBI required for this test
t/cdbi/22-self_referential.t ........................ skipped: Class::DBI required for this test
t/cdbi/23-cascade.t ................................. skipped: Class::DBI required for this test
t/cdbi/24-meta_info.t ............................... skipped: Class::DBI required for this test
t/cdbi/26-mutator.t ................................. skipped: Class::DBI required for this test
t/cdbi/30-pager.t ................................... skipped: Class::DBI required for this test
t/cdbi/68-inflate_has_a.t ........................... skipped: Class::DBI required for this test
t/cdbi/70_implicit_inflate.t ........................ skipped: Class::DBI required for this test
t/cdbi/71_column_object.t ........................... skipped: The tested functionality is only available in Class::DBI >= 3.0.5
t/cdbi/98-failure.t ................................. skipped: Class::DBI required for this test
t/cdbi/abstract/search_where.t ...................... skipped: Class::DBI required for this test
t/cdbi/columns_as_hashes.t .......................... skipped: Class::DBI required for this test
t/cdbi/columns_dont_override_custom_accessors.t ..... skipped: Class::DBI required for this test
t/cdbi/construct.t .................................. skipped: Class::DBI required for this test
t/cdbi/copy.t ....................................... skipped: Class::DBI required for this test
t/cdbi/DeepAbstractSearch/01_search.t ............... skipped: Class::DBI required for this test
t/cdbi/early_column_heisenbug.t ..................... skipped: Class::DBI required for this test
t/cdbi/has_many_loads_foreign_class.t ............... skipped: Class::DBI required for this test
t/cdbi/hasa_without_loading.t ....................... skipped: Class::DBI required for this test
t/cdbi/max_min_value_of.t ........................... skipped: Class::DBI required for this test
t/cdbi/mk_group_accessors.t ......................... skipped: Class::DBI required for this test
t/cdbi/multi_column_set.t ........................... skipped: Class::DBI required for this test
t/cdbi/object_cache.t ............................... skipped: Class::DBI required for this test
t/cdbi/retrieve_from_sql_with_limit.t ............... skipped: Class::DBI required for this test
t/cdbi/set_to_undef.t ............................... skipped: Class::DBI required for this test
t/cdbi/set_vs_DateTime.t ............................ skipped: Class::DBI required for this test
t/cdbi/sweet/08pager.t .............................. skipped: Class::DBI required for this test
t/count/count_rs.t .................................. ok
t/count/distinct.t .................................. ok
t/count/group_by_func.t ............................. ok
t/count/grouped_pager.t ............................. ok
t/count/in_subquery.t ............................... ok
t/count/joined.t .................................... ok
t/count/prefetch.t .................................. ok
t/count/search_related.t ............................ ok
t/debug/bulk-insert.t ............................... ok
t/debug/core.t ...................................... ok
t/debug/no-repeats.t ................................ ok
t/debug/pretty.t .................................... ok
t/debug/show-progress.t ............................. ok
t/delete/cascade_missing.t .......................... ok
t/delete/complex.t .................................. ok
t/delete/m2m.t ...................................... ok
t/delete/related.t .................................. ok
t/discard_changes_in_DESTROY.t ...................... ok
t/inflate/core.t .................................... ok
t/inflate/datetime.t ................................ ok
t/inflate/datetime_determine_parser.t ............... ok
t/inflate/datetime_firebird.t ....................... skipped: Set $ENV{DBICTEST_FIREBIRD_DSN} and/or $ENV{DBICTEST_FIREBIRD_INTERBASE_DSN} and/or $ENV{DBICTEST_FIREBIRD_ODBC_DSN}, _USER and _PASS to run these tests. WARNING: This test drops and creates a table called 'event'
t/inflate/datetime_informix.t ....................... skipped: Set $ENV{DBICTEST_INFORMIX_DSN} _USER and _PASS to run this test'.
t/inflate/datetime_missing_deps.t ................... ok
t/inflate/datetime_msaccess.t ....................... skipped: Set $ENV{DBICTEST_MSACCESS_ODBC_DSN} and/or $ENV{DBICTEST_MSACCESS_ADO_DSN} (and optionally _USER and _PASS) to run these tests.
t/inflate/datetime_mssql.t .......................... skipped: Set $ENV{DBICTEST_MSSQL_ODBC_DSN} and/or $ENV{DBICTEST_MSSQL_DSN} and/or $ENV{DBICTEST_MSSQL_ADO_DSN} _USER and _PASS to run this test
t/inflate/datetime_mysql.t .......................... ok
t/inflate/datetime_oracle.t ......................... skipped: Set $ENV{DBICTEST_ORA_DSN}, _USER and _PASS to run this test. Warning: This test drops and creates a table called 'event'
t/inflate/datetime_pg.t ............................. ok
t/inflate/datetime_sqlanywhere.t .................... skipped: Set $ENV{DBICTEST_SQLANYWHERE_DSN} and/or $ENV{DBICTEST_SQLANYWHERE_ODBC_DSN}
t/inflate/datetime_sybase.t ......................... skipped: Set $ENV{DBICTEST_SYBASE_DSN}, _USER and _PASS to run this test
t/inflate/file_column.t ............................. ok
t/inflate/hri.t ..................................... ok
t/inflate/hri_torture.t ............................. ok
t/inflate/serialize.t ............................... ok
t/multi_create/cd_single.t .......................... ok
t/multi_create/diamond.t ............................ ok
t/multi_create/existing_in_chain.t .................. ok
t/multi_create/find_or_multicreate.t ................ ok
t/multi_create/has_many.t ........................... ok
t/multi_create/in_memory.t .......................... ok
t/multi_create/insert_defaults.t .................... ok
t/multi_create/m2m.t ................................ ok
t/multi_create/multilev_single_PKeqFK.t ............. ok
t/multi_create/reentrance_count.t ................... skipped: Disable test entirely until multicreate is rewritten in terms of subqueries
t/multi_create/standard.t ........................... ok
t/multi_create/torture.t ............................ ok
t/ordered/cascade_delete.t .......................... ok
t/ordered/unordered_movement.t ...................... ok
t/pager/data_page_compat/constructor.t .............. ok
t/pager/data_page_compat/simple.t ................... ok
t/pager/dbic_core.t ................................. ok
t/prefetch/attrs_untouched.t ........................ ok
t/prefetch/correlated.t ............................. ok
t/prefetch/count.t .................................. ok
t/prefetch/diamond.t ................................ ok
t/prefetch/double_prefetch.t ........................ ok
t/prefetch/empty_cache.t ............................ ok
t/prefetch/false_colvalues.t ........................ ok
t/prefetch/grouped.t ................................ ok
t/prefetch/incomplete.t ............................. ok
t/prefetch/join_type.t .............................. ok
t/prefetch/lazy_cursor.t ............................ ok
t/prefetch/manual.t ................................. ok
t/prefetch/multiple_hasmany.t ....................... ok
t/prefetch/multiple_hasmany_torture.t ............... ok
t/prefetch/o2m_o2m_order_by_with_limit.t ............ ok
t/prefetch/one_to_many_to_one.t ..................... ok
t/prefetch/refined_search_on_relation.t ............. ok
t/prefetch/restricted_children_set.t ................ ok
t/prefetch/standard.t ............................... ok
t/prefetch/via_search_related.t ..................... ok
t/prefetch/with_limit.t ............................. ok
t/relationship/after_update.t ....................... ok
t/relationship/core.t ............................... ok
t/relationship/custom.t ............................. ok
t/relationship/custom_opaque.t ...................... ok
t/relationship/custom_with_null_in_cond.t ........... ok
t/relationship/doesnt_exist.t ....................... ok
t/relationship/dynamic_foreign_columns.t ............ ok
t/relationship/info.t ............................... ok
t/relationship/malformed_declaration.t .............. ok
t/relationship/proxy.t .............................. ok
t/relationship/set_column_on_fk.t ................... ok
t/relationship/unresolvable.t ....................... ok
t/relationship/update_or_create_multi.t ............. ok
t/relationship/update_or_create_single.t ............ ok
t/resultset/as_query.t .............................. ok
t/resultset/as_subselect_rs.t ....................... ok
t/resultset/bind_attr.t ............................. ok
t/resultset/find_on_subquery_cond.t ................. ok
t/resultset/inflate_result_api.t .................... ok
t/resultset/inflatemap_abuse.t ...................... ok
t/resultset/is_ordered.t ............................ ok
t/resultset/is_paged.t .............................. ok
t/resultset/nulls_only.t ............................ ok
t/resultset/plus_select.t ........................... ok
t/resultset/rowparser_internals.t ................... ok
t/resultset/update_delete.t ......................... ok
t/resultset_class.t ................................. ok
t/resultset_overload.t .............................. ok
t/resultsource/bare_resultclass_exception.t ......... ok
t/resultsource/set_primary_key.t .................... ok
t/row/copy_with_extra_selection.t ................... ok
t/row/filter_column.t ............................... ok
t/row/find_one_has_many.t ........................... ok
t/row/inflate_result.t .............................. ok
t/row/pkless.t ...................................... ok
t/row/set_extra_column.t ............................ ok
t/schema/anon.t ..................................... ok
t/schema/clone.t .................................... ok
t/search/deprecated_attributes.t .................... ok
t/search/distinct.t ................................. ok
t/search/empty_attrs.t .............................. ok
t/search/preserve_original_rs.t ..................... ok
t/search/reentrancy.t ............................... ok
t/search/related_has_many.t ......................... ok
t/search/related_strip_prefetch.t ................... ok
t/search/select_chains.t ............................ ok
t/search/select_chains_unbalanced.t ................. ok
t/search/stack_cond.t ............................... ok
t/search/subquery.t ................................. ok
t/search/void.t ..................................... ok
t/sqlmaker/bind_transport.t ......................... ok
t/sqlmaker/core.t ................................... ok
t/sqlmaker/core_quoted.t ............................ ok
t/sqlmaker/dbihacks_internals.t ..................... ok
t/sqlmaker/hierarchical/oracle.t .................... skipped: Test needs Math::Base36 >= 0.07
t/sqlmaker/legacy_joins.t ........................... ok
t/sqlmaker/limit_dialects/basic.t ................... ok
t/sqlmaker/limit_dialects/custom.t .................. ok
t/sqlmaker/limit_dialects/fetch_first.t ............. ok
t/sqlmaker/limit_dialects/first_skip.t .............. ok
t/sqlmaker/limit_dialects/generic_subq.t ............ ok
t/sqlmaker/limit_dialects/mssql_torture.t ........... ok
t/sqlmaker/limit_dialects/rno.t ..................... ok
t/sqlmaker/limit_dialects/rownum.t .................. ok
t/sqlmaker/limit_dialects/skip_first.t .............. ok
t/sqlmaker/limit_dialects/toplimit.t ................ ok
t/sqlmaker/limit_dialects/torture.t ................. ok
t/sqlmaker/literal_with_bind.t ...................... ok
t/sqlmaker/msaccess.t ............................... ok
t/sqlmaker/mysql.t .................................. ok
t/sqlmaker/nest_deprec.t ............................ ok
t/sqlmaker/oracle.t ................................. skipped: Test needs Math::Base36 >= 0.07
t/sqlmaker/oraclejoin.t ............................. skipped: Test needs Math::Base36 >= 0.07
t/sqlmaker/order_by_bindtransport.t ................. ok
t/sqlmaker/order_by_func.t .......................... ok
t/sqlmaker/pg.t ..................................... ok
t/sqlmaker/quotes.t ................................. ok
t/sqlmaker/rebase.t ................................. ok
t/sqlmaker/sqlite.t ................................. ok
t/storage/base.t .................................... ok
t/storage/cursor.t .................................. ok
t/storage/dbh_do.t .................................. ok
t/storage/dbi_coderef.t ............................. ok
t/storage/dbi_env.t ................................. ok
t/storage/deploy.t .................................. ok
t/storage/deprecated_exception_source_bind_attrs.t .. ok
t/storage/disable_sth_caching.t ..................... ok
t/storage/error.t ................................... ok
t/storage/exception.t ............................... ok
t/storage/global_destruction.t ...................... ok
t/storage/nobindvars.t .............................. ok
t/storage/on_connect_call.t ......................... ok
t/storage/on_connect_do.t ........................... ok
t/storage/ping_count.t .............................. ok
t/storage/prefer_stringification.t .................. ok
t/storage/quote_names.t ............................. ok
t/storage/reconnect.t ............................... ok
t/storage/replicated.t .............................. ok
t/storage/savepoints.t .............................. ok
t/storage/stats.t ................................... ok
t/storage/txn.t ..................................... ok
t/storage/txn_scope_guard.t ......................... ok
t/update/all.t ...................................... ok
t/update/ident_cond.t ............................... ok
t/update/type_aware.t ............................... ok
#
#
#
# 211 contributors made this library what it is today
#
#
# Distinguished patrons:
# * ( 2014 ~ 2015 ) Henry Van Styn, creator of http://p3rl.org/RapidApp
#
#
t/zzzzzzz_authors.t ................................. ok
t/zzzzzzz_perl_perf_bug.t ........................... skipped: Skipping RH perl performance bug tests as DBIC_NO_WARN_BAD_PERL set
t/zzzzzzz_sqlite_deadlock.t ......................... skipped: Skipping test on plain module install
All tests successful.
Test Summary Report
-------------------
t/sqlmaker/limit_dialects/generic_subq.t (Wstat: 0 Tests: 19 Failed: 0)
TODO passed: 9, 11, 13, 15, 17
Files=314, Tests=13760, 137 wallclock secs ( 3.27 usr 1.01 sys + 116.02 cusr 18.09 csys = 138.39 CPU)
Result: PASS
------------------------------
PREREQUISITES
------------------------------
Prerequisite modules loaded:
requires:
Module Need Have
------------------------ -------- --------
Class::Accessor::Grouped 0.10012 0.10014
Class::C3::Componentised 1.0009 1.001002
Class::Inspector 1.24 1.36
Config::Any 0.20 0.32
Context::Preserve 0.01 0.03
Data::Dumper::Concise 2.020 2.023
DBD::SQLite 1.29 1.70
DBI 1.57 1.643
Devel::GlobalDestruction 0.09 0.14
File::Temp 0.22 0.2311
Hash::Merge 0.12 0.300
Module::Find 0.07 0.15
Moo 2.000 2.005004
MRO::Compat 0.12 0.13
namespace::clean 0.24 0.27
Package::Stash 0.28 0.38
Path::Class 0.18 0.37
perl 5.008001 5.030003
Scope::Guard 0.03 0.21
SQL::Abstract::Classic 1.91 1.91
Sub::Name 0.04 0.26
Test::Deep 0.101 1.130
Test::Exception 0.31 0.43
Test::More 0.94 1.302190
Test::Warn 0.21 0.36
Text::Balanced 2.00 2.04
Try::Tiny 0.07 0.31
build_requires:
Module Need Have
------------------------ -------- --------
DBD::SQLite 1.29 1.70
ExtUtils::MakeMaker 6.59 7.64
File::Temp 0.22 0.2311
Package::Stash 0.28 0.38
Test::Deep 0.101 1.130
Test::Exception 0.31 0.43
Test::More 0.94 1.302190
Test::Warn 0.21 0.36
configure_requires:
Module Need Have
------------------------ -------- --------
ExtUtils::MakeMaker 6.59 7.64
------------------------------
ENVIRONMENT AND OTHER CONTEXT
------------------------------
Environment variables:
PATH = /usr/local/bin:/usr/bin:/bin:/usr/local/sbin:/usr/sbin:/sbin:/home/cpansand/bin/sh:/home/cpansand/bin:/usr/games:/home/cpansand/devel:/usr/home/eserte/src/srezic-misc/scripts
PERL = /usr/perl5.30.3p/bin/perl
PERL5LIB =
PERL5OPT =
PERL5_CPANPLUS_IS_RUNNING = 21352
PERL5_CPAN_IS_RUNNING = 21352
PERL5_CPAN_IS_RUNNING_IN_RECURSION = 20490,21352
PERL_BATCH = yes
PERL_CANARY_STABILITY_NOPROMPT = 1
PERL_CPAN_REPORTER_CONFIG = /var/tmp/cpansmoker-1023/2022051711/cpanreporter_000_config.ini
PERL_EXTUTILS_AUTOINSTALL = --defaultdeps
PERL_USE_UNSAFE_INC = 1
SHELL = /bin/sh
TMPDIR = /var/tmp/cpansmoker-1023/2022051711
Perl special variables (and OS-specific diagnostics, for MSWin32):
$^X = /usr/perl5.30.3p/bin/perl
$UID/$EUID = 1023 / 1023
$GID = 1023 1023
$EGID = 1023 1023
Perl module toolchain versions installed:
Module Have
------------------- --------
CPAN 2.29
CPAN::Meta 2.150010
Cwd 3.78
ExtUtils::CBuilder 0.280235
ExtUtils::Command 7.64
ExtUtils::Install 2.20
ExtUtils::MakeMaker 7.64
ExtUtils::Manifest 1.72
ExtUtils::ParseXS 3.40
File::Spec 3.78
JSON 4.05
JSON::PP 4.08
Module::Build 0.4231
Module::Signature 0.88
Parse::CPAN::Meta 2.150010
Test::Harness 3.42
Test::More 1.302190
YAML 1.30
YAML::Syck 1.34
version 0.9924
--
Summary of my perl5 (revision 5 version 30 subversion 3) configuration:
Platform:
osname=freebsd
osvers=12.1-stable
archname=amd64-freebsd
uname='freebsd cloud1.bbbike.org 12.1-stable freebsd 12.1-stable c3d9189e4c2(stable12) generic amd64 '
config_args='-ds -e -Dprefix=/usr/perl5.30.3p -Dcf_email=srezic@cpan.org -Doptimize=-O2 -pipe'
hint=recommended
useposix=true
d_sigaction=define
useithreads=undef
usemultiplicity=undef
use64bitint=define
use64bitall=define
uselongdouble=undef
usemymalloc=n
default_inc_excludes_dot=define
bincompat5005=undef
Compiler:
cc='cc'
ccflags ='-DHAS_FPSETMASK -DHAS_FLOATINGPOINT_H -fno-strict-aliasing -pipe -fstack-protector-strong -I/usr/local/include'
optimize='-O2 -pipe'
cppflags='-DHAS_FPSETMASK -DHAS_FLOATINGPOINT_H -fno-strict-aliasing -pipe -fstack-protector-strong -I/usr/local/include'
ccversion=''
gccversion='FreeBSD Clang 10.0.0 (git@github.com:llvm/llvm-project.git llvmorg-10.0.0-0-gd32170dbd5b)'
gccosandvers=''
intsize=4
longsize=8
ptrsize=8
doublesize=8
byteorder=12345678
doublekind=3
d_longlong=define
longlongsize=8
d_longdbl=define
longdblsize=16
longdblkind=3
ivtype='long'
ivsize=8
nvtype='double'
nvsize=8
Off_t='off_t'
lseeksize=8
alignbytes=8
prototype=define
Linker and Libraries:
ld='cc'
ldflags ='-pthread -Wl,-E -fstack-protector-strong -L/usr/local/lib'
libpth=/usr/lib /usr/local/lib /usr/lib/clang/10.0.0/lib /usr/lib
libs=-lpthread -lgdbm -ldl -lm -lcrypt -lutil -lc
perllibs=-lpthread -ldl -lm -lcrypt -lutil -lc
libc=
so=so
useshrplib=false
libperl=libperl.a
gnulibc_version=''
Dynamic Linking:
dlsrc=dl_dlopen.xs
dlext=so
d_dlsymun=undef
ccdlflags=' '
cccdlflags='-DPIC -fPIC'
lddlflags='-shared -L/usr/local/lib -fstack-protector-strong'
Characteristics of this binary (from libperl):
Compile-time options:
HAS_TIMES
PERLIO_LAYERS
PERL_COPY_ON_WRITE
PERL_DONT_CREATE_GVSV
PERL_MALLOC_WRAP
PERL_OP_PARENT
PERL_PRESERVE_IVUV
USE_64_BIT_ALL
USE_64_BIT_INT
USE_LARGE_FILES
USE_LOCALE
USE_LOCALE_COLLATE
USE_LOCALE_CTYPE
USE_LOCALE_NUMERIC
USE_LOCALE_TIME
USE_PERLIO
USE_PERL_ATOF
Built under freebsd
Compiled at Jul 6 2020 19:02:57
%ENV:
PERL="/usr/perl5.30.3p/bin/perl"
PERL5LIB=""
PERL5OPT=""
PERL5_CPANPLUS_IS_RUNNING="21352"
PERL5_CPAN_IS_RUNNING="21352"
PERL5_CPAN_IS_RUNNING_IN_RECURSION="20490,21352"
PERL_BATCH="yes"
PERL_CANARY_STABILITY_NOPROMPT="1"
PERL_CPAN_REPORTER_CONFIG="/var/tmp/cpansmoker-1023/2022051711/cpanreporter_000_config.ini"
PERL_EXTUTILS_AUTOINSTALL="--defaultdeps"
PERL_USE_UNSAFE_INC="1"
@INC:
/usr/perl5.30.3p/lib/site_perl/5.30.3/amd64-freebsd
/usr/perl5.30.3p/lib/site_perl/5.30.3
/usr/perl5.30.3p/lib/5.30.3/amd64-freebsd
/usr/perl5.30.3p/lib/5.30.3
.