Back
From: metabase:user:320bfe00-2aae-11df-837a-5e0a49663a4f
Subject: PASS OAuth-Consumer-0.03 v5.22.3 GNU/Linux
Date: 2017-05-16T08:36:01Z
This distribution has been tested as part of the CPAN Testers
project, supporting the Perl programming language. See
http://wiki.cpantesters.org/ for more information or email
questions to cpan-testers-discuss@perl.org
--
Dear Mathias Kende,
This is a computer-generated report for OAuth-Consumer-0.03
on perl 5.22.3, created by CPAN-Reporter-1.2018.
Thank you for uploading your work to CPAN. Congratulations!
All tests were successful.
Sections of this report:
* Tester comments
* Program output
* Prerequisites
* Environment and other context
------------------------------
TESTER COMMENTS
------------------------------
Additional comments from tester:
this report is from an automated smoke testing program
and was not reviewed by a human for accuracy
------------------------------
PROGRAM OUTPUT
------------------------------
Output from '/usr/bin/make test':
PERL_DL_NONLAZY=1 "/home/sand/src/perl/repoperls/installed-perls/host/k93msid/v5.22.3/0a29/bin/perl" "-MExtUtils::Command::MM" "-MTest::Harness" "-e" "undef *Test::Harness::Switches; test_harness(0, 'blib/lib', 'blib/arch')" t/*.t
given is experimental at /home/sand/src/perl/repoperls/installed-perls/host/k93msid/v5.22.3/0a29/lib/site_perl/5.22.3/Test/Subs.pm line 324.
when is experimental at /home/sand/src/perl/repoperls/installed-perls/host/k93msid/v5.22.3/0a29/lib/site_perl/5.22.3/Test/Subs.pm line 325.
when is experimental at /home/sand/src/perl/repoperls/installed-perls/host/k93msid/v5.22.3/0a29/lib/site_perl/5.22.3/Test/Subs.pm line 329.
when is experimental at /home/sand/src/perl/repoperls/installed-perls/host/k93msid/v5.22.3/0a29/lib/site_perl/5.22.3/Test/Subs.pm line 333.
given is experimental at /tmp/loop_over_bdir-16076-7qzKIO/OAuth-Consumer-0.03-0/blib/lib/OAuth/Consumer.pm line 326.
when is experimental at /tmp/loop_over_bdir-16076-7qzKIO/OAuth-Consumer-0.03-0/blib/lib/OAuth/Consumer.pm line 327.
when is experimental at /tmp/loop_over_bdir-16076-7qzKIO/OAuth-Consumer-0.03-0/blib/lib/OAuth/Consumer.pm line 328.
given is experimental at /tmp/loop_over_bdir-16076-7qzKIO/OAuth-Consumer-0.03-0/blib/lib/OAuth/Consumer.pm line 471.
when is experimental at /tmp/loop_over_bdir-16076-7qzKIO/OAuth-Consumer-0.03-0/blib/lib/OAuth/Consumer.pm line 472.
when is experimental at /tmp/loop_over_bdir-16076-7qzKIO/OAuth-Consumer-0.03-0/blib/lib/OAuth/Consumer.pm line 476.
when is experimental at /tmp/loop_over_bdir-16076-7qzKIO/OAuth-Consumer-0.03-0/blib/lib/OAuth/Consumer.pm line 480.
given is experimental at /tmp/loop_over_bdir-16076-7qzKIO/OAuth-Consumer-0.03-0/blib/lib/OAuth/Consumer.pm line 519.
when is experimental at /tmp/loop_over_bdir-16076-7qzKIO/OAuth-Consumer-0.03-0/blib/lib/OAuth/Consumer.pm line 520.
when is experimental at /tmp/loop_over_bdir-16076-7qzKIO/OAuth-Consumer-0.03-0/blib/lib/OAuth/Consumer.pm line 523.
when is experimental at /tmp/loop_over_bdir-16076-7qzKIO/OAuth-Consumer-0.03-0/blib/lib/OAuth/Consumer.pm line 526.
t/sandbox.t ......... skipped: You need a Perl with thread
given is experimental at /home/sand/src/perl/repoperls/installed-perls/host/k93msid/v5.22.3/0a29/lib/site_perl/5.22.3/Test/Subs.pm line 324.
when is experimental at /home/sand/src/perl/repoperls/installed-perls/host/k93msid/v5.22.3/0a29/lib/site_perl/5.22.3/Test/Subs.pm line 325.
when is experimental at /home/sand/src/perl/repoperls/installed-perls/host/k93msid/v5.22.3/0a29/lib/site_perl/5.22.3/Test/Subs.pm line 329.
when is experimental at /home/sand/src/perl/repoperls/installed-perls/host/k93msid/v5.22.3/0a29/lib/site_perl/5.22.3/Test/Subs.pm line 333.
given is experimental at /tmp/loop_over_bdir-16076-7qzKIO/OAuth-Consumer-0.03-0/blib/lib/OAuth/Consumer.pm line 326.
when is experimental at /tmp/loop_over_bdir-16076-7qzKIO/OAuth-Consumer-0.03-0/blib/lib/OAuth/Consumer.pm line 327.
when is experimental at /tmp/loop_over_bdir-16076-7qzKIO/OAuth-Consumer-0.03-0/blib/lib/OAuth/Consumer.pm line 328.
given is experimental at /tmp/loop_over_bdir-16076-7qzKIO/OAuth-Consumer-0.03-0/blib/lib/OAuth/Consumer.pm line 471.
when is experimental at /tmp/loop_over_bdir-16076-7qzKIO/OAuth-Consumer-0.03-0/blib/lib/OAuth/Consumer.pm line 472.
when is experimental at /tmp/loop_over_bdir-16076-7qzKIO/OAuth-Consumer-0.03-0/blib/lib/OAuth/Consumer.pm line 476.
when is experimental at /tmp/loop_over_bdir-16076-7qzKIO/OAuth-Consumer-0.03-0/blib/lib/OAuth/Consumer.pm line 480.
given is experimental at /tmp/loop_over_bdir-16076-7qzKIO/OAuth-Consumer-0.03-0/blib/lib/OAuth/Consumer.pm line 519.
when is experimental at /tmp/loop_over_bdir-16076-7qzKIO/OAuth-Consumer-0.03-0/blib/lib/OAuth/Consumer.pm line 520.
when is experimental at /tmp/loop_over_bdir-16076-7qzKIO/OAuth-Consumer-0.03-0/blib/lib/OAuth/Consumer.pm line 523.
when is experimental at /tmp/loop_over_bdir-16076-7qzKIO/OAuth-Consumer-0.03-0/blib/lib/OAuth/Consumer.pm line 526.
t/sandbox_thread.t .. skipped: You need a Perl with thread
given is experimental at /home/sand/src/perl/repoperls/installed-perls/host/k93msid/v5.22.3/0a29/lib/site_perl/5.22.3/Test/Subs.pm line 324.
when is experimental at /home/sand/src/perl/repoperls/installed-perls/host/k93msid/v5.22.3/0a29/lib/site_perl/5.22.3/Test/Subs.pm line 325.
when is experimental at /home/sand/src/perl/repoperls/installed-perls/host/k93msid/v5.22.3/0a29/lib/site_perl/5.22.3/Test/Subs.pm line 329.
when is experimental at /home/sand/src/perl/repoperls/installed-perls/host/k93msid/v5.22.3/0a29/lib/site_perl/5.22.3/Test/Subs.pm line 333.
given is experimental at /tmp/loop_over_bdir-16076-7qzKIO/OAuth-Consumer-0.03-0/blib/lib/OAuth/Consumer.pm line 326.
when is experimental at /tmp/loop_over_bdir-16076-7qzKIO/OAuth-Consumer-0.03-0/blib/lib/OAuth/Consumer.pm line 327.
when is experimental at /tmp/loop_over_bdir-16076-7qzKIO/OAuth-Consumer-0.03-0/blib/lib/OAuth/Consumer.pm line 328.
given is experimental at /tmp/loop_over_bdir-16076-7qzKIO/OAuth-Consumer-0.03-0/blib/lib/OAuth/Consumer.pm line 471.
when is experimental at /tmp/loop_over_bdir-16076-7qzKIO/OAuth-Consumer-0.03-0/blib/lib/OAuth/Consumer.pm line 472.
when is experimental at /tmp/loop_over_bdir-16076-7qzKIO/OAuth-Consumer-0.03-0/blib/lib/OAuth/Consumer.pm line 476.
when is experimental at /tmp/loop_over_bdir-16076-7qzKIO/OAuth-Consumer-0.03-0/blib/lib/OAuth/Consumer.pm line 480.
given is experimental at /tmp/loop_over_bdir-16076-7qzKIO/OAuth-Consumer-0.03-0/blib/lib/OAuth/Consumer.pm line 519.
when is experimental at /tmp/loop_over_bdir-16076-7qzKIO/OAuth-Consumer-0.03-0/blib/lib/OAuth/Consumer.pm line 520.
when is experimental at /tmp/loop_over_bdir-16076-7qzKIO/OAuth-Consumer-0.03-0/blib/lib/OAuth/Consumer.pm line 523.
when is experimental at /tmp/loop_over_bdir-16076-7qzKIO/OAuth-Consumer-0.03-0/blib/lib/OAuth/Consumer.pm line 526.
Redundant argument in sprintf at /home/sand/src/perl/repoperls/installed-perls/host/k93msid/v5.22.3/0a29/lib/site_perl/5.22.3/Test/Subs.pm line 275.
Redundant argument in sprintf at /home/sand/src/perl/repoperls/installed-perls/host/k93msid/v5.22.3/0a29/lib/site_perl/5.22.3/Test/Subs.pm line 275.
Redundant argument in sprintf at /home/sand/src/perl/repoperls/installed-perls/host/k93msid/v5.22.3/0a29/lib/site_perl/5.22.3/Test/Subs.pm line 275.
Redundant argument in sprintf at /home/sand/src/perl/repoperls/installed-perls/host/k93msid/v5.22.3/0a29/lib/site_perl/5.22.3/Test/Subs.pm line 275.
Redundant argument in sprintf at /home/sand/src/perl/repoperls/installed-perls/host/k93msid/v5.22.3/0a29/lib/site_perl/5.22.3/Test/Subs.pm line 275.
Redundant argument in sprintf at /home/sand/src/perl/repoperls/installed-perls/host/k93msid/v5.22.3/0a29/lib/site_perl/5.22.3/Test/Subs.pm line 275.
Redundant argument in sprintf at /home/sand/src/perl/repoperls/installed-perls/host/k93msid/v5.22.3/0a29/lib/site_perl/5.22.3/Test/Subs.pm line 275.
Redundant argument in sprintf at /home/sand/src/perl/repoperls/installed-perls/host/k93msid/v5.22.3/0a29/lib/site_perl/5.22.3/Test/Subs.pm line 275.
t/simple.t .......... ok
given is experimental at /home/sand/src/perl/repoperls/installed-perls/host/k93msid/v5.22.3/0a29/lib/site_perl/5.22.3/Test/Subs.pm line 324.
when is experimental at /home/sand/src/perl/repoperls/installed-perls/host/k93msid/v5.22.3/0a29/lib/site_perl/5.22.3/Test/Subs.pm line 325.
when is experimental at /home/sand/src/perl/repoperls/installed-perls/host/k93msid/v5.22.3/0a29/lib/site_perl/5.22.3/Test/Subs.pm line 329.
when is experimental at /home/sand/src/perl/repoperls/installed-perls/host/k93msid/v5.22.3/0a29/lib/site_perl/5.22.3/Test/Subs.pm line 333.
given is experimental at /tmp/loop_over_bdir-16076-7qzKIO/OAuth-Consumer-0.03-0/blib/lib/OAuth/Consumer.pm line 326.
when is experimental at /tmp/loop_over_bdir-16076-7qzKIO/OAuth-Consumer-0.03-0/blib/lib/OAuth/Consumer.pm line 327.
when is experimental at /tmp/loop_over_bdir-16076-7qzKIO/OAuth-Consumer-0.03-0/blib/lib/OAuth/Consumer.pm line 328.
given is experimental at /tmp/loop_over_bdir-16076-7qzKIO/OAuth-Consumer-0.03-0/blib/lib/OAuth/Consumer.pm line 471.
when is experimental at /tmp/loop_over_bdir-16076-7qzKIO/OAuth-Consumer-0.03-0/blib/lib/OAuth/Consumer.pm line 472.
when is experimental at /tmp/loop_over_bdir-16076-7qzKIO/OAuth-Consumer-0.03-0/blib/lib/OAuth/Consumer.pm line 476.
when is experimental at /tmp/loop_over_bdir-16076-7qzKIO/OAuth-Consumer-0.03-0/blib/lib/OAuth/Consumer.pm line 480.
given is experimental at /tmp/loop_over_bdir-16076-7qzKIO/OAuth-Consumer-0.03-0/blib/lib/OAuth/Consumer.pm line 519.
when is experimental at /tmp/loop_over_bdir-16076-7qzKIO/OAuth-Consumer-0.03-0/blib/lib/OAuth/Consumer.pm line 520.
when is experimental at /tmp/loop_over_bdir-16076-7qzKIO/OAuth-Consumer-0.03-0/blib/lib/OAuth/Consumer.pm line 523.
when is experimental at /tmp/loop_over_bdir-16076-7qzKIO/OAuth-Consumer-0.03-0/blib/lib/OAuth/Consumer.pm line 526.
Redundant argument in sprintf at /home/sand/src/perl/repoperls/installed-perls/host/k93msid/v5.22.3/0a29/lib/site_perl/5.22.3/Test/Subs.pm line 275.
Redundant argument in sprintf at /home/sand/src/perl/repoperls/installed-perls/host/k93msid/v5.22.3/0a29/lib/site_perl/5.22.3/Test/Subs.pm line 275.
Redundant argument in sprintf at /home/sand/src/perl/repoperls/installed-perls/host/k93msid/v5.22.3/0a29/lib/site_perl/5.22.3/Test/Subs.pm line 275.
t/timeout.t ......... ok
All tests successful.
Files=4, Tests=11, 7 wallclock secs ( 0.02 usr 0.02 sys + 0.60 cusr 0.10 csys = 0.74 CPU)
Result: PASS
------------------------------
PREREQUISITES
------------------------------
Prerequisite modules loaded:
requires:
Module Need Have
------------------- -------- --------
Carp 0 1.38
Encode 0 2.72_01
HTML::Entities 0 3.69
HTTP::Response 0 6.11
IO::Socket::INET 0 1.35
LWP::Authen::OAuth 0 1.02
perl 5.008000 5.022003
URI::Escape 0 3.31
build_requires:
Module Need Have
------------------- -------- --------
LWP::UserAgent 0 6.26
Test::Subs 0.07 0.08
WWW::Mechanize 0 1.84
configure_requires:
Module Need Have
------------------- -------- --------
ExtUtils::MakeMaker 6.3002 7.24
------------------------------
ENVIRONMENT AND OTHER CONTEXT
------------------------------
Environment variables:
AUTOMATED_TESTING = 1
LANG = en_US.UTF-8
PATH = /home/sand/bin:/usr/local/bin:/usr/bin:/bin:/usr/games:/usr/local/perl/bin:/usr/X11/bin:/sbin:/usr/sbin
PERL5LIB =
PERL5OPT =
PERL5_CPANPLUS_IS_RUNNING = 16080
PERL5_CPAN_IS_RUNNING = 16080
PERL_CANARY_STABILITY_NOPROMPT = 1
PERL_MM_USE_DEFAULT = 1
PERL_USE_UNSAFE_INC = 1
SHELL = /usr/bin/zsh
TERM = screen
Perl special variables (and OS-specific diagnostics, for MSWin32):
$^X = /home/sand/src/perl/repoperls/installed-perls/host/k93msid/v5.22.3/0a29/bin/perl
$UID/$EUID = 1005 / 1005
$GID = 1005 1005
$EGID = 1005 1005
Perl module toolchain versions installed:
Module Have
------------------- --------
CPAN 2.18
CPAN::Meta 2.150010
Cwd 3.62
ExtUtils::CBuilder 0.280224
ExtUtils::Command 7.24
ExtUtils::Install 2.04
ExtUtils::MakeMaker 7.24
ExtUtils::Manifest 1.70
ExtUtils::ParseXS 3.28
File::Spec 3.62
JSON 2.92
JSON::PP 2.93
Module::Build 0.42_23
Module::Signature 0.81
Parse::CPAN::Meta 2.150010
Test::Harness 3.39
Test::More 1.302085
YAML 1.23
YAML::Syck 1.29
version 0.9918
--
Summary of my perl5 (revision 5 version 22 subversion 3) configuration:
Derived from: 16b638b0a20de774856b3a21a75a5e373af5262c
Platform:
osname=linux, osvers=4.9.0-2-amd64, archname=x86_64-linux-ld
uname='linux k93msid 4.9.0-2-amd64 #1 smp debian 4.9.18-1 (2017-03-30) x86_64 gnulinux '
config_args='-Dprefix=/home/sand/src/perl/repoperls/installed-perls/host/k93msid/v5.22.3/0a29 -Dmyhostname=k93msid -Dinstallusrbinperl=n -Uversiononly -Dusedevel -des -Ui_db -Dlibswanted=cl pthread socket inet nsl gdbm dbm malloc dl ld sun m crypt sec util c cposix posix ucb BSD gdbm_compat -Uuseithreads -Duselongdouble -DDEBUGGING=both'
hint=recommended, useposix=true, d_sigaction=define
useithreads=undef, usemultiplicity=undef
use64bitint=define, use64bitall=define, uselongdouble=define
usemymalloc=n, bincompat5005=undef
Compiler:
cc='cc', ccflags ='-fwrapv -DDEBUGGING -fno-strict-aliasing -pipe -fstack-protector-strong -I/usr/local/include -D_LARGEFILE_SOURCE -D_FILE_OFFSET_BITS=64',
optimize='-O2 -g',
cppflags='-fwrapv -DDEBUGGING -fno-strict-aliasing -pipe -fstack-protector-strong -I/usr/local/include'
ccversion='', gccversion='6.3.0 20170406', gccosandvers=''
intsize=4, longsize=8, ptrsize=8, doublesize=8, byteorder=12345678, doublekind=3
d_longlong=define, longlongsize=8, d_longdbl=define, longdblsize=16, longdblkind=3
ivtype='long', ivsize=8, nvtype='long double', nvsize=16, Off_t='off_t', lseeksize=8
alignbytes=16, prototype=define
Linker and Libraries:
ld='cc', ldflags =' -fstack-protector-strong -L/usr/local/lib'
libpth=/usr/local/lib /usr/lib/gcc/x86_64-linux-gnu/6/include-fixed /usr/include/x86_64-linux-gnu /usr/lib /lib/x86_64-linux-gnu /lib/../lib /usr/lib/x86_64-linux-gnu /usr/lib/../lib /lib
libs=-lpthread -lnsl -ldl -lm -lcrypt -lutil -lc
perllibs=-lpthread -lnsl -ldl -lm -lcrypt -lutil -lc
libc=libc-2.24.so, so=so, useshrplib=false, libperl=libperl.a
gnulibc_version='2.24'
Dynamic Linking:
dlsrc=dl_dlopen.xs, dlext=so, d_dlsymun=undef, ccdlflags='-Wl,-E'
cccdlflags='-fPIC', lddlflags='-shared -O2 -g -L/usr/local/lib -fstack-protector-strong'
Characteristics of this binary (from libperl):
Compile-time options: DEBUGGING HAS_TIMES PERLIO_LAYERS
PERL_DONT_CREATE_GVSV
PERL_HASH_FUNC_ONE_AT_A_TIME_HARD PERL_MALLOC_WRAP
PERL_NEW_COPY_ON_WRITE PERL_PRESERVE_IVUV
PERL_USE_DEVEL USE_64_BIT_ALL USE_64_BIT_INT
USE_LARGE_FILES USE_LOCALE USE_LOCALE_COLLATE
USE_LOCALE_CTYPE USE_LOCALE_NUMERIC USE_LOCALE_TIME
USE_LONG_DOUBLE USE_PERLIO USE_PERL_ATOF
Locally applied patches:
uncommitted-changes
Built under linux
Compiled at Apr 14 2017 11:41:29
%ENV:
PERL5LIB=""
PERL5OPT=""
PERL5_CPANPLUS_IS_RUNNING="16080"
PERL5_CPAN_IS_RUNNING="16080"
PERL_CANARY_STABILITY_NOPROMPT="1"
PERL_MM_USE_DEFAULT="1"
PERL_USE_UNSAFE_INC="1"
@INC:
/home/sand/src/perl/repoperls/installed-perls/host/k93msid/v5.22.3/0a29/lib/site_perl/5.22.3/x86_64-linux-ld
/home/sand/src/perl/repoperls/installed-perls/host/k93msid/v5.22.3/0a29/lib/site_perl/5.22.3
/home/sand/src/perl/repoperls/installed-perls/host/k93msid/v5.22.3/0a29/lib/5.22.3/x86_64-linux-ld
/home/sand/src/perl/repoperls/installed-perls/host/k93msid/v5.22.3/0a29/lib/5.22.3
.