Catalyst-View-HTML-Zoom v0.003 Perl 5 v5.38.3 x86_64-linux-thread-multi
- Status
- Pass
- From
- Andreas J. König (ANDK)
- Dist
-
Catalyst-View-HTML-Zoom v0.003
- Platform
- Perl 5 v5.38.3 x86_64-linux-thread-multi
- Date
- 2025-01-24 02:34:10
- ID
- b16f780e-d9fb-11ef-949e-c9ab6be6d5db
This distribution has been tested as part of the CPAN Testers
project, supporting the Perl programming language. See
http://wiki.cpantesters.org/ for more information or email
questions to cpan-testers-discuss@perl.org
--
Dear Oliver Charles,
This is a computer-generated report for Catalyst-View-HTML-Zoom-0.003
on perl 5.38.3, created by CPAN-Reporter-1.2020.
Thank you for uploading your work to CPAN. Congratulations!
All tests were successful.
Sections of this report:
* Tester comments
* Program output
* Prerequisites
* Environment and other context
------------------------------
TESTER COMMENTS
------------------------------
Additional comments from tester:
this report is from an automated smoke testing program
and was not reviewed by a human for accuracy
------------------------------
PROGRAM OUTPUT
------------------------------
Output from '/usr/bin/make test':
PERL_DL_NONLAZY=1 "/tmp/basesmoker-reloperl-aFHk/bin/perl" "-MExtUtils::Command::MM" "-MTest::Harness" "-e" "undef *Test::Harness::Switches; test_harness(0, 'blib/lib', 'blib/arch')" t/*.t
t/00-load.t ............... ok
t/author-pod-coverage.t ... skipped: these tests are for testing by the author
t/author-pod.t ............ skipped: these tests are for testing by the author
Class::MOP::load_class is deprecated at /home/sand/src/perl/repoperls/installed-perls/host/k93focal/v5.38.3/d119/lib/site_perl/5.38.3/x86_64-linux-thread-multi/Class/MOP.pm line 69, <ARGV> line 1.
Class::MOP::load_class("TestAppAltRoot::View::HTML::Root") called at /tmp/loop_over_bdir-641295-BGeEVH/Catalyst-View-HTML-Zoom-0.003-0/blib/lib/Catalyst/View/HTML/Zoom.pm line 138
Catalyst::View::HTML::Zoom::_zoomer_class_from_context(TestAppAltRoot::View::HTML=HASH(0x564953af0ed8), TestAppAltRoot=HASH(0x564953c3d6f0)) called at /tmp/loop_over_bdir-641295-BGeEVH/Catalyst-View-HTML-Zoom-0.003-0/blib/lib/Catalyst/View/HTML/Zoom.pm line 90
Catalyst::View::HTML::Zoom::_build_renderer_from_zoomer_class(TestAppAltRoot::View::HTML=HASH(0x564953af0ed8), TestAppAltRoot=HASH(0x564953c3d6f0)) called at /tmp/loop_over_bdir-641295-BGeEVH/Catalyst-View-HTML-Zoom-0.003-0/blib/lib/Catalyst/View/HTML/Zoom.pm line 76
Catalyst::View::HTML::Zoom::_build_renderer_from(TestAppAltRoot::View::HTML=HASH(0x564953af0ed8), TestAppAltRoot=HASH(0x564953c3d6f0), undef) called at /tmp/loop_over_bdir-641295-BGeEVH/Catalyst-View-HTML-Zoom-0.003-0/blib/lib/Catalyst/View/HTML/Zoom.pm line 67
Catalyst::View::HTML::Zoom::render(TestAppAltRoot::View::HTML=HASH(0x564953af0ed8), TestAppAltRoot=HASH(0x564953c3d6f0), "/main") called at /tmp/loop_over_bdir-641295-BGeEVH/Catalyst-View-HTML-Zoom-0.003-0/blib/lib/Catalyst/View/HTML/Zoom.pm line 41
Catalyst::View::HTML::Zoom::process(TestAppAltRoot::View::HTML=HASH(0x564953af0ed8), TestAppAltRoot=HASH(0x564953c3d6f0)) called at /home/sand/src/perl/repoperls/installed-perls/host/k93focal/v5.38.3/d119/lib/site_perl/5.38.3/Catalyst/Action.pm line 374
Catalyst::Action::execute(Catalyst::Action=HASH(0x564953cbf350), TestAppAltRoot::View::HTML=HASH(0x564953af0ed8), TestAppAltRoot=HASH(0x564953c3d6f0)) called at /home/sand/src/perl/repoperls/installed-perls/host/k93focal/v5.38.3/d119/lib/site_perl/5.38.3/Catalyst.pm line 2067
eval {...} called at /home/sand/src/perl/repoperls/installed-perls/host/k93focal/v5.38.3/d119/lib/site_perl/5.38.3/Catalyst.pm line 2067
Catalyst::execute(TestAppAltRoot=HASH(0x564953c3d6f0), TestAppAltRoot::View::HTML=HASH(0x564953af0ed8), Catalyst::Action=HASH(0x564953cbf350)) called at /home/sand/src/perl/repoperls/installed-perls/host/k93focal/v5.38.3/d119/lib/site_perl/5.38.3/Catalyst/Action.pm line 366
Catalyst::Action::dispatch(Catalyst::Action=HASH(0x564953cbf350), TestAppAltRoot=HASH(0x564953c3d6f0)) called at /home/sand/src/perl/repoperls/installed-perls/host/k93focal/v5.38.3/d119/lib/site_perl/5.38.3/Catalyst/Dispatcher.pm line 261
Catalyst::Dispatcher::_do_forward(Catalyst::Dispatcher=HASH(0x5649527f87f8), "forward", TestAppAltRoot=HASH(0x564953c3d6f0), TestAppAltRoot::View::HTML=HASH(0x564953af0ed8)) called at /home/sand/src/perl/repoperls/installed-perls/host/k93focal/v5.38.3/d119/lib/site_perl/5.38.3/Catalyst/Dispatcher.pm line 241
Catalyst::Dispatcher::forward(Catalyst::Dispatcher=HASH(0x5649527f87f8), TestAppAltRoot=HASH(0x564953c3d6f0), TestAppAltRoot::View::HTML=HASH(0x564953af0ed8)) called at /home/sand/src/perl/repoperls/installed-perls/host/k93focal/v5.38.3/d119/lib/site_perl/5.38.3/Catalyst.pm line 489
Catalyst::forward(TestAppAltRoot=HASH(0x564953c3d6f0), TestAppAltRoot::View::HTML=HASH(0x564953af0ed8)) called at /home/sand/src/perl/repoperls/installed-perls/host/k93focal/v5.38.3/d119/lib/site_perl/5.38.3/Catalyst/Action/RenderView.pm line 57
Catalyst::Action::RenderView::execute(Catalyst::Action::RenderView=HASH(0x564953b49ac8), TestAppAltRoot::Controller::Root=HASH(0x564953af0f80), TestAppAltRoot=HASH(0x564953c3d6f0)) called at /home/sand/src/perl/repoperls/installed-perls/host/k93focal/v5.38.3/d119/lib/site_perl/5.38.3/Catalyst.pm line 2067
eval {...} called at /home/sand/src/perl/repoperls/installed-perls/host/k93focal/v5.38.3/d119/lib/site_perl/5.38.3/Catalyst.pm line 2067
Catalyst::execute(TestAppAltRoot=HASH(0x564953c3d6f0), "TestAppAltRoot::Controller::Root", Catalyst::Action::RenderView=HASH(0x564953b49ac8)) called at /home/sand/src/perl/repoperls/installed-perls/host/k93focal/v5.38.3/d119/lib/site_perl/5.38.3/Catalyst/Action.pm line 368
Catalyst::Action::dispatch(Catalyst::Action::RenderView=HASH(0x564953b49ac8), TestAppAltRoot=HASH(0x564953c3d6f0)) called at /home/sand/src/perl/repoperls/installed-perls/host/k93focal/v5.38.3/d119/lib/site_perl/5.38.3/Catalyst/Controller.pm line 188
Catalyst::Controller::_END(TestAppAltRoot::Controller::Root=HASH(0x564953af0f80), TestAppAltRoot=HASH(0x564953c3d6f0)) called at /home/sand/src/perl/repoperls/installed-perls/host/k93focal/v5.38.3/d119/lib/site_perl/5.38.3/Catalyst/Action.pm line 374
Catalyst::Action::execute(Catalyst::Action=HASH(0x564953b44390), TestAppAltRoot::Controller::Root=HASH(0x564953af0f80), TestAppAltRoot=HASH(0x564953c3d6f0)) called at /home/sand/src/perl/repoperls/installed-perls/host/k93focal/v5.38.3/d119/lib/site_perl/5.38.3/Catalyst.pm line 2067
eval {...} called at /home/sand/src/perl/repoperls/installed-perls/host/k93focal/v5.38.3/d119/lib/site_perl/5.38.3/Catalyst.pm line 2067
Catalyst::execute(TestAppAltRoot=HASH(0x564953c3d6f0), "TestAppAltRoot::Controller::Root", Catalyst::Action=HASH(0x564953b44390)) called at /home/sand/src/perl/repoperls/installed-perls/host/k93focal/v5.38.3/d119/lib/site_perl/5.38.3/Catalyst/Action.pm line 368
Catalyst::Action::dispatch(Catalyst::Action=HASH(0x564953b44390), TestAppAltRoot=HASH(0x564953c3d6f0)) called at /home/sand/src/perl/repoperls/installed-perls/host/k93focal/v5.38.3/d119/lib/site_perl/5.38.3/Catalyst/Dispatcher.pm line 261
Catalyst::Dispatcher::_do_forward(Catalyst::Dispatcher=HASH(0x5649527f87f8), "forward", TestAppAltRoot=HASH(0x564953c3d6f0), "_END") called at /home/sand/src/perl/repoperls/installed-perls/host/k93focal/v5.38.3/d119/lib/site_perl/5.38.3/Catalyst/Dispatcher.pm line 241
Catalyst::Dispatcher::forward(Catalyst::Dispatcher=HASH(0x5649527f87f8), TestAppAltRoot=HASH(0x564953c3d6f0), "_END") called at /home/sand/src/perl/repoperls/installed-perls/host/k93focal/v5.38.3/d119/lib/site_perl/5.38.3/Catalyst.pm line 489
Catalyst::forward(TestAppAltRoot=HASH(0x564953c3d6f0), "_END") called at /home/sand/src/perl/repoperls/installed-perls/host/k93focal/v5.38.3/d119/lib/site_perl/5.38.3/Catalyst/Controller.pm line 137
Catalyst::Controller::_DISPATCH(TestAppAltRoot::Controller::Root=HASH(0x564953af0f80), TestAppAltRoot=HASH(0x564953c3d6f0)) called at /home/sand/src/perl/repoperls/installed-perls/host/k93focal/v5.38.3/d119/lib/site_perl/5.38.3/Catalyst/Action.pm line 374
Catalyst::Action::execute(Catalyst::Action=HASH(0x564953af9300), TestAppAltRoot::Controller::Root=HASH(0x564953af0f80), TestAppAltRoot=HASH(0x564953c3d6f0)) called at /home/sand/src/perl/repoperls/installed-perls/host/k93focal/v5.38.3/d119/lib/site_perl/5.38.3/Catalyst.pm line 2067
eval {...} called at /home/sand/src/perl/repoperls/installed-perls/host/k93focal/v5.38.3/d119/lib/site_perl/5.38.3/Catalyst.pm line 2067
Catalyst::execute(TestAppAltRoot=HASH(0x564953c3d6f0), "TestAppAltRoot::Controller::Root", Catalyst::Action=HASH(0x564953af9300)) called at /home/sand/src/perl/repoperls/installed-perls/host/k93focal/v5.38.3/d119/lib/site_perl/5.38.3/Catalyst/Action.pm line 368
Catalyst::Action::dispatch(Catalyst::Action=HASH(0x564953af9300), TestAppAltRoot=HASH(0x564953c3d6f0)) called at /home/sand/src/perl/repoperls/installed-perls/host/k93focal/v5.38.3/d119/lib/site_perl/5.38.3/Catalyst/Dispatcher.pm line 261
Catalyst::Dispatcher::_do_forward(Catalyst::Dispatcher=HASH(0x5649527f87f8), "forward", TestAppAltRoot=HASH(0x564953c3d6f0), "//_DISPATCH") called at /home/sand/src/perl/repoperls/installed-perls/host/k93focal/v5.38.3/d119/lib/site_perl/5.38.3/Catalyst/Dispatcher.pm line 241
Catalyst::Dispatcher::forward(Catalyst::Dispatcher=HASH(0x5649527f87f8), TestAppAltRoot=HASH(0x564953c3d6f0), "//_DISPATCH") called at /home/sand/src/perl/repoperls/installed-perls/host/k93focal/v5.38.3/d119/lib/site_perl/5.38.3/Catalyst.pm line 489
Catalyst::forward(TestAppAltRoot=HASH(0x564953c3d6f0), "//_DISPATCH") called at /home/sand/src/perl/repoperls/installed-perls/host/k93focal/v5.38.3/d119/lib/site_perl/5.38.3/Catalyst/Dispatcher.pm line 107
Catalyst::Dispatcher::dispatch(Catalyst::Dispatcher=HASH(0x5649527f87f8), TestAppAltRoot=HASH(0x564953c3d6f0)) called at /home/sand/src/perl/repoperls/installed-perls/host/k93focal/v5.38.3/d119/lib/site_perl/5.38.3/Catalyst.pm line 2013
Catalyst::dispatch(TestAppAltRoot=HASH(0x564953c3d6f0)) called at /home/sand/src/perl/repoperls/installed-perls/host/k93focal/v5.38.3/d119/lib/site_perl/5.38.3/x86_64-linux-thread-multi/Class/MOP/Method/Wrapped.pm line 56
TestAppAltRoot::_wrapped_dispatch(TestAppAltRoot=HASH(0x564953c3d6f0)) called at /home/sand/src/perl/repoperls/installed-perls/host/k93focal/v5.38.3/d119/lib/site_perl/5.38.3/x86_64-linux-thread-multi/Class/MOP/Method/Wrapped.pm line 97
TestAppAltRoot::dispatch(TestAppAltRoot=HASH(0x564953c3d6f0)) called at /home/sand/src/perl/repoperls/installed-perls/host/k93focal/v5.38.3/d119/lib/site_perl/5.38.3/Catalyst.pm line 2419
Catalyst::try {...} () called at /home/sand/src/perl/repoperls/installed-perls/host/k93focal/v5.38.3/d119/lib/site_perl/5.38.3/Try/Tiny.pm line 102
eval {...} called at /home/sand/src/perl/repoperls/installed-perls/host/k93focal/v5.38.3/d119/lib/site_perl/5.38.3/Try/Tiny.pm line 93
Try::Tiny::try(CODE(0x564953cb2b00), Try::Tiny::Catch=REF(0x564953cb2968)) called at /home/sand/src/perl/repoperls/installed-perls/host/k93focal/v5.38.3/d119/lib/site_perl/5.38.3/Catalyst.pm line 2428
Catalyst::handle_request("TestAppAltRoot", "env", HASH(0x564952819860), "response_cb", CODE(0x564953cb29c8)) called at /home/sand/src/perl/repoperls/installed-perls/host/k93focal/v5.38.3/d119/lib/site_perl/5.38.3/Catalyst/Engine.pm line 808
Catalyst::Engine::__ANON__(CODE(0x564953cb29c8)) called at /home/sand/src/perl/repoperls/installed-perls/host/k93focal/v5.38.3/d119/lib/site_perl/5.38.3/Plack/Middleware/HTTPExceptions.pm line 32
Plack::Middleware::HTTPExceptions::try {...} () called at /home/sand/src/perl/repoperls/installed-perls/host/k93focal/v5.38.3/d119/lib/site_perl/5.38.3/Try/Tiny.pm line 102
eval {...} called at /home/sand/src/perl/repoperls/installed-perls/host/k93focal/v5.38.3/d119/lib/site_perl/5.38.3/Try/Tiny.pm line 93
Try::Tiny::try(CODE(0x564953cb2800), Try::Tiny::Catch=REF(0x564953c4c848)) called at /home/sand/src/perl/repoperls/installed-perls/host/k93focal/v5.38.3/d119/lib/site_perl/5.38.3/Plack/Middleware/HTTPExceptions.pm line 41
Plack::Middleware::HTTPExceptions::__ANON__(CODE(0x564953a2e018)) called at /home/sand/src/perl/repoperls/installed-perls/host/k93focal/v5.38.3/d119/lib/site_perl/5.38.3/Plack/Util.pm line 339
Plack::Util::__ANON__(CODE(0x5649537df498)) called at /home/sand/src/perl/repoperls/installed-perls/host/k93focal/v5.38.3/d119/lib/site_perl/5.38.3/Plack/Util.pm line 339
Plack::Util::__ANON__(CODE(0x564953c32b70)) called at /home/sand/src/perl/repoperls/installed-perls/host/k93focal/v5.38.3/d119/lib/site_perl/5.38.3/Plack/Util.pm line 339
Plack::Util::__ANON__(CODE(0x564953c3d2a0)) called at /home/sand/src/perl/repoperls/installed-perls/host/k93focal/v5.38.3/d119/lib/site_perl/5.38.3/HTTP/Message/PSGI.pm line 100
HTTP::Message::PSGI::res_from_psgi(CODE(0x564953ca5548)) called at /home/sand/src/perl/repoperls/installed-perls/host/k93focal/v5.38.3/d119/lib/site_perl/5.38.3/HTTP/Message/PSGI.pm line 157
HTTP::Response::from_psgi("HTTP::Response", CODE(0x564953ca5548)) called at /home/sand/src/perl/repoperls/installed-perls/host/k93focal/v5.38.3/d119/lib/site_perl/5.38.3/Plack/Test/MockHTTP.pm line 24
Plack::Test::MockHTTP::try {...} () called at /home/sand/src/perl/repoperls/installed-perls/host/k93focal/v5.38.3/d119/lib/site_perl/5.38.3/Try/Tiny.pm line 100
eval {...} called at /home/sand/src/perl/repoperls/installed-perls/host/k93focal/v5.38.3/d119/lib/site_perl/5.38.3/Try/Tiny.pm line 93
Try::Tiny::try(CODE(0x564950d4af88), Try::Tiny::Catch=REF(0x564950d4a8f8)) called at /home/sand/src/perl/repoperls/installed-perls/host/k93focal/v5.38.3/d119/lib/site_perl/5.38.3/Plack/Test/MockHTTP.pm line 27
Plack::Test::MockHTTP::request(Plack::Test::MockHTTP=HASH(0x564953c4c2f0), HTTP::Request=HASH(0x564953c4bee8)) called at /home/sand/src/perl/repoperls/installed-perls/host/k93focal/v5.38.3/d119/lib/site_perl/5.38.3/Plack/Test.pm line 38
Plack::Test::__ANON__(HTTP::Request=HASH(0x564953c4bee8)) called at /home/sand/src/perl/repoperls/installed-perls/host/k93focal/v5.38.3/d119/lib/site_perl/5.38.3/Catalyst/Test.pm line 290
Catalyst::Test::__ANON__(CODE(0x564953c4c2a8)) called at /home/sand/src/perl/repoperls/installed-perls/host/k93focal/v5.38.3/d119/lib/site_perl/5.38.3/Plack/Test.pm line 38
Plack::Test::test_psgi("mangle_response", CODE(0x5649527d9ec0), "app", CODE(0x564953b4ec20), "app", CODE(0x564953b44cf0), "client", CODE(0x564953c4c140)) called at /home/sand/src/perl/repoperls/installed-perls/host/k93focal/v5.38.3/d119/lib/site_perl/5.38.3/Catalyst/Test.pm line 293
Catalyst::Test::_request(HASH(0x564953c3d480), "/") called at /home/sand/src/perl/repoperls/installed-perls/host/k93focal/v5.38.3/d119/lib/site_perl/5.38.3/Catalyst/Test.pm line 336
Catalyst::Test::_local_request("TestAppAltRoot", "/") called at /home/sand/src/perl/repoperls/installed-perls/host/k93focal/v5.38.3/d119/lib/site_perl/5.38.3/Catalyst/Test.pm line 32
Catalyst::Test::__ANON__("/") called at /home/sand/src/perl/repoperls/installed-perls/host/k93focal/v5.38.3/d119/lib/site_perl/5.38.3/Catalyst/Test.pm line 72
Catalyst::Test::__ANON__("/") called at t/live-test-alt-root.t line 14
t/live-test-alt-root.t .... ok
Class::MOP::load_class is deprecated at /home/sand/src/perl/repoperls/installed-perls/host/k93focal/v5.38.3/d119/lib/site_perl/5.38.3/x86_64-linux-thread-multi/Class/MOP.pm line 69, <ARGV> line 1.
Class::MOP::load_class("TestApp::View::HTML::Root") called at /tmp/loop_over_bdir-641295-BGeEVH/Catalyst-View-HTML-Zoom-0.003-0/blib/lib/Catalyst/View/HTML/Zoom.pm line 138
Catalyst::View::HTML::Zoom::_zoomer_class_from_context(TestApp::View::HTML=HASH(0x563f944b4d88), TestApp=HASH(0x563f916e4468)) called at /tmp/loop_over_bdir-641295-BGeEVH/Catalyst-View-HTML-Zoom-0.003-0/blib/lib/Catalyst/View/HTML/Zoom.pm line 90
Catalyst::View::HTML::Zoom::_build_renderer_from_zoomer_class(TestApp::View::HTML=HASH(0x563f944b4d88), TestApp=HASH(0x563f916e4468)) called at /tmp/loop_over_bdir-641295-BGeEVH/Catalyst-View-HTML-Zoom-0.003-0/blib/lib/Catalyst/View/HTML/Zoom.pm line 76
Catalyst::View::HTML::Zoom::_build_renderer_from(TestApp::View::HTML=HASH(0x563f944b4d88), TestApp=HASH(0x563f916e4468), undef) called at /tmp/loop_over_bdir-641295-BGeEVH/Catalyst-View-HTML-Zoom-0.003-0/blib/lib/Catalyst/View/HTML/Zoom.pm line 67
Catalyst::View::HTML::Zoom::render(TestApp::View::HTML=HASH(0x563f944b4d88), TestApp=HASH(0x563f916e4468), "/main") called at /tmp/loop_over_bdir-641295-BGeEVH/Catalyst-View-HTML-Zoom-0.003-0/blib/lib/Catalyst/View/HTML/Zoom.pm line 41
Catalyst::View::HTML::Zoom::process(TestApp::View::HTML=HASH(0x563f944b4d88), TestApp=HASH(0x563f916e4468)) called at /home/sand/src/perl/repoperls/installed-perls/host/k93focal/v5.38.3/d119/lib/site_perl/5.38.3/Catalyst/Action.pm line 374
Catalyst::Action::execute(Catalyst::Action=HASH(0x563f9469bbd0), TestApp::View::HTML=HASH(0x563f944b4d88), TestApp=HASH(0x563f916e4468)) called at /home/sand/src/perl/repoperls/installed-perls/host/k93focal/v5.38.3/d119/lib/site_perl/5.38.3/Catalyst.pm line 2067
eval {...} called at /home/sand/src/perl/repoperls/installed-perls/host/k93focal/v5.38.3/d119/lib/site_perl/5.38.3/Catalyst.pm line 2067
Catalyst::execute(TestApp=HASH(0x563f916e4468), TestApp::View::HTML=HASH(0x563f944b4d88), Catalyst::Action=HASH(0x563f9469bbd0)) called at /home/sand/src/perl/repoperls/installed-perls/host/k93focal/v5.38.3/d119/lib/site_perl/5.38.3/Catalyst/Action.pm line 366
Catalyst::Action::dispatch(Catalyst::Action=HASH(0x563f9469bbd0), TestApp=HASH(0x563f916e4468)) called at /home/sand/src/perl/repoperls/installed-perls/host/k93focal/v5.38.3/d119/lib/site_perl/5.38.3/Catalyst/Dispatcher.pm line 261
Catalyst::Dispatcher::_do_forward(Catalyst::Dispatcher=HASH(0x563f93190920), "forward", TestApp=HASH(0x563f916e4468), TestApp::View::HTML=HASH(0x563f944b4d88)) called at /home/sand/src/perl/repoperls/installed-perls/host/k93focal/v5.38.3/d119/lib/site_perl/5.38.3/Catalyst/Dispatcher.pm line 241
Catalyst::Dispatcher::forward(Catalyst::Dispatcher=HASH(0x563f93190920), TestApp=HASH(0x563f916e4468), TestApp::View::HTML=HASH(0x563f944b4d88)) called at /home/sand/src/perl/repoperls/installed-perls/host/k93focal/v5.38.3/d119/lib/site_perl/5.38.3/Catalyst.pm line 489
Catalyst::forward(TestApp=HASH(0x563f916e4468), TestApp::View::HTML=HASH(0x563f944b4d88)) called at /home/sand/src/perl/repoperls/installed-perls/host/k93focal/v5.38.3/d119/lib/site_perl/5.38.3/Catalyst/Action/RenderView.pm line 57
Catalyst::Action::RenderView::execute(Catalyst::Action::RenderView=HASH(0x563f945f2f20), TestApp::Controller::Root=HASH(0x563f944a6738), TestApp=HASH(0x563f916e4468)) called at /home/sand/src/perl/repoperls/installed-perls/host/k93focal/v5.38.3/d119/lib/site_perl/5.38.3/Catalyst.pm line 2067
eval {...} called at /home/sand/src/perl/repoperls/installed-perls/host/k93focal/v5.38.3/d119/lib/site_perl/5.38.3/Catalyst.pm line 2067
Catalyst::execute(TestApp=HASH(0x563f916e4468), "TestApp::Controller::Root", Catalyst::Action::RenderView=HASH(0x563f945f2f20)) called at /home/sand/src/perl/repoperls/installed-perls/host/k93focal/v5.38.3/d119/lib/site_perl/5.38.3/Catalyst/Action.pm line 368
Catalyst::Action::dispatch(Catalyst::Action::RenderView=HASH(0x563f945f2f20), TestApp=HASH(0x563f916e4468)) called at /home/sand/src/perl/repoperls/installed-perls/host/k93focal/v5.38.3/d119/lib/site_perl/5.38.3/Catalyst/Controller.pm line 188
Catalyst::Controller::_END(TestApp::Controller::Root=HASH(0x563f944a6738), TestApp=HASH(0x563f916e4468)) called at /home/sand/src/perl/repoperls/installed-perls/host/k93focal/v5.38.3/d119/lib/site_perl/5.38.3/Catalyst/Action.pm line 374
Catalyst::Action::execute(Catalyst::Action=HASH(0x563f944e2280), TestApp::Controller::Root=HASH(0x563f944a6738), TestApp=HASH(0x563f916e4468)) called at /home/sand/src/perl/repoperls/installed-perls/host/k93focal/v5.38.3/d119/lib/site_perl/5.38.3/Catalyst.pm line 2067
eval {...} called at /home/sand/src/perl/repoperls/installed-perls/host/k93focal/v5.38.3/d119/lib/site_perl/5.38.3/Catalyst.pm line 2067
Catalyst::execute(TestApp=HASH(0x563f916e4468), "TestApp::Controller::Root", Catalyst::Action=HASH(0x563f944e2280)) called at /home/sand/src/perl/repoperls/installed-perls/host/k93focal/v5.38.3/d119/lib/site_perl/5.38.3/Catalyst/Action.pm line 368
Catalyst::Action::dispatch(Catalyst::Action=HASH(0x563f944e2280), TestApp=HASH(0x563f916e4468)) called at /home/sand/src/perl/repoperls/installed-perls/host/k93focal/v5.38.3/d119/lib/site_perl/5.38.3/Catalyst/Dispatcher.pm line 261
Catalyst::Dispatcher::_do_forward(Catalyst::Dispatcher=HASH(0x563f93190920), "forward", TestApp=HASH(0x563f916e4468), "_END") called at /home/sand/src/perl/repoperls/installed-perls/host/k93focal/v5.38.3/d119/lib/site_perl/5.38.3/Catalyst/Dispatcher.pm line 241
Catalyst::Dispatcher::forward(Catalyst::Dispatcher=HASH(0x563f93190920), TestApp=HASH(0x563f916e4468), "_END") called at /home/sand/src/perl/repoperls/installed-perls/host/k93focal/v5.38.3/d119/lib/site_perl/5.38.3/Catalyst.pm line 489
Catalyst::forward(TestApp=HASH(0x563f916e4468), "_END") called at /home/sand/src/perl/repoperls/installed-perls/host/k93focal/v5.38.3/d119/lib/site_perl/5.38.3/Catalyst/Controller.pm line 137
Catalyst::Controller::_DISPATCH(TestApp::Controller::Root=HASH(0x563f944a6738), TestApp=HASH(0x563f916e4468)) called at /home/sand/src/perl/repoperls/installed-perls/host/k93focal/v5.38.3/d119/lib/site_perl/5.38.3/Catalyst/Action.pm line 374
Catalyst::Action::execute(Catalyst::Action=HASH(0x563f9451ad20), TestApp::Controller::Root=HASH(0x563f944a6738), TestApp=HASH(0x563f916e4468)) called at /home/sand/src/perl/repoperls/installed-perls/host/k93focal/v5.38.3/d119/lib/site_perl/5.38.3/Catalyst.pm line 2067
eval {...} called at /home/sand/src/perl/repoperls/installed-perls/host/k93focal/v5.38.3/d119/lib/site_perl/5.38.3/Catalyst.pm line 2067
Catalyst::execute(TestApp=HASH(0x563f916e4468), "TestApp::Controller::Root", Catalyst::Action=HASH(0x563f9451ad20)) called at /home/sand/src/perl/repoperls/installed-perls/host/k93focal/v5.38.3/d119/lib/site_perl/5.38.3/Catalyst/Action.pm line 368
Catalyst::Action::dispatch(Catalyst::Action=HASH(0x563f9451ad20), TestApp=HASH(0x563f916e4468)) called at /home/sand/src/perl/repoperls/installed-perls/host/k93focal/v5.38.3/d119/lib/site_perl/5.38.3/Catalyst/Dispatcher.pm line 261
Catalyst::Dispatcher::_do_forward(Catalyst::Dispatcher=HASH(0x563f93190920), "forward", TestApp=HASH(0x563f916e4468), "//_DISPATCH") called at /home/sand/src/perl/repoperls/installed-perls/host/k93focal/v5.38.3/d119/lib/site_perl/5.38.3/Catalyst/Dispatcher.pm line 241
Catalyst::Dispatcher::forward(Catalyst::Dispatcher=HASH(0x563f93190920), TestApp=HASH(0x563f916e4468), "//_DISPATCH") called at /home/sand/src/perl/repoperls/installed-perls/host/k93focal/v5.38.3/d119/lib/site_perl/5.38.3/Catalyst.pm line 489
Catalyst::forward(TestApp=HASH(0x563f916e4468), "//_DISPATCH") called at /home/sand/src/perl/repoperls/installed-perls/host/k93focal/v5.38.3/d119/lib/site_perl/5.38.3/Catalyst/Dispatcher.pm line 107
Catalyst::Dispatcher::dispatch(Catalyst::Dispatcher=HASH(0x563f93190920), TestApp=HASH(0x563f916e4468)) called at /home/sand/src/perl/repoperls/installed-perls/host/k93focal/v5.38.3/d119/lib/site_perl/5.38.3/Catalyst.pm line 2013
Catalyst::dispatch(TestApp=HASH(0x563f916e4468)) called at /home/sand/src/perl/repoperls/installed-perls/host/k93focal/v5.38.3/d119/lib/site_perl/5.38.3/x86_64-linux-thread-multi/Class/MOP/Method/Wrapped.pm line 56
TestApp::_wrapped_dispatch(TestApp=HASH(0x563f916e4468)) called at /home/sand/src/perl/repoperls/installed-perls/host/k93focal/v5.38.3/d119/lib/site_perl/5.38.3/x86_64-linux-thread-multi/Class/MOP/Method/Wrapped.pm line 97
TestApp::dispatch(TestApp=HASH(0x563f916e4468)) called at /home/sand/src/perl/repoperls/installed-perls/host/k93focal/v5.38.3/d119/lib/site_perl/5.38.3/Catalyst.pm line 2419
Catalyst::try {...} () called at /home/sand/src/perl/repoperls/installed-perls/host/k93focal/v5.38.3/d119/lib/site_perl/5.38.3/Try/Tiny.pm line 102
eval {...} called at /home/sand/src/perl/repoperls/installed-perls/host/k93focal/v5.38.3/d119/lib/site_perl/5.38.3/Try/Tiny.pm line 93
Try::Tiny::try(CODE(0x563f9468d870), Try::Tiny::Catch=REF(0x563f9468d6d8)) called at /home/sand/src/perl/repoperls/installed-perls/host/k93focal/v5.38.3/d119/lib/site_perl/5.38.3/Catalyst.pm line 2428
Catalyst::handle_request("TestApp", "env", HASH(0x563f944b5238), "response_cb", CODE(0x563f9468d738)) called at /home/sand/src/perl/repoperls/installed-perls/host/k93focal/v5.38.3/d119/lib/site_perl/5.38.3/Catalyst/Engine.pm line 808
Catalyst::Engine::__ANON__(CODE(0x563f9468d738)) called at /home/sand/src/perl/repoperls/installed-perls/host/k93focal/v5.38.3/d119/lib/site_perl/5.38.3/Plack/Middleware/HTTPExceptions.pm line 32
Plack::Middleware::HTTPExceptions::try {...} () called at /home/sand/src/perl/repoperls/installed-perls/host/k93focal/v5.38.3/d119/lib/site_perl/5.38.3/Try/Tiny.pm line 102
eval {...} called at /home/sand/src/perl/repoperls/installed-perls/host/k93focal/v5.38.3/d119/lib/site_perl/5.38.3/Try/Tiny.pm line 93
Try::Tiny::try(CODE(0x563f9468d570), Try::Tiny::Catch=REF(0x563f94611e80)) called at /home/sand/src/perl/repoperls/installed-perls/host/k93focal/v5.38.3/d119/lib/site_perl/5.38.3/Plack/Middleware/HTTPExceptions.pm line 41
Plack::Middleware::HTTPExceptions::__ANON__(CODE(0x563f94645b70)) called at /home/sand/src/perl/repoperls/installed-perls/host/k93focal/v5.38.3/d119/lib/site_perl/5.38.3/Plack/Util.pm line 339
Plack::Util::__ANON__(CODE(0x563f94317a90)) called at /home/sand/src/perl/repoperls/installed-perls/host/k93focal/v5.38.3/d119/lib/site_perl/5.38.3/Plack/Util.pm line 339
Plack::Util::__ANON__(CODE(0x563f944dd8b8)) called at /home/sand/src/perl/repoperls/installed-perls/host/k93focal/v5.38.3/d119/lib/site_perl/5.38.3/Plack/Util.pm line 339
Plack::Util::__ANON__(CODE(0x563f9437a910)) called at /home/sand/src/perl/repoperls/installed-perls/host/k93focal/v5.38.3/d119/lib/site_perl/5.38.3/HTTP/Message/PSGI.pm line 100
HTTP::Message::PSGI::res_from_psgi(CODE(0x563f9468d2d0)) called at /home/sand/src/perl/repoperls/installed-perls/host/k93focal/v5.38.3/d119/lib/site_perl/5.38.3/HTTP/Message/PSGI.pm line 157
HTTP::Response::from_psgi("HTTP::Response", CODE(0x563f9468d2d0)) called at /home/sand/src/perl/repoperls/installed-perls/host/k93focal/v5.38.3/d119/lib/site_perl/5.38.3/Plack/Test/MockHTTP.pm line 24
Plack::Test::MockHTTP::try {...} () called at /home/sand/src/perl/repoperls/installed-perls/host/k93focal/v5.38.3/d119/lib/site_perl/5.38.3/Try/Tiny.pm line 100
eval {...} called at /home/sand/src/perl/repoperls/installed-perls/host/k93focal/v5.38.3/d119/lib/site_perl/5.38.3/Try/Tiny.pm line 93
Try::Tiny::try(CODE(0x563f944637c0), Try::Tiny::Catch=REF(0x563f916e4fa8)) called at /home/sand/src/perl/repoperls/installed-perls/host/k93focal/v5.38.3/d119/lib/site_perl/5.38.3/Plack/Test/MockHTTP.pm line 27
Plack::Test::MockHTTP::request(Plack::Test::MockHTTP=HASH(0x563f94625968), HTTP::Request=HASH(0x563f94625560)) called at /home/sand/src/perl/repoperls/installed-perls/host/k93focal/v5.38.3/d119/lib/site_perl/5.38.3/Plack/Test.pm line 38
Plack::Test::__ANON__(HTTP::Request=HASH(0x563f94625560)) called at /home/sand/src/perl/repoperls/installed-perls/host/k93focal/v5.38.3/d119/lib/site_perl/5.38.3/Catalyst/Test.pm line 290
Catalyst::Test::__ANON__(CODE(0x563f94625920)) called at /home/sand/src/perl/repoperls/installed-perls/host/k93focal/v5.38.3/d119/lib/site_perl/5.38.3/Plack/Test.pm line 38
Plack::Test::test_psgi("app", CODE(0x563f94625188), "mangle_response", CODE(0x563f93174350), "app", CODE(0x563f9451b590), "client", CODE(0x563f946257b8)) called at /home/sand/src/perl/repoperls/installed-perls/host/k93focal/v5.38.3/d119/lib/site_perl/5.38.3/Catalyst/Test.pm line 293
Catalyst::Test::_request(HASH(0x563f94612060), "/") called at /home/sand/src/perl/repoperls/installed-perls/host/k93focal/v5.38.3/d119/lib/site_perl/5.38.3/Catalyst/Test.pm line 336
Catalyst::Test::_local_request("TestApp", "/") called at /home/sand/src/perl/repoperls/installed-perls/host/k93focal/v5.38.3/d119/lib/site_perl/5.38.3/Catalyst/Test.pm line 32
Catalyst::Test::__ANON__("/") called at /home/sand/src/perl/repoperls/installed-perls/host/k93focal/v5.38.3/d119/lib/site_perl/5.38.3/Catalyst/Test.pm line 72
Catalyst::Test::__ANON__("/") called at t/live-test.t line 14
t/live-test.t ............. ok
t/release-pod-coverage.t .. skipped: these tests are for release candidate testing
t/release-pod-syntax.t .... skipped: these tests are for release candidate testing
All tests successful.
Files=7, Tests=17, 2 wallclock secs ( 0.04 usr 0.01 sys + 2.20 cusr 0.21 csys = 2.46 CPU)
Result: PASS
------------------------------
PREREQUISITES
------------------------------
Prerequisite modules loaded:
requires:
Module Need Have
---------------------------- ----- --------
Class::MOP 1.12 2.2207
HTML::Zoom 0.009 0.009009
Moose 1.21 2.2207
namespace::autoclean 0.09 0.31
Path::Class 0.23 0.37
build_requires:
Module Need Have
---------------------------- ----- --------
Catalyst::Action::RenderView 0.14 0.17
Catalyst::Runtime 5.8 5.90132
Test::More 0.96 1.302207
configure_requires:
Module Need Have
---------------------------- ----- --------
ExtUtils::MakeMaker 6.31 7.70
------------------------------
ENVIRONMENT AND OTHER CONTEXT
------------------------------
Environment variables:
AUTOMATED_TESTING = 1
LANG = en_US.UTF-8
PATH = /home/sand/bin:/usr/local/bin:/usr/local/sbin:/usr/sbin:/usr/bin:/sbin:/bin:/usr/games:/usr/local/games:/snap/bin:/usr/local/perl/bin:/usr/X11/bin
PERL = /tmp/basesmoker-reloperl-aFHk/bin/perl
PERL5LIB = /tmp/loop_over_bdir-641295-BGeEVH/LiquidWeb-Storm-CLI-1.03-0/blib/arch:/tmp/loop_over_bdir-641295-BGeEVH/LiquidWeb-Storm-CLI-1.03-0/blib/lib:/tmp/loop_over_bdir-641295-BGeEVH/Lemonldap-NG-Cli-0.2-0/blib/arch:/tmp/loop_over_bdir-641295-BGeEVH/Lemonldap-NG-Cli-0.2-0/blib/lib:/tmp/loop_over_bdir-641295-BGeEVH/Module-ScanDeps-Static-1.7.2-0/blib/arch:/tmp/loop_over_bdir-641295-BGeEVH/Module-ScanDeps-Static-1.7.2-0/blib/lib:/tmp/loop_over_bdir-641295-BGeEVH/dta-tokwrap-0.98-0/blib/arch:/tmp/loop_over_bdir-641295-BGeEVH/dta-tokwrap-0.98-0/blib/lib:/tmp/loop_over_bdir-641295-BGeEVH/Devel-Required-0.16-0/blib/arch:/tmp/loop_over_bdir-641295-BGeEVH/Devel-Required-0.16-0/blib/lib:/tmp/loop_over_bdir-641295-BGeEVH/LCFG-Build-Tools-0.9.30-0/blib/arch:/tmp/loop_over_bdir-641295-BGeEVH/LCFG-Build-Tools-0.9.30-0/blib/lib:/tmp/loop_over_bdir-641295-BGeEVH/DBIx-Migration-Directories-0.12-0/blib/arch:/tmp/loop_over_bdir-641295-BGeEVH/DBIx-Migration-Directories-0.12-0/blib/lib:/tmp/loop_over_bdir-641295-BGeEVH/Net-OpenVPN-DDNS-0.1-0/blib/arch:/tmp/loop_over_bdir-641295-BGeEVH/Net-OpenVPN-DDNS-0.1-0/blib/lib:/tmp/loop_over_bdir-641295-BGeEVH/RDF-NLP-SPARQLQuery-0.1-0/blib/arch:/tmp/loop_over_bdir-641295-BGeEVH/RDF-NLP-SPARQLQuery-0.1-0/blib/lib
PERL5OPT =
PERL5_CPANPLUS_IS_RUNNING = 641303
PERL5_CPAN_IS_RUNNING = 641303
PERL_CANARY_STABILITY_NOPROMPT = 1
PERL_MM_USE_DEFAULT = 1
PERL_USE_UNSAFE_INC = 1
SHELL = /usr/bin/zsh
TERM = screen
Perl special variables (and OS-specific diagnostics, for MSWin32):
$^X = /tmp/basesmoker-reloperl-aFHk/bin/perl
$UID/$EUID = 1005 / 1005
$GID = 1005 1005
$EGID = 1005 1005
Perl module toolchain versions installed:
Module Have
------------------- --------
CPAN 2.38
CPAN::Meta 2.150010
Cwd 3.89
ExtUtils::CBuilder 0.280238
ExtUtils::Command 7.70
ExtUtils::Install 2.22
ExtUtils::MakeMaker 7.70
ExtUtils::Manifest 1.73
ExtUtils::ParseXS 3.51
File::Spec 3.88
JSON 4.10
JSON::PP 4.16
Module::Build 0.4234
Module::Signature 0.89
Parse::CPAN::Meta 2.150010
Test2 1.302207
Test::Harness 3.50
Test::More 1.302207
YAML 1.31
YAML::Syck 1.34
version 0.9933
--
Summary of my perl5 (revision 5 version 38 subversion 3) configuration:
Commit id: 06697759559c52236e296a256776b1222f228163
Platform:
osname=linux
osvers=5.4.0-204-generic
archname=x86_64-linux-thread-multi
uname='linux k93focal 5.4.0-204-generic #224-ubuntu smp thu dec 5 13:38:28 utc 2024 x86_64 x86_64 x86_64 gnulinux '
config_args='-Dprefix=/home/sand/src/perl/repoperls/installed-perls/host/k93focal/v5.38.3/d119 -Dmyhostname=k93focal -Dinstallusrbinperl=n -Uversiononly -Dusedevel -des -Ui_db -Dlibswanted=cl pthread socket inet nsl gdbm dbm malloc dl ld sun m crypt sec util c cposix posix ucb BSD gdbm_compat -Duseithreads -Uuselongdouble -DEBUGGING=both'
hint=recommended
useposix=true
d_sigaction=define
useithreads=define
usemultiplicity=define
use64bitint=define
use64bitall=define
uselongdouble=undef
usemymalloc=n
default_inc_excludes_dot=define
Compiler:
cc='cc'
ccflags ='-D_REENTRANT -D_GNU_SOURCE -fwrapv -DDEBUGGING -fno-strict-aliasing -pipe -fstack-protector-strong -I/usr/local/include -D_LARGEFILE_SOURCE -D_FILE_OFFSET_BITS=64'
optimize='-O2 -g'
cppflags='-D_REENTRANT -D_GNU_SOURCE -fwrapv -DDEBUGGING -fno-strict-aliasing -pipe -fstack-protector-strong -I/usr/local/include'
ccversion=''
gccversion='9.4.0'
gccosandvers=''
intsize=4
longsize=8
ptrsize=8
doublesize=8
byteorder=12345678
doublekind=3
d_longlong=define
longlongsize=8
d_longdbl=define
longdblsize=16
longdblkind=3
ivtype='long'
ivsize=8
nvtype='double'
nvsize=8
Off_t='off_t'
lseeksize=8
alignbytes=8
prototype=define
Linker and Libraries:
ld='cc'
ldflags =' -fstack-protector-strong -L/usr/local/lib'
libpth=/usr/local/lib /usr/lib/x86_64-linux-gnu /usr/lib /usr/lib64
libs=-lpthread -lnsl -ldl -lm -lcrypt -lutil -lc
perllibs=-lpthread -lnsl -ldl -lm -lcrypt -lutil -lc
libc=libc-2.31.so
so=so
useshrplib=false
libperl=libperl.a
gnulibc_version='2.31'
Dynamic Linking:
dlsrc=dl_dlopen.xs
dlext=so
d_dlsymun=undef
ccdlflags='-Wl,-E'
cccdlflags='-fPIC'
lddlflags='-shared -O2 -g -L/usr/local/lib -fstack-protector-strong'
Characteristics of this binary (from libperl):
Compile-time options:
DEBUGGING
HAS_LONG_DOUBLE
HAS_STRTOLD
HAS_TIMES
MULTIPLICITY
PERLIO_LAYERS
PERL_COPY_ON_WRITE
PERL_DONT_CREATE_GVSV
PERL_HASH_FUNC_SIPHASH13
PERL_HASH_USE_SBOX32
PERL_MALLOC_WRAP
PERL_OP_PARENT
PERL_PRESERVE_IVUV
PERL_TRACK_MEMPOOL
PERL_USE_DEVEL
PERL_USE_SAFE_PUTENV
USE_64_BIT_ALL
USE_64_BIT_INT
USE_ITHREADS
USE_LARGE_FILES
USE_LOCALE
USE_LOCALE_COLLATE
USE_LOCALE_CTYPE
USE_LOCALE_NUMERIC
USE_LOCALE_TIME
USE_PERLIO
USE_PERL_ATOF
USE_REENTRANT_API
USE_THREAD_SAFE_LOCALE
Built under linux
Compiled at Jan 20 2025 16:12:56
%ENV:
PERL="/tmp/basesmoker-reloperl-aFHk/bin/perl"
PERL5LIB="/tmp/loop_over_bdir-641295-BGeEVH/LiquidWeb-Storm-CLI-1.03-0/blib/arch:/tmp/loop_over_bdir-641295-BGeEVH/LiquidWeb-Storm-CLI-1.03-0/blib/lib:/tmp/loop_over_bdir-641295-BGeEVH/Lemonldap-NG-Cli-0.2-0/blib/arch:/tmp/loop_over_bdir-641295-BGeEVH/Lemonldap-NG-Cli-0.2-0/blib/lib:/tmp/loop_over_bdir-641295-BGeEVH/Module-ScanDeps-Static-1.7.2-0/blib/arch:/tmp/loop_over_bdir-641295-BGeEVH/Module-ScanDeps-Static-1.7.2-0/blib/lib:/tmp/loop_over_bdir-641295-BGeEVH/dta-tokwrap-0.98-0/blib/arch:/tmp/loop_over_bdir-641295-BGeEVH/dta-tokwrap-0.98-0/blib/lib:/tmp/loop_over_bdir-641295-BGeEVH/Devel-Required-0.16-0/blib/arch:/tmp/loop_over_bdir-641295-BGeEVH/Devel-Required-0.16-0/blib/lib:/tmp/loop_over_bdir-641295-BGeEVH/LCFG-Build-Tools-0.9.30-0/blib/arch:/tmp/loop_over_bdir-641295-BGeEVH/LCFG-Build-Tools-0.9.30-0/blib/lib:/tmp/loop_over_bdir-641295-BGeEVH/DBIx-Migration-Directories-0.12-0/blib/arch:/tmp/loop_over_bdir-641295-BGeEVH/DBIx-Migration-Directories-0.12-0/blib/lib:/tmp/loop_over_bdir-641295-BGeEVH/Net-OpenVPN-DDNS-0.1-0/blib/arch:/tmp/loop_over_bdir-641295-BGeEVH/Net-OpenVPN-DDNS-0.1-0/blib/lib:/tmp/loop_over_bdir-641295-BGeEVH/RDF-NLP-SPARQLQuery-0.1-0/blib/arch:/tmp/loop_over_bdir-641295-BGeEVH/RDF-NLP-SPARQLQuery-0.1-0/blib/lib"
PERL5OPT=""
PERL5_CPANPLUS_IS_RUNNING="641303"
PERL5_CPAN_IS_RUNNING="641303"
PERL_CANARY_STABILITY_NOPROMPT="1"
PERL_MM_USE_DEFAULT="1"
PERL_USE_UNSAFE_INC="1"
@INC:
/tmp/loop_over_bdir-641295-BGeEVH/LiquidWeb-Storm-CLI-1.03-0/blib/arch
/tmp/loop_over_bdir-641295-BGeEVH/LiquidWeb-Storm-CLI-1.03-0/blib/lib
/tmp/loop_over_bdir-641295-BGeEVH/Lemonldap-NG-Cli-0.2-0/blib/arch
/tmp/loop_over_bdir-641295-BGeEVH/Lemonldap-NG-Cli-0.2-0/blib/lib
/tmp/loop_over_bdir-641295-BGeEVH/Module-ScanDeps-Static-1.7.2-0/blib/arch
/tmp/loop_over_bdir-641295-BGeEVH/Module-ScanDeps-Static-1.7.2-0/blib/lib
/tmp/loop_over_bdir-641295-BGeEVH/dta-tokwrap-0.98-0/blib/arch
/tmp/loop_over_bdir-641295-BGeEVH/dta-tokwrap-0.98-0/blib/lib
/tmp/loop_over_bdir-641295-BGeEVH/Devel-Required-0.16-0/blib/arch
/tmp/loop_over_bdir-641295-BGeEVH/Devel-Required-0.16-0/blib/lib
/tmp/loop_over_bdir-641295-BGeEVH/LCFG-Build-Tools-0.9.30-0/blib/arch
/tmp/loop_over_bdir-641295-BGeEVH/LCFG-Build-Tools-0.9.30-0/blib/lib
/tmp/loop_over_bdir-641295-BGeEVH/DBIx-Migration-Directories-0.12-0/blib/arch
/tmp/loop_over_bdir-641295-BGeEVH/DBIx-Migration-Directories-0.12-0/blib/lib
/tmp/loop_over_bdir-641295-BGeEVH/Net-OpenVPN-DDNS-0.1-0/blib/arch
/tmp/loop_over_bdir-641295-BGeEVH/Net-OpenVPN-DDNS-0.1-0/blib/lib
/tmp/loop_over_bdir-641295-BGeEVH/RDF-NLP-SPARQLQuery-0.1-0/blib/arch
/tmp/loop_over_bdir-641295-BGeEVH/RDF-NLP-SPARQLQuery-0.1-0/blib/lib
/home/sand/src/perl/repoperls/installed-perls/host/k93focal/v5.38.3/d119/lib/site_perl/5.38.3/x86_64-linux-thread-multi
/home/sand/src/perl/repoperls/installed-perls/host/k93focal/v5.38.3/d119/lib/site_perl/5.38.3
/home/sand/src/perl/repoperls/installed-perls/host/k93focal/v5.38.3/d119/lib/5.38.3/x86_64-linux-thread-multi
/home/sand/src/perl/repoperls/installed-perls/host/k93focal/v5.38.3/d119/lib/5.38.3
.