Report for DateTime-Format-XMLTV-1.001

Back
From: metabase:user:320bfe00-2aae-11df-837a-5e0a49663a4f
Subject: PASS DateTime-Format-XMLTV-1.001 v5.12.5 GNU/Linux
Date: 2014-03-08T18:08:47Z

This distribution has been tested as part of the CPAN Testers
project, supporting the Perl programming language.  See
http://wiki.cpantesters.org/ for more information or email
questions to cpan-testers-discuss@perl.org


--
Dear Christopher J. Madsen,

This is a computer-generated report for DateTime-Format-XMLTV-1.001
on perl 5.12.5, created by CPAN-Reporter-1.2010.

Thank you for uploading your work to CPAN.  Congratulations!
All tests were successful.

Sections of this report:

    * Tester comments
    * Program output
    * Prerequisites
    * Environment and other context

------------------------------
TESTER COMMENTS
------------------------------

Additional comments from tester:

this report is from an automated smoke testing program
and was not reviewed by a human for accuracy

------------------------------
PROGRAM OUTPUT
------------------------------

Output from '/usr/bin/make test':

PERL_DL_NONLAZY=1 /home/sand/src/perl/repoperls/installed-perls/perl/v5.12.5/9980/bin/perl "-MExtUtils::Command::MM" "-MTest::Harness" "-e" "undef *Test::Harness::Switches; test_harness(0, 'blib/lib', 'blib/arch')" t/*.t
# Listing %INC
#                                  AutoLoader 5.70
#                                        Carp 1.32
#                        Class::Factory::Util 1.7
#                                 Class::Load 0.21
#                             Class::Load::XS 0.08
#                            Class::Singleton 1.4
#                                      Config undef
#                               Data::OptList 0.109
#                                    DateTime 1.07
#                          DateTime::Duration 1.07
#                   DateTime::Format::Builder 0.81
#           DateTime::Format::Builder::Parser 0.81
# DateTime::Format::Builder::Parser::Dispatch 0.81
#    DateTime::Format::Builder::Parser::Quick 0.81
#    DateTime::Format::Builder::Parser::Regex 0.81
# DateTime::Format::Builder::Parser::Strptime 0.81
#  DateTime::Format::Builder::Parser::generic 0.81
#                  DateTime::Format::Strptime 1.54
#                           DateTime::Helpers 1.07
#                          DateTime::Infinite 1.07
#                            DateTime::Locale 0.45
#                      DateTime::Locale::Base undef
#                   DateTime::Locale::Catalog undef
#                        DateTime::Locale::en undef
#                     DateTime::Locale::en_US undef
#                      DateTime::Locale::root undef
#                          DateTime::TimeZone 1.64
#                 DateTime::TimeZone::Catalog 1.64
#                DateTime::TimeZone::Floating 1.64
#                   DateTime::TimeZone::Local 1.64
#              DateTime::TimeZone::OffsetOnly 1.64
#                     DateTime::TimeZone::UTC 1.64
#                                  DynaLoader 1.10
#                                    Exporter 5.68
#                                       Fcntl 1.06
#                                  File::Spec 3.40
#                            File::Spec::Unix 3.40
#                             List::MoreUtils 0.33
#                                  List::Util 1.38
#                      Module::Implementation 0.07
#                             Module::Runtime 0.014
#                                       POSIX 1.19
#                                Params::Util 1.07
#                            Params::Validate 1.08
#                 Params::Validate::Constants 1.08
#                        Params::Validate::XS 1.08
#                                Scalar::Util 1.38
#                                Sub::Install 0.927
#                                   Sub::Name 0.05
#                                   Tie::Hash 1.03
#                                   Try::Tiny 0.19
#                                    XSLoader 0.10
#                                        base 2.18
#                                    constant 1.27
#                                     integer 1.00
#                                    overload 1.10
#                                      parent 0.228
#                                      strict 1.04
#                                        utf8 1.08
#                                        vars 1.01
#                                    warnings 1.09
#                          warnings::register 1.01
t/00-all_prereqs.t .. ok
# Testing DateTime::Format::XMLTV 1.001
t/00-load.t ......... ok
t/10-parse.t ........ ok
t/20-format.t ....... ok
All tests successful.
Files=4, Tests=61,  1 wallclock secs ( 0.03 usr  0.00 sys +  0.46 cusr  0.06 csys =  0.55 CPU)
Result: PASS

------------------------------
PREREQUISITES
------------------------------

Prerequisite modules loaded:

requires:

    Module                    Need Have    
    ------------------------- ---- --------
    DateTime::Format::Builder 0.80 0.81    

build_requires:

    Module                    Need Have    
    ------------------------- ---- --------
    Test::More                0.88 1.001002

configure_requires:

    Module                    Need Have    
    ------------------------- ---- --------
    ExtUtils::MakeMaker       6.30 6.91_01 


------------------------------
ENVIRONMENT AND OTHER CONTEXT
------------------------------

Environment variables:

    AUTOMATED_TESTING = 1
    LANG = en_US.UTF-8
    LANGUAGE = en_US:en
    PATH = /usr/lib/ccache:/home/sand/bin:/usr/local/bin:/usr/bin:/bin:/usr/bin/X11:/usr/games:/usr/local/perl/bin:/usr/X11/bin:/sbin:/usr/sbin
    PERL5LIB = 
    PERL5OPT = 
    PERL5_CPANPLUS_IS_RUNNING = 21687
    PERL5_CPAN_IS_RUNNING = 21687
    PERL_MM_USE_DEFAULT = 1
    SHELL = /usr/bin/zsh
    TERM = screen

Perl special variables (and OS-specific diagnostics, for MSWin32):

    $^X = /home/sand/src/perl/repoperls/installed-perls/perl/v5.12.5/9980/bin/perl
    $UID/$EUID = 1005 / 1005
    $GID = 1005 1005
    $EGID = 1005 1005

Perl module toolchain versions installed:

    Module              Have    
    ------------------- --------
    CPAN                2.00    
    CPAN::Meta          2.140640
    Cwd                 3.40    
    ExtUtils::CBuilder  0.280216
    ExtUtils::Command   1.16    
    ExtUtils::Install   1.55    
    ExtUtils::MakeMaker 6.91_01 
    ExtUtils::Manifest  1.60    
    ExtUtils::ParseXS   3.24    
    File::Spec          3.40    
    JSON                2.90    
    JSON::PP            2.27203 
    Module::Build       0.4205  
    Module::Signature   0.73    
    Parse::CPAN::Meta   1.4414  
    Test::Harness       3.30    
    Test::More          1.001002
    YAML                0.90    
    YAML::Syck          1.27    
    version             0.9908  


--

Summary of my perl5 (revision 5 version 12 subversion 5) configuration:
  Commit id: 9a9cbd715960a905dcbc9166349a73a64a007e4e
  Platform:
    osname=linux, osvers=3.12-1-amd64, archname=x86_64-linux-thread-multi
    uname='linux k83 3.12-1-amd64 #1 smp debian 3.12.6-2 (2013-12-29) x86_64 gnulinux '
    config_args='-Dprefix=/home/sand/src/perl/repoperls/installed-perls/perl/v5.12.5/9980 -Dmyhostname=k83 -Dinstallusrbinperl=n -Uversiononly -Dusedevel -des -Ui_db -Duseithreads -Uuselongdouble -DDEBUGGING=-g'
    hint=recommended, useposix=true, d_sigaction=define
    useithreads=define, usemultiplicity=define
    useperlio=define, d_sfio=undef, uselargefiles=define, usesocks=undef
    use64bitint=define, use64bitall=define, uselongdouble=undef
    usemymalloc=n, bincompat5005=undef
  Compiler:
    cc='cc', ccflags ='-D_REENTRANT -D_GNU_SOURCE -fno-strict-aliasing -pipe -fstack-protector -I/usr/local/include -D_LARGEFILE_SOURCE -D_FILE_OFFSET_BITS=64',
    optimize='-O2 -g',
    cppflags='-D_REENTRANT -D_GNU_SOURCE -fno-strict-aliasing -pipe -fstack-protector -I/usr/local/include'
    ccversion='', gccversion='4.8.2', gccosandvers=''
    intsize=4, longsize=8, ptrsize=8, doublesize=8, byteorder=12345678
    d_longlong=define, longlongsize=8, d_longdbl=define, longdblsize=16
    ivtype='long', ivsize=8, nvtype='double', nvsize=8, Off_t='off_t', lseeksize=8
    alignbytes=8, prototype=define
  Linker and Libraries:
    ld='cc', ldflags =' -fstack-protector -L/usr/local/lib'
    libpth=/usr/local/lib /lib/x86_64-linux-gnu /lib/../lib /usr/lib/x86_64-linux-gnu /usr/lib/../lib /lib /usr/lib
    libs=-lnsl -lgdbm -ldb -ldl -lm -lcrypt -lutil -lpthread -lc -lgdbm_compat
    perllibs=-lnsl -ldl -lm -lcrypt -lutil -lpthread -lc
    libc=, so=so, useshrplib=false, libperl=libperl.a
    gnulibc_version='2.17'
  Dynamic Linking:
    dlsrc=dl_dlopen.xs, dlext=so, d_dlsymun=undef, ccdlflags='-Wl,-E'
    cccdlflags='-fPIC', lddlflags='-shared -O2 -g -L/usr/local/lib -fstack-protector'


Characteristics of this binary (from libperl): 
  Compile-time options: MULTIPLICITY PERL_DONT_CREATE_GVSV
                        PERL_IMPLICIT_CONTEXT PERL_MALLOC_WRAP PERL_USE_DEVEL
                        USE_64_BIT_ALL USE_64_BIT_INT USE_ITHREADS
                        USE_LARGE_FILES USE_PERLIO USE_PERL_ATOF
                        USE_REENTRANT_API
  Built under linux
  Compiled at Jan 19 2014 18:48:35
  %ENV:
    PERL5LIB=""
    PERL5OPT=""
    PERL5_CPANPLUS_IS_RUNNING="21687"
    PERL5_CPAN_IS_RUNNING="21687"
    PERL_MM_USE_DEFAULT="1"
  @INC:
    /home/sand/src/perl/repoperls/installed-perls/perl/v5.12.5/9980/lib/site_perl/5.12.5/x86_64-linux-thread-multi
    /home/sand/src/perl/repoperls/installed-perls/perl/v5.12.5/9980/lib/site_perl/5.12.5
    /home/sand/src/perl/repoperls/installed-perls/perl/v5.12.5/9980/lib/5.12.5/x86_64-linux-thread-multi
    /home/sand/src/perl/repoperls/installed-perls/perl/v5.12.5/9980/lib/5.12.5
    .