WebService-RESTCountries v0.3 Perl 5 v5.24.4 x86_64-linux-ld

Status
Pass
From
Andreas J. König (ANDK)
Dist
WebService-RESTCountries v0.3
Platform
Perl 5 v5.24.4 x86_64-linux-ld
Date
2018-06-06 15:45:52
ID
b187ce5e-69a0-11e8-8ece-22aa8f276fc8
This distribution has been tested as part of the CPAN Testers
project, supporting the Perl programming language.  See
http://wiki.cpantesters.org/ for more information or email
questions to cpan-testers-discuss@perl.org


--
Dear Kian Meng, Ang,

This is a computer-generated report for WebService-RESTCountries-0.3
on perl 5.24.4, created by CPAN-Reporter-1.2018.

Thank you for uploading your work to CPAN.  Congratulations!
All tests were successful.

Sections of this report:

    * Tester comments
    * Program output
    * Prerequisites
    * Environment and other context

------------------------------
TESTER COMMENTS
------------------------------

Additional comments from tester:

this report is from an automated smoke testing program
and was not reviewed by a human for accuracy

------------------------------
PROGRAM OUTPUT
------------------------------

Output from './Build test':

t/00-compile.t ...................... ok
# Testing with Perl 5.024004, /home/sand/src/perl/repoperls/installed-perls/host/k93msid/v5.24.4/af11/bin/perl
#     CHI version is 0.60
#     Data::Serializer version is 0.60
#     Digest::MD5 version is 2.55
#     JSON version is 2.97001
#     Module::Build::Tiny version is 0.039
#     Moo version is 2.003004
#     REST::Client version is 273
#     Role::REST::Client version is 0.22
#     Sereal version is 4.005
#     Test::DistManifest version is 1.014
#     Test::HasVersion version is 0.014
#     Test::More version is 1.302137
#     Test::Warn version is 0.33
#     Types::Standard version is 1.003_002
#     namespace::clean version is 0.27
#     strictures version is 2.000005
t/000-report-versions.t ............. ok
t/00_compile.t ...................... ok
t/01_instantiation.t ................ ok
t/02_request.t ...................... ok
t/03_search_all.t ................... ok
t/04_search_by_country_name.t ....... ok
t/05_search_by_country_full_name.t .. ok
t/06_search_by_country_code.t ....... ok
t/07_search_by_country_codes.t ...... ok
t/08_search_by_currency.t ........... ok
t/09_search_by_language_code.t ...... ok
t/10_search_by_capital_city.t ....... ok
t/11_search_by_calling_code.t ....... ok
t/12_search_by_region.t ............. ok
t/13_search_by_region_bloc.t ........ ok
t/14_ping.t ......................... ok
t/15_download.t ..................... ok
t/author-eol.t ...................... skipped: these tests are for testing by the author
t/author-minimum-version.t .......... skipped: these tests are for testing by the author
t/author-pod-coverage.t ............. skipped: these tests are for testing by the author
t/author-pod-syntax.t ............... skipped: these tests are for testing by the author
t/release-dist-manifest.t ........... skipped: these tests are for release candidate testing
t/release-distmeta.t ................ skipped: these tests are for release candidate testing
t/release-has-version.t ............. skipped: these tests are for release candidate testing
t/release-kwalitee.t ................ skipped: these tests are for release candidate testing
t/release-unused-vars.t ............. skipped: these tests are for release candidate testing
All tests successful.
Files=27, Tests=93, 14 wallclock secs ( 0.07 usr  0.19 sys +  4.83 cusr  1.07 csys =  6.16 CPU)
Result: PASS

------------------------------
PREREQUISITES
------------------------------

Prerequisite modules loaded:

requires:

    Module              Need     Have     
    ------------------- -------- ---------
    CHI                 0        0.60     
    Data::Serializer    0        0.60     
    Digest::MD5         0        2.55     
    JSON                0        2.97001  
    Moo                 0        2.003004 
    namespace::clean    0        0.27     
    REST::Client        0        273      
    Role::REST::Client  0        0.22     
    Sereal              0        4.005    
    strictures          2        2.000005 
    Types::Standard     0        1.003_002

build_requires:

    Module              Need     Have     
    ------------------- -------- ---------
    Test::DistManifest  0        1.014    
    Test::HasVersion    0        0.014    
    Test::Kwalitee      0        1.27     
    Test::More          0        1.302137 
    Test::Warn          0        0.33     

configure_requires:

    Module              Need     Have     
    ------------------- -------- ---------
    Module::Build::Tiny 0.034    0.039    
    perl                5.008005 5.024004 


------------------------------
ENVIRONMENT AND OTHER CONTEXT
------------------------------

Environment variables:

    AUTOMATED_TESTING = 1
    LANG = en_US.UTF-8
    PATH = /home/sand/bin:/usr/local/bin:/usr/bin:/bin:/usr/games:/usr/local/perl/bin:/usr/X11/bin:/sbin:/usr/sbin
    PERL5LIB = 
    PERL5OPT = 
    PERL5_CPANPLUS_IS_RUNNING = 15765
    PERL5_CPAN_IS_RUNNING = 15765
    PERL_CANARY_STABILITY_NOPROMPT = 1
    PERL_MM_USE_DEFAULT = 1
    PERL_USE_UNSAFE_INC = 1
    SHELL = /usr/bin/zsh
    TERM = screen

Perl special variables (and OS-specific diagnostics, for MSWin32):

    $^X = /home/sand/src/perl/repoperls/installed-perls/host/k93msid/v5.24.4/af11/bin/perl
    $UID/$EUID = 1005 / 1005
    $GID = 1005 1005
    $EGID = 1005 1005

Perl module toolchain versions installed:

    Module              Have      
    ------------------- ----------
    CPAN                2.20      
    CPAN::Meta          2.150010  
    Cwd                 3.74      
    ExtUtils::CBuilder  0.280230  
    ExtUtils::Command   7.34      
    ExtUtils::Install   2.06      
    ExtUtils::MakeMaker 7.34      
    ExtUtils::Manifest  1.70      
    ExtUtils::ParseXS   3.31      
    File::Spec          3.74      
    JSON                2.97001   
    JSON::PP            2.27300_01
    Module::Build       0.4224    
    Module::Signature   0.81      
    Parse::CPAN::Meta   2.150010  
    Test::Harness       3.42      
    Test::More          1.302137  
    YAML                1.26      
    YAML::Syck          1.30      
    version             0.9916    


--

Summary of my perl5 (revision 5 version 24 subversion 4) configuration:
  Derived from: 901dd848e31de6d0cacfb77c029b4e92c41a13ce
  Platform:
    osname=linux, osvers=4.14.0-3-amd64, archname=x86_64-linux-ld
    uname='linux k93msid 4.14.0-3-amd64 #1 smp debian 4.14.12-2 (2018-01-06) x86_64 gnulinux '
    config_args='-Dprefix=/home/sand/src/perl/repoperls/installed-perls/host/k93msid/v5.24.4/af11 -Dmyhostname=k93msid -Dinstallusrbinperl=n -Uversiononly -Dusedevel -des -Ui_db -Dlibswanted=cl pthread socket inet nsl gdbm dbm malloc dl ld sun m crypt sec util c cposix posix ucb BSD gdbm_compat -Uuseithreads -Duselongdouble -DEBUGGING=-g'
    hint=recommended, useposix=true, d_sigaction=define
    useithreads=undef, usemultiplicity=undef
    use64bitint=define, use64bitall=define, uselongdouble=define
    usemymalloc=n, bincompat5005=undef
  Compiler:
    cc='cc', ccflags ='-fwrapv -fno-strict-aliasing -pipe -fstack-protector-strong -I/usr/local/include -D_LARGEFILE_SOURCE -D_FILE_OFFSET_BITS=64 -D_FORTIFY_SOURCE=2',
    optimize='-O2 -g',
    cppflags='-fwrapv -fno-strict-aliasing -pipe -fstack-protector-strong -I/usr/local/include'
    ccversion='', gccversion='7.2.0', gccosandvers=''
    intsize=4, longsize=8, ptrsize=8, doublesize=8, byteorder=12345678, doublekind=3
    d_longlong=define, longlongsize=8, d_longdbl=define, longdblsize=16, longdblkind=3
    ivtype='long', ivsize=8, nvtype='long double', nvsize=16, Off_t='off_t', lseeksize=8
    alignbytes=16, prototype=define
  Linker and Libraries:
    ld='cc', ldflags =' -fstack-protector-strong -L/usr/local/lib'
    libpth=/usr/local/lib /usr/lib/gcc/x86_64-linux-gnu/7/include-fixed /usr/include/x86_64-linux-gnu /usr/lib /lib/x86_64-linux-gnu /lib/../lib /usr/lib/x86_64-linux-gnu /usr/lib/../lib /lib
    libs=-lpthread -lnsl -ldl -lm -lcrypt -lutil -lc
    perllibs=-lpthread -lnsl -ldl -lm -lcrypt -lutil -lc
    libc=libc-2.26.so, so=so, useshrplib=false, libperl=libperl.a
    gnulibc_version='2.26'
  Dynamic Linking:
    dlsrc=dl_dlopen.xs, dlext=so, d_dlsymun=undef, ccdlflags='-Wl,-E'
    cccdlflags='-fPIC', lddlflags='-shared -O2 -g -L/usr/local/lib -fstack-protector-strong'


Characteristics of this binary (from libperl): 
  Compile-time options: HAS_TIMES PERLIO_LAYERS PERL_COPY_ON_WRITE
                        PERL_DONT_CREATE_GVSV
                        PERL_HASH_FUNC_ONE_AT_A_TIME_HARD PERL_MALLOC_WRAP
                        PERL_PRESERVE_IVUV PERL_USE_DEVEL USE_64_BIT_ALL
                        USE_64_BIT_INT USE_LARGE_FILES USE_LOCALE
                        USE_LOCALE_COLLATE USE_LOCALE_CTYPE
                        USE_LOCALE_NUMERIC USE_LOCALE_TIME USE_LONG_DOUBLE
                        USE_PERLIO USE_PERL_ATOF
  Locally applied patches:
	uncommitted-changes
  Built under linux
  Compiled at May 23 2018 19:48:52
  %ENV:
    PERL5LIB=""
    PERL5OPT=""
    PERL5_CPANPLUS_IS_RUNNING="15765"
    PERL5_CPAN_IS_RUNNING="15765"
    PERL_CANARY_STABILITY_NOPROMPT="1"
    PERL_MM_USE_DEFAULT="1"
    PERL_USE_UNSAFE_INC="1"
  @INC:
    /home/sand/src/perl/repoperls/installed-perls/host/k93msid/v5.24.4/af11/lib/site_perl/5.24.4/x86_64-linux-ld
    /home/sand/src/perl/repoperls/installed-perls/host/k93msid/v5.24.4/af11/lib/site_perl/5.24.4
    /home/sand/src/perl/repoperls/installed-perls/host/k93msid/v5.24.4/af11/lib/5.24.4/x86_64-linux-ld
    /home/sand/src/perl/repoperls/installed-perls/host/k93msid/v5.24.4/af11/lib/5.24.4
    .