libwww-perl v6.77 Perl 5 v5.41.4 MSWin32-x64-multi-thread
- Status
- Pass
- From
- twata
- Dist
-
libwww-perl v6.77
- Platform
- Perl 5 v5.41.4 MSWin32-x64-multi-thread
- Date
- 2024-09-22 03:29:44
- ID
- b190e303-6eb8-1014-a2d7-89d1373f521d
This distribution has been tested as part of the CPAN Testers
project, supporting the Perl programming language. See
http://wiki.cpantesters.org/ for more information or email
questions to cpan-testers-discuss@perl.org
--
Dear OALDERS,
This is a computer-generated report for libwww-perl-6.77
on perl 5.41.4, created by App::cpanminus::reporter 0.17 (1.7047).
Thank you for uploading your work to CPAN. Congratulations!
All tests were successful.
Sections of this report:
* Tester comments
* Program output
* Prerequisites
* Environment and other context
------------------------------
TESTER COMMENTS
------------------------------
Additional comments from tester:
none provided
------------------------------
PROGRAM OUTPUT
------------------------------
Output from '':
Building and testing libwww-perl-6.77
Microsoft (R) Program Maintenance Utility Version 14.33.31630.0
Copyright (C) Microsoft Corporation. All rights reserved.
cp lib/LWP/UserAgent.pm blib\lib\LWP\UserAgent.pm
cp lib/LWP/Protocol/mailto.pm blib\lib\LWP\Protocol\mailto.pm
cp lib/LWP.pm blib\lib\LWP.pm
cp lib/LWP/Protocol/gopher.pm blib\lib\LWP\Protocol\gopher.pm
cp lib/LWP/Protocol/nntp.pm blib\lib\LWP\Protocol\nntp.pm
cp lib/LWP/RobotUA.pm blib\lib\LWP\RobotUA.pm
cp lib/LWP/Authen/Digest.pm blib\lib\LWP\Authen\Digest.pm
cp lib/LWP/Protocol/nogo.pm blib\lib\LWP\Protocol\nogo.pm
cp lib/LWP/Authen/Basic.pm blib\lib\LWP\Authen\Basic.pm
cp lib/LWP/ConnCache.pm blib\lib\LWP\ConnCache.pm
cp lib/LWP/Authen/Ntlm.pm blib\lib\LWP\Authen\Ntlm.pm
cp lib/LWP/Protocol.pm blib\lib\LWP\Protocol.pm
cp lib/LWP/DebugFile.pm blib\lib\LWP\DebugFile.pm
cp lwpcook.pod blib\lib\lwpcook.pod
cp lib/LWP/Protocol/cpan.pm blib\lib\LWP\Protocol\cpan.pm
cp lib/LWP/Debug.pm blib\lib\LWP\Debug.pm
cp lib/LWP/MemberMixin.pm blib\lib\LWP\MemberMixin.pm
cp lib/LWP/Debug/TraceHTTP.pm blib\lib\LWP\Debug\TraceHTTP.pm
cp lib/LWP/Protocol/http.pm blib\lib\LWP\Protocol\http.pm
cp lib/LWP/Simple.pm blib\lib\LWP\Simple.pm
cp lib/LWP/Protocol/ftp.pm blib\lib\LWP\Protocol\ftp.pm
cp lib/LWP/Protocol/loopback.pm blib\lib\LWP\Protocol\loopback.pm
cp lib/LWP/Protocol/data.pm blib\lib\LWP\Protocol\data.pm
cp lib/LWP/Protocol/file.pm blib\lib\LWP\Protocol\file.pm
cp lwptut.pod blib\lib\lwptut.pod
"C:\perl64\5.41.4\bin\perl.exe" -MExtUtils::Command -e cp -- bin/lwp-download blib\script\lwp-download
pl2bat.bat blib\script\lwp-download
"C:\perl64\5.41.4\bin\perl.exe" -MExtUtils::Command -e cp -- bin/lwp-dump blib\script\lwp-dump
pl2bat.bat blib\script\lwp-dump
"C:\perl64\5.41.4\bin\perl.exe" -MExtUtils::Command -e cp -- bin/lwp-mirror blib\script\lwp-mirror
pl2bat.bat blib\script\lwp-mirror
"C:\perl64\5.41.4\bin\perl.exe" -MExtUtils::Command -e cp -- bin/lwp-request blib\script\lwp-request
pl2bat.bat blib\script\lwp-request
Microsoft (R) Program Maintenance Utility Version 14.33.31630.0
Copyright (C) Microsoft Corporation. All rights reserved.
"C:\perl64\5.41.4\bin\perl.exe" "-MExtUtils::Command::MM" "-MTest::Harness" "-e" "undef *Test::Harness::Switches; test_harness(0, 'blib\lib', 'blib\arch')" t\*.t t\base\*.t t\base\protocols\*.t t\leak\*.t t\local\*.t t\robot\*.t
#
# Versions for all modules listed in MYMETA.json (including optional ones):
#
# === Configure Requires ===
#
# Module Want Have
# ------------------- ---- ----
# ExtUtils::MakeMaker any 7.70
# File::Copy any 2.41
# Getopt::Long any 2.58
#
# === Configure Suggests ===
#
# Module Want Have
# -------- ------- ----
# JSON::PP 2.27300 4.16
#
# === Build Requires ===
#
# Module Want Have
# ------------------- ---- ----
# ExtUtils::MakeMaker any 7.70
#
# === Test Requires ===
#
# Module Want Have
# ---------------------- ---- --------
# ExtUtils::MakeMaker any 7.70
# File::Spec any 3.93
# FindBin any 1.54
# HTTP::CookieJar::LWP any 0.014
# HTTP::Daemon 6.12 6.16
# Test::Fatal any 0.017
# Test::More 0.96 1.302204
# Test::Needs any 0.002010
# Test::RequiresInternet any 0.05
#
# === Test Recommends ===
#
# Module Want Have
# --------------- -------- --------
# CPAN::Meta 2.120900 2.150010
# Test::LeakTrace any 0.17
#
# === Runtime Requires ===
#
# Module Want Have
# --------------------- -------- --------
# Digest::MD5 any 2.58_01
# Encode 2.12 3.21
# Encode::Locale any 1.05
# File::Copy any 2.41
# File::Listing 6 6.16
# File::Temp any 0.2311
# Getopt::Long any 2.58
# HTML::Entities any 3.83
# HTML::HeadParser 3.71 3.83
# HTTP::Cookies 6 6.11
# HTTP::Date 6 6.06
# HTTP::Negotiate 6 6.01
# HTTP::Request 6.18 6.46
# HTTP::Request::Common 6.18 6.46
# HTTP::Response 6.18 6.46
# HTTP::Status 6.18 6.46
# IO::Select any 1.55
# IO::Socket any 1.55
# LWP::MediaTypes 6 6.04
# MIME::Base64 2.1 3.16_01
# Module::Load any 0.36
# Net::FTP 2.58 3.15
# Net::HTTP 6.18 6.23
# Scalar::Util any 1.66
# Try::Tiny any 0.32
# URI 1.10 5.29
# URI::Escape any 5.29
# WWW::RobotRules 6 6.02
# parent 0.217 0.242
# perl 5.008001 5.041004
# strict any 1.13
# warnings any 1.70
#
# === Runtime Suggests ===
#
# Module Want Have
# -------------------- ---- -------
# Authen::NTLM 1.02 missing
# Data::Dump 1.13 missing
# IO::Socket::INET any 1.55
# LWP::Protocol::https 6.02 6.14
#
t\00-report-prereqs.t .......... ok
t\10-attrs.t ................... ok
t\base\default_content_type.t .. ok
t\base\protocols.t ............. ok
t\base\protocols\nntp.t ........ skipped: nntp.perl.org is unstable and Test::RequiresInternet is not catching it
t\base\proxy.t ................. ok
t\base\proxy_request.t ......... ok
t\base\simple.t ................ ok
t\base\ua.t .................... ok
t\base\ua_handlers.t ........... ok
t\leak\no_leak.t ............... ok
t\local\autoload-get.t ......... ok
t\local\autoload.t ............. ok
t\local\cookie_jar.t ........... ok
t\local\download_to_fh.t ....... ok
t\local\get.t .................. ok
t\local\http.t ................. ok
t\local\httpsub.t .............. ok
t\local\protosub.t ............. ok
t\redirect.t ................... ok
t\robot\ua-get.t ............... ok
t\robot\ua.t ................... ok
All tests successful.
Test Summary Report
-------------------
t\base\proxy.t (Wstat: 0 Tests: 8 Failed: 0)
TODO passed: 8
Files=22, Tests=317, 40 wallclock secs ( 0.22 usr + 0.09 sys = 0.31 CPU)
Result: PASS
------------------------------
PREREQUISITES
------------------------------
Prerequisite modules loaded:
No requirements found
------------------------------
ENVIRONMENT AND OTHER CONTEXT
------------------------------
Environment variables:
COMSPEC = C:\WINDOWS\system32\cmd.exe
INCLUDE = C:\Program Files\Microsoft Visual Studio\2022\Community\VC\Tools\MSVC\14.33.31629\include;C:\Program Files\Microsoft Visual Studio\2022\Community\VC\Tools\MSVC\14.33.31629\ATLMFC\include;C:\Program Files\Microsoft Visual Studio\2022\Community\VC\Auxiliary\VS\include;C:\Program Files (x86)\Windows Kits\10\include\10.0.19041.0\ucrt;C:\Program Files (x86)\Windows Kits\10\\include\10.0.19041.0\\um;C:\Program Files (x86)\Windows Kits\10\\include\10.0.19041.0\\shared;C:\Program Files (x86)\Windows Kits\10\\include\10.0.19041.0\\winrt;C:\Program Files (x86)\Windows Kits\10\\include\10.0.19041.0\\cppwinrt;C:\ext\include;C:\perl64\local\include
LC_ALL = C
LIB = C:\Program Files\Microsoft Visual Studio\2022\Community\VC\Tools\MSVC\14.33.31629\ATLMFC\lib\x64;C:\Program Files\Microsoft Visual Studio\2022\Community\VC\Tools\MSVC\14.33.31629\lib\x64;C:\Program Files (x86)\Windows Kits\10\lib\10.0.19041.0\ucrt\x64;C:\Program Files (x86)\Windows Kits\10\\lib\10.0.19041.0\\um\x64
NUMBER_OF_PROCESSORS = 4
PATH = C:\home\oat5414\perl5\bin;C:\perl64\5.41.4\bin;C:\build-openssl\bin;C:\ext\bin;C:\Program Files\Microsoft Visual Studio\2022\Community\VC\Tools\MSVC\14.33.31629\bin\HostX64\x64;C:\Program Files\Microsoft Visual Studio\2022\Community\Common7\IDE\VC\VCPackages;C:\Program Files\Microsoft Visual Studio\2022\Community\Common7\IDE\CommonExtensions\Microsoft\TestWindow;C:\Program Files\Microsoft Visual Studio\2022\Community\Common7\IDE\CommonExtensions\Microsoft\TeamFoundation\Team Explorer;C:\Program Files\Microsoft Visual Studio\2022\Community\MSBuild\Current\bin\Roslyn;C:\Program Files\Microsoft Visual Studio\2022\Community\Team Tools\Performance Tools\x64;C:\Program Files\Microsoft Visual Studio\2022\Community\Team Tools\Performance Tools;C:\Program Files (x86)\Windows Kits\10\bin\10.0.19041.0\\x64;C:\Program Files (x86)\Windows Kits\10\bin\\x64;C:\Program Files\Microsoft Visual Studio\2022\Community\\MSBuild\Current\Bin\amd64;C:\Windows\Microsoft.NET\Framework64\v4.0.30319;C:\Program Files\Microsoft Visual Studio\2022\Community\Common7\IDE\;C:\Program Files\Microsoft Visual Studio\2022\Community\Common7\Tools\;C:\Program Files (x86)\Windows Resource Kits\Tools\;C:\WINDOWS\system32;C:\WINDOWS;C:\WINDOWS\System32\Wbem;C:\WINDOWS\System32\WindowsPowerShell\v1.0\;C:\Program Files\Microsoft Visual Studio\2022\Community\Common7\IDE\CommonExtensions\Microsoft\CMake\CMake\bin;C:\Program Files\Microsoft Visual Studio\2022\Community\Common7\IDE\CommonExtensions\Microsoft\CMake\Ninja;C:\Program Files\Microsoft Visual Studio\2022\Community\Common7\IDE\VC\Linux\bin\ConnectionManagerExe
PERL5LIB = C:\home\oat5414\perl5\lib\perl5
PERL_LOCAL_LIB_ROOT = C:\home\oat5414\perl5
PERL_MB_OPT = --install_base "C:\\home\\oat5414\\perl5"
PERL_MM_OPT = INSTALL_BASE=C:\\home\\oat5414\\perl5
PROCESSOR_IDENTIFIER = Intel64 Family 6 Model 58 Stepping 9, GenuineIntel
TEMP = C:\Users\USER\AppData\Local\Temp
TERM = dumb
Perl special variables (and OS-specific diagnostics, for MSWin32):
EGID = 0
EUID = 0
EXECUTABLE_NAME = C:\perl64\5.41.4\bin\perl.exe
GID = 0
UID = 0
Win32::FsType = NTFS
Win32::GetOSName = Win8.1
Win32::GetOSVersion = , 6, 3, 9600, 2, 0, 0, 256, 1
Win32::IsAdminUser = 0
Perl module toolchain versions installed:
Module Have
------------------- --------
CPAN 2.37
CPAN::Meta 2.150010
Cwd 3.92
ExtUtils::CBuilder 0.280240
ExtUtils::Command 7.70
ExtUtils::Install 2.22
ExtUtils::MakeMaker 7.70
ExtUtils::Manifest 1.75
ExtUtils::ParseXS 3.54
File::Spec 3.93
JSON n/a
JSON::PP 4.16
Module::Build 0.4234
Module::Signature n/a
Parse::CPAN::Meta 2.150010
Test::Harness 3.50
Test::More 1.302204
YAML n/a
YAML::Syck n/a
version 0.9933
--
Summary of my perl5 (revision 5 version 41 subversion 4) configuration:
Platform:
osname=MSWin32
osvers=6.3.9600
archname=MSWin32-x64-multi-thread
uname=''
config_args='undef'
hint=recommended
useposix=true
d_sigaction=undef
useithreads=define
usemultiplicity=define
use64bitint=define
use64bitall=undef
uselongdouble=undef
usemymalloc=n
default_inc_excludes_dot=define
Compiler:
cc='cl'
ccflags ='-nologo -GF -W3 -MD -DWIN32 -D_CONSOLE -DNO_STRICT -DWIN64 -D_CRT_SECURE_NO_DEPRECATE -D_CRT_NONSTDC_NO_DEPRECATE -D_WINSOCK_DEPRECATED_NO_WARNINGS -DPERL_TEXTMODE_SCRIPTS -DMULTIPLICITY -DPERL_IMPLICIT_SYS'
optimize='-O1 -Zi -GL -fp:precise'
cppflags='-DWIN32'
ccversion='19.33.31630'
gccversion=''
gccosandvers=''
intsize=4
longsize=4
ptrsize=8
doublesize=8
byteorder=12345678
doublekind=3
d_longlong=undef
longlongsize=8
d_longdbl=define
longdblsize=8
longdblkind=0
ivtype='__int64'
ivsize=8
nvtype='double'
nvsize=8
Off_t='__int64'
lseeksize=8
alignbytes=8
prototype=define
Linker and Libraries:
ld='link'
ldflags ='-nologo -nodefaultlib -debug -opt:ref,icf -ltcg -libpath:"c:\perl64\5.41.4\lib\CORE" -machine:AMD64 -subsystem:console,"5.02"'
libpth="C:\Program Files\Microsoft Visual Studio\2022\Community\VC\Tools\MSVC\14.33.31629\\lib\x64"
libs=oldnames.lib kernel32.lib user32.lib gdi32.lib winspool.lib comdlg32.lib advapi32.lib shell32.lib ole32.lib oleaut32.lib netapi32.lib uuid.lib ws2_32.lib mpr.lib winmm.lib version.lib odbc32.lib odbccp32.lib comctl32.lib msvcrt.lib vcruntime.lib ucrt.lib
perllibs=oldnames.lib kernel32.lib user32.lib gdi32.lib winspool.lib comdlg32.lib advapi32.lib shell32.lib ole32.lib oleaut32.lib netapi32.lib uuid.lib ws2_32.lib mpr.lib winmm.lib version.lib odbc32.lib odbccp32.lib comctl32.lib msvcrt.lib vcruntime.lib ucrt.lib
libc=ucrt.lib
so=dll
useshrplib=true
libperl=perl541.lib
gnulibc_version=''
Dynamic Linking:
dlsrc=dl_win32.xs
dlext=dll
d_dlsymun=undef
ccdlflags=' '
cccdlflags=' '
lddlflags='-dll -nologo -nodefaultlib -debug -opt:ref,icf -ltcg -libpath:"c:\perl64\5.41.4\lib\CORE" -machine:AMD64 -subsystem:console,"5.02"'
Characteristics of this binary (from libperl):
Compile-time options:
HAS_LONG_DOUBLE
HAS_TIMES
HAVE_INTERP_INTERN
MULTIPLICITY
PERLIO_LAYERS
PERL_COPY_ON_WRITE
PERL_DONT_CREATE_GVSV
PERL_HASH_FUNC_SIPHASH13
PERL_HASH_USE_SBOX32
PERL_IMPLICIT_SYS
PERL_MALLOC_WRAP
PERL_OP_PARENT
PERL_PRESERVE_IVUV
PERL_USE_SAFE_PUTENV
USE_64_BIT_INT
USE_ITHREADS
USE_LARGE_FILES
USE_LOCALE
USE_LOCALE_COLLATE
USE_LOCALE_CTYPE
USE_LOCALE_NUMERIC
USE_LOCALE_TIME
USE_PERLIO
USE_PERL_ATOF
USE_THREAD_SAFE_LOCALE
Built under MSWin32
Compiled at Sep 21 2024 14:57:29
%ENV:
PERL5LIB="C:\home\oat5414\perl5\lib\perl5"
PERL_LOCAL_LIB_ROOT="C:\home\oat5414\perl5"
PERL_MB_OPT="--install_base "C:\\home\\oat5414\\perl5""
PERL_MM_OPT="INSTALL_BASE=C:\\home\\oat5414\\perl5"
@INC:
C:\home\oat5414\perl5\lib\perl5/MSWin32-x64-multi-thread
C:\home\oat5414\perl5\lib\perl5
C:/perl64/site/5.41.4/lib
C:/perl64/5.41.4/lib