Report for HTTP-Engine-Middleware-0.22

Back
From: metabase:user:315f03b2-2aae-11df-837a-5e0a49663a4f
Subject: PASS HTTP-Engine-Middleware-0.22 v5.14.2 NetBSD
Date: 2013-03-03T13:24:36Z

This distribution has been tested as part of the CPAN Testers
project, supporting the Perl programming language.  See
http://wiki.cpantesters.org/ for more information or email
questions to cpan-testers-discuss@perl.org


--
Dear Kazuhiro Osawa,

This is a computer-generated report for HTTP-Engine-Middleware-0.22
on perl 5.14.2, created by CPAN-Reporter-1.2009.

Thank you for uploading your work to CPAN.  Congratulations!
All tests were successful.

Sections of this report:

    * Tester comments
    * Program output
    * Prerequisites
    * Environment and other context

------------------------------
TESTER COMMENTS
------------------------------

Additional comments from tester:

this report is from an automated smoke testing program
and was not reviewed by a human for accuracy

------------------------------
PROGRAM OUTPUT
------------------------------

Output from '/usr/bin/make test':

PERL_DL_NONLAZY=1 /home/smoke/perl5/perlbrew/perls/perl-5.14.2/bin/perl "-MExtUtils::Command::MM" "-e" "test_harness(0, 'inc', 'blib/lib', 'blib/arch')" t/*.t t/*/*.t t/*/*/*.t t/moose/*/*/*.t
t/00_compile.t .................................. ok
t/100_core/install_middleware.t ................. ok
t/100_core/method_injection.t ................... ok
t/100_core/skip_response.t ...................... ok
t/100_core/use.t ................................ ok
t/100_core/wrap.t ............................... ok
t/200_middlewares/accesslog.t ................... ok
t/200_middlewares/debugrequest.t ................ ok
t/200_middlewares/debugscreen.t ................. ok
t/200_middlewares/docomo_guid.t ................. ok
t/200_middlewares/encode.t ...................... ok
t/200_middlewares/fillin_form.t ................. ok
t/200_middlewares/httpsession.t ................. ok
t/200_middlewares/methodoverride.t .............. ok
t/200_middlewares/mobile_attribute.t ............ ok
t/200_middlewares/profile-runtime.t ............. ok
t/200_middlewares/profile.t ..................... ok
t/200_middlewares/reverseproxy.t ................ ok
t/200_middlewares/static.t ...................... ok
t/200_middlewares/static_404handler.t ........... ok
t/200_middlewares/status-memory.t ............... skipped: Set TEST_STATUS_MEMORY environment variable to run this test
t/200_middlewares/status.t ...................... ok
t/200_middlewares/uploadtemp/base_dir.t ......... ok
t/200_middlewares/uploadtemp/cleanup.t .......... ok
t/200_middlewares/uploadtemp/default.t .......... ok
t/200_middlewares/uploadtemp/keepalive.t ........ ok
t/200_middlewares/uploadtemp/keepalive_off.t .... ok
t/200_middlewares/uploadtemp/lazy.t ............. ok
t/200_middlewares/uploadtemp/template.t ......... ok
t/200_middlewares/uploadtemp/tmpdir.t ........... ok
t/200_middlewares/uploadtemp/tmpdir_template.t .. ok
t/moose/00_compile.t ............................ ok
t/moose/100_core/install_middleware.t ........... ok
t/moose/100_core/method_injection.t ............. ok
t/moose/100_core/skip_response.t ................ ok
t/moose/100_core/use.t .......................... ok
t/moose/100_core/wrap.t ......................... ok
t/moose/200_middlewares/accesslog.t ............. ok
t/moose/200_middlewares/debugrequest.t .......... ok
t/moose/200_middlewares/debugscreen.t ........... ok
t/moose/200_middlewares/docomo_guid.t ........... ok
t/moose/200_middlewares/encode.t ................ ok
t/moose/200_middlewares/fillin_form.t ........... ok
t/moose/200_middlewares/httpsession.t ........... ok
t/moose/200_middlewares/methodoverride.t ........ ok
t/moose/200_middlewares/mobile_attribute.t ...... ok
t/moose/200_middlewares/profile-runtime.t ....... ok
t/moose/200_middlewares/profile.t ............... ok
t/moose/200_middlewares/reverseproxy.t .......... ok
t/moose/200_middlewares/static.t ................ ok
t/moose/200_middlewares/static_404handler.t ..... ok
t/moose/200_middlewares/status-memory.t ......... skipped: Set TEST_STATUS_MEMORY environment variable to run this test
t/moose/200_middlewares/status.t ................ ok
t/moose/uploadtemp/base_dir.t ................... ok
t/moose/uploadtemp/cleanup.t .................... ok
t/moose/uploadtemp/default.t .................... ok
t/moose/uploadtemp/keepalive.t .................. ok
t/moose/uploadtemp/keepalive_off.t .............. ok
t/moose/uploadtemp/lazy.t ....................... ok
t/moose/uploadtemp/template.t ................... ok
t/moose/uploadtemp/tmpdir.t ..................... ok
t/moose/uploadtemp/tmpdir_template.t ............ ok
All tests successful.
Files=62, Tests=1006, 44 wallclock secs ( 0.45 usr  0.12 sys + 40.22 cusr  3.08 csys = 43.87 CPU)
Result: PASS

------------------------------
PREREQUISITES
------------------------------

Prerequisite modules loaded:

requires:

    Module              Need    Have    
    ------------------- ------- --------
    Any::Moose          0.09    0.20    
    Filter::Util::Call  0       1.08    
    HTTP::Engine        0.03004 0.03005 
    HTTP::Request       0       6.00    
    Mouse               0.23    1.05    
    perl                5.00800 5.014002

build_requires:

    Module              Need    Have    
    ------------------- ------- --------
    ExtUtils::MakeMaker 6.42    6.64    
    IO::Scalar          0       2.110   
    Test::More          0       0.98    
    YAML                0       0.73    

configure_requires:

    Module              Need    Have    
    ------------------- ------- --------
    ExtUtils::MakeMaker 6.42    6.64    


------------------------------
ENVIRONMENT AND OTHER CONTEXT
------------------------------

Environment variables:

    AUTOMATED_TESTING = 1
    MANPATH_WITHOUT_PERLBREW = 
    PATH = /home/smoke/perl5/perlbrew/bin:/home/smoke/perl5/perlbrew/perls/perl-5.14.2/bin:/home/smoke/bin:/bin:/sbin:/usr/bin:/usr/sbin:/usr/X11R7/bin:/usr/X11R6/bin:/usr/pkg/bin:/usr/pkg/sbin:/usr/games:/usr/local/bin:/usr/local/sbin
    PATH_WITHOUT_PERLBREW = /home/smoke/bin:/bin:/sbin:/usr/bin:/usr/sbin:/usr/X11R7/bin:/usr/X11R6/bin:/usr/pkg/bin:/usr/pkg/sbin:/usr/games:/usr/local/bin:/usr/local/sbin
    PERL5LIB = 
    PERL5OPT = 
    PERL5_CPANPLUS_IS_RUNNING = 6019
    PERL5_CPAN_IS_RUNNING = 6019
    PERL5_CPAN_IS_RUNNING_IN_RECURSION = 2346,6019
    PERLBREW_BASHRC_VERSION = 0.41
    PERLBREW_HOME = /home/smoke/.perlbrew
    PERLBREW_MANPATH = /home/smoke/perl5/perlbrew/perls/perl-5.14.2/man
    PERLBREW_PATH = /home/smoke/perl5/perlbrew/bin:/home/smoke/perl5/perlbrew/perls/perl-5.14.2/bin
    PERLBREW_PERL = perl-5.14.2
    PERLBREW_ROOT = /home/smoke/perl5/perlbrew
    PERLBREW_VERSION = 0.41
    PERL_CR_SMOKER_CURRENT = HTTP-Engine-Middleware-0.22
    PERL_EXTUTILS_AUTOINSTALL = --defaultdeps
    PERL_MM_USE_DEFAULT = 1
    SHELL = /usr/pkg/bin/bash
    TERM = xterm-color

Perl special variables (and OS-specific diagnostics, for MSWin32):

    $^X = /home/smoke/perl5/perlbrew/perls/perl-5.14.2/bin/perl
    $UID/$EUID = 1002 / 1002
    $GID = 100 100
    $EGID = 100 100

Perl module toolchain versions installed:

    Module              Have     
    ------------------- ---------
    CPAN                1.9600_01
    CPAN::Meta          2.120921 
    Cwd                 3.40     
    ExtUtils::CBuilder  0.280205 
    ExtUtils::Command   1.17     
    ExtUtils::Install   1.56     
    ExtUtils::MakeMaker 6.64     
    ExtUtils::Manifest  1.61     
    ExtUtils::ParseXS   3.18     
    File::Spec          3.40     
    JSON                2.53     
    JSON::PP            2.27008  
    Module::Build       0.4003   
    Module::Signature   n/a      
    Parse::CPAN::Meta   1.4404   
    Test::Harness       3.26     
    Test::More          0.98     
    YAML                0.73     
    YAML::Syck          1.23     
    version             0.9901   


--

Summary of my perl5 (revision 5 version 14 subversion 2) configuration:
   
  Platform:
    osname=netbsd, osvers=6.0.1, archname=i386-netbsd
    uname='netbsd prickle.zeroclue.com 6.0.1 netbsd 6.0.1 (generic) i386 '
    config_args='-de -Dprefix=/home/smoke/perl5/perlbrew/perls/perl-5.14.2'
    hint=recommended, useposix=true, d_sigaction=define
    useithreads=undef, usemultiplicity=undef
    useperlio=define, d_sfio=undef, uselargefiles=define, usesocks=undef
    use64bitint=undef, use64bitall=undef, uselongdouble=undef
    usemymalloc=n, bincompat5005=undef
  Compiler:
    cc='cc', ccflags ='-fno-strict-aliasing -pipe -fstack-protector -I/usr/pkg/include',
    optimize='-O',
    cppflags='-fno-strict-aliasing -pipe -fstack-protector -I/usr/pkg/include'
    ccversion='', gccversion='4.5.3', gccosandvers=''
    intsize=4, longsize=4, ptrsize=4, doublesize=8, byteorder=1234
    d_longlong=define, longlongsize=8, d_longdbl=define, longdblsize=12
    ivtype='long', ivsize=4, nvtype='double', nvsize=8, Off_t='off_t', lseeksize=8
    alignbytes=4, prototype=define
  Linker and Libraries:
    ld='cc', ldflags =' -Wl,-rpath,/usr/pkg/lib -Wl,-rpath,/usr/local/lib -fstack-protector -L/usr/pkg/lib'
    libpth=/usr/pkg/lib /lib /usr/lib
    libs=-lm -lcrypt -lutil -lc -lposix
    perllibs=-lm -lcrypt -lutil -lc -lposix
    libc=/lib/libc.so, so=so, useshrplib=false, libperl=libperl.a
    gnulibc_version=''
  Dynamic Linking:
    dlsrc=dl_dlopen.xs, dlext=so, d_dlsymun=undef, ccdlflags='-Wl,-E '
    cccdlflags='-DPIC -fPIC ', lddlflags='--whole-archive -shared  -L/usr/pkg/lib -fstack-protector'


Characteristics of this binary (from libperl): 
  Compile-time options: PERL_DONT_CREATE_GVSV PERL_MALLOC_WRAP
                        PERL_PRESERVE_IVUV USE_LARGE_FILES USE_PERLIO
                        USE_PERL_ATOF
  Built under netbsd
  Compiled at Feb  1 2013 00:11:44
  %ENV:
    PERL5LIB=""
    PERL5OPT=""
    PERL5_CPANPLUS_IS_RUNNING="6019"
    PERL5_CPAN_IS_RUNNING="6019"
    PERL5_CPAN_IS_RUNNING_IN_RECURSION="2346,6019"
    PERLBREW_BASHRC_VERSION="0.41"
    PERLBREW_HOME="/home/smoke/.perlbrew"
    PERLBREW_MANPATH="/home/smoke/perl5/perlbrew/perls/perl-5.14.2/man"
    PERLBREW_PATH="/home/smoke/perl5/perlbrew/bin:/home/smoke/perl5/perlbrew/perls/perl-5.14.2/bin"
    PERLBREW_PERL="perl-5.14.2"
    PERLBREW_ROOT="/home/smoke/perl5/perlbrew"
    PERLBREW_VERSION="0.41"
    PERL_CR_SMOKER_CURRENT="HTTP-Engine-Middleware-0.22"
    PERL_EXTUTILS_AUTOINSTALL="--defaultdeps"
    PERL_MM_USE_DEFAULT="1"
  @INC:
    /home/smoke/perl5/perlbrew/perls/perl-5.14.2/lib/site_perl/5.14.2/i386-netbsd
    /home/smoke/perl5/perlbrew/perls/perl-5.14.2/lib/site_perl/5.14.2
    /home/smoke/perl5/perlbrew/perls/perl-5.14.2/lib/5.14.2/i386-netbsd
    /home/smoke/perl5/perlbrew/perls/perl-5.14.2/lib/5.14.2
    .