DateTime-Format-Strptime v1.76 Perl 5 v5.31.6 cygwin-thread-multi

Status
Pass
From
Carlos Guevara
Dist
DateTime-Format-Strptime v1.76
Platform
Perl 5 v5.31.6 cygwin-thread-multi
Date
2019-11-09 08:32:39
ID
b1a474a5-6c00-1014-bf10-f6293d38e6d9
This distribution has been tested as part of the CPAN Testers
project, supporting the Perl programming language.  See
http://wiki.cpantesters.org/ for more information or email
questions to cpan-testers-discuss@perl.org


--
Dear Dave Rolsky,

This is a computer-generated report for DateTime-Format-Strptime-1.76
on perl 5.31.6, created by CPAN-Reporter-1.2018.

Thank you for uploading your work to CPAN.  Congratulations!
All tests were successful.

Sections of this report:

    * Tester comments
    * Program output
    * Prerequisites
    * Environment and other context

------------------------------
TESTER COMMENTS
------------------------------

Additional comments from tester:

none provided

------------------------------
PROGRAM OUTPUT
------------------------------

Output from '/usr/bin/make test':

PERL_DL_NONLAZY=1 "/home/cpan/bin/perl-blead/bin/perl5.31.6.exe" "-MExtUtils::Command::MM" "-MTest::Harness" "-e" "undef *Test::Harness::Switches; test_harness(0, 'blib/lib', 'blib/arch')" t/*.t
# 
# Versions for all modules listed in MYMETA.json (including optional ones):
# 
# === Configure Requires ===
# 
#     Module              Want Have
#     ------------------- ---- ----
#     ExtUtils::MakeMaker  any 7.38
# 
# === Configure Suggests ===
# 
#     Module      Want Have
#     -------- ------- ----
#     JSON::PP 2.27300 4.04
# 
# === Build Requires ===
# 
#     Module              Want Have
#     ------------------- ---- ----
#     ExtUtils::MakeMaker  any 7.38
# 
# === Test Requires ===
# 
#     Module              Want     Have
#     ------------------- ---- --------
#     ExtUtils::MakeMaker  any     7.38
#     File::Spec           any     3.78
#     Test::Builder        any 1.302168
#     Test::Fatal          any    0.014
#     Test::More          0.96 1.302168
#     Test::Warnings       any    0.027
#     lib                  any     0.65
#     utf8                 any     1.22
# 
# === Test Recommends ===
# 
#     Module         Want     Have
#     ---------- -------- --------
#     CPAN::Meta 2.120900 2.150010
# 
# === Runtime Requires ===
# 
#     Module                     Want  Have
#     -------------------------- ---- -----
#     Carp                        any  1.50
#     DateTime                   1.00  1.51
#     DateTime::Locale           1.23  1.25
#     DateTime::Locale::Base      any  1.25
#     DateTime::Locale::FromData  any  1.25
#     DateTime::TimeZone         2.09  2.37
#     Exporter                    any  5.74
#     Params::ValidationCompiler  any  0.30
#     Specio                     0.33  0.44
#     Specio::Declare             any  0.44
#     Specio::Exporter            any  0.44
#     Specio::Library::Builtins   any  0.44
#     Specio::Library::String     any  0.44
#     Try::Tiny                   any  0.30
#     constant                    any  1.33
#     parent                      any 0.237
#     strict                      any  1.11
#     warnings                    any  1.45
# 
t/00-report-prereqs.t ... ok
t/basic.t ............... ok
Subroutine olson_version redefined at /home/cpan/bin/perl-blead/lib/site_perl/5.31.6/DateTime/TimeZone/america/new_york.pm line 2062, <DATA> line 1.
Subroutine has_dst_changes redefined at /home/cpan/bin/perl-blead/lib/site_perl/5.31.6/DateTime/TimeZone/america/new_york.pm line 2064, <DATA> line 1.
Subroutine _max_year redefined at /home/cpan/bin/perl-blead/lib/site_perl/5.31.6/DateTime/TimeZone/america/new_york.pm line 2066, <DATA> line 1.
Subroutine _new_instance redefined at /home/cpan/bin/perl-blead/lib/site_perl/5.31.6/DateTime/TimeZone/america/new_york.pm line 2068, <DATA> line 1.
Subroutine _last_offset redefined at /home/cpan/bin/perl-blead/lib/site_perl/5.31.6/DateTime/TimeZone/america/new_york.pm line 2072, <DATA> line 1.
Subroutine _last_observance redefined at /home/cpan/bin/perl-blead/lib/site_perl/5.31.6/DateTime/TimeZone/america/new_york.pm line 2110, <DATA> line 1.
Subroutine _rules redefined at /home/cpan/bin/perl-blead/lib/site_perl/5.31.6/DateTime/TimeZone/america/new_york.pm line 2137, <DATA> line 1.
Subroutine olson_version redefined at /home/cpan/bin/perl-blead/lib/site_perl/5.31.6/DateTime/TimeZone/amERicA/new_YORK.pm line 2062, <DATA> line 1.
Subroutine has_dst_changes redefined at /home/cpan/bin/perl-blead/lib/site_perl/5.31.6/DateTime/TimeZone/amERicA/new_YORK.pm line 2064, <DATA> line 1.
Subroutine _max_year redefined at /home/cpan/bin/perl-blead/lib/site_perl/5.31.6/DateTime/TimeZone/amERicA/new_YORK.pm line 2066, <DATA> line 1.
Subroutine _new_instance redefined at /home/cpan/bin/perl-blead/lib/site_perl/5.31.6/DateTime/TimeZone/amERicA/new_YORK.pm line 2068, <DATA> line 1.
Subroutine _last_offset redefined at /home/cpan/bin/perl-blead/lib/site_perl/5.31.6/DateTime/TimeZone/amERicA/new_YORK.pm line 2072, <DATA> line 1.
Subroutine _last_observance redefined at /home/cpan/bin/perl-blead/lib/site_perl/5.31.6/DateTime/TimeZone/amERicA/new_YORK.pm line 2110, <DATA> line 1.
Subroutine _rules redefined at /home/cpan/bin/perl-blead/lib/site_perl/5.31.6/DateTime/TimeZone/amERicA/new_YORK.pm line 2137, <DATA> line 1.
t/edge.t ................ ok
t/errors.t .............. ok
t/format-datetime.t ..... ok
t/format-with-locale.t .. ok
t/import.t .............. ok
t/locale-de.t ........... ok
t/locale-en.t ........... ok
t/locale-ga.t ........... ok
t/locale-pt.t ........... ok
t/locale-zh.t ........... ok
t/zones.t ............... ok
All tests successful.
Files=13, Tests=142,  8 wallclock secs ( 0.09 usr  0.03 sys +  4.40 cusr  2.02 csys =  6.54 CPU)
Result: PASS

------------------------------
PREREQUISITES
------------------------------

Prerequisite modules loaded:

requires:

    Module                     Need Have    
    -------------------------- ---- --------
    Carp                       0    1.50    
    constant                   0    1.33    
    DateTime                   1.00 1.51    
    DateTime::Locale           1.23 1.25    
    DateTime::Locale::Base     0    1.25    
    DateTime::Locale::FromData 0    1.25    
    DateTime::TimeZone         2.09 2.37    
    Exporter                   0    5.74    
    Params::ValidationCompiler 0    0.30    
    parent                     0    0.237   
    Specio                     0.33 0.44    
    Specio::Declare            0    0.44    
    Specio::Exporter           0    0.44    
    Specio::Library::Builtins  0    0.44    
    Specio::Library::String    0    0.44    
    strict                     0    1.11    
    Try::Tiny                  0    0.30    
    warnings                   0    1.45    

build_requires:

    Module                     Need Have    
    -------------------------- ---- --------
    ExtUtils::MakeMaker        0    7.38    
    File::Spec                 0    3.78    
    lib                        0    0.65    
    Test::Builder              0    1.302168
    Test::Fatal                0    0.014   
    Test::More                 0.96 1.302168
    Test::Warnings             0    0.027   
    utf8                       0    1.22    

configure_requires:

    Module                     Need Have    
    -------------------------- ---- --------
    ExtUtils::MakeMaker        0    7.38    


------------------------------
ENVIRONMENT AND OTHER CONTEXT
------------------------------

Environment variables:

    COMSPEC = C:\Windows\system32\cmd.exe
    LANG = en_US.UTF-8
    LC_ALL = C
    NONINTERACTIVE_TESTING = 1
    NUMBER_OF_PROCESSORS = 1
    PATH = /home/cpan/bin/perl-blead/bin:/home/cpan/bin:/usr/local/bin:/usr/bin:/cygdrive/c/Windows/system32:/cygdrive/c/Windows:/cygdrive/c/Windows/System32/Wbem:/cygdrive/c/Windows/System32/WindowsPowerShell/v1.0:/cygdrive/c/Users/cpan/AppData/Local/Microsoft/WindowsApps
    PERL5LIB = 
    PERL5OPT = 
    PERL5_CPANPLUS_IS_RUNNING = 51959
    PERL5_CPAN_IS_RUNNING = 51959
    PERL_MM_USE_DEFAULT = 1
    PERL_USE_UNSAFE_INC = 1
    PERL_VERSION = blead
    PROCESSOR_IDENTIFIER = Intel64 Family 6 Model 69 Stepping 1, GenuineIntel
    SHELL = /bin/bash
    TEMP = /tmp
    TERM = xterm
    TMPDIR = /home/cpan/tmp

Perl special variables (and OS-specific diagnostics, for MSWin32):

    $^X = /home/cpan/bin/perl-blead/bin/perl5.31.6
    $UID/$EUID = 197609 / 197609
    $GID = 197121 197121 555 545 14 4 11 15 113 4095 66048 262154 401408
    $EGID = 197121 197121 555 545 14 4 11 15 113 4095 66048 262154 401408

Perl module toolchain versions installed:

    Module              Have    
    ------------------- --------
    CPAN                2.27    
    CPAN::Meta          2.150010
    Cwd                 3.78    
    ExtUtils::CBuilder  0.280233
    ExtUtils::Command   7.38    
    ExtUtils::Install   2.14    
    ExtUtils::MakeMaker 7.38    
    ExtUtils::Manifest  1.72    
    ExtUtils::ParseXS   3.40    
    File::Spec          3.78    
    JSON                4.02    
    JSON::PP            4.04    
    Module::Build       0.4229  
    Module::Signature   n/a     
    Parse::CPAN::Meta   2.150010
    Test::Harness       3.42    
    Test::More          1.302168
    YAML                1.29    
    YAML::Syck          n/a     
    version             0.9924  


--

Summary of my perl5 (revision 5 version 31 subversion 6) configuration:
  Commit id: c40875b79d69b9e963650c833a9d66f2fe6bbe0d
  Platform:
    osname=cygwin
    osvers=3.0.7(0.33853)
    archname=cygwin-thread-multi
    uname='cygwin_nt-10.0 cjg-cygwin 3.0.7(0.33853) 2019-04-30 18:08 x86_64 cygwin '
    config_args='-des -Dprefix=~/bin/perl-blead -Dscriptdir=~/bin/perl-blead/bin -Dusedevel -Duse64bitall -Duseithreads'
    hint=recommended
    useposix=true
    d_sigaction=define
    useithreads=define
    usemultiplicity=define
    use64bitint=define
    use64bitall=define
    uselongdouble=undef
    usemymalloc=n
    default_inc_excludes_dot=define
    bincompat5005=undef
  Compiler:
    cc='gcc'
    ccflags ='-DPERL_USE_SAFE_PUTENV -U__STRICT_ANSI__ -D_GNU_SOURCE -fwrapv -fno-strict-aliasing -pipe -fstack-protector-strong -D_FORTIFY_SOURCE=2'
    optimize='-O3'
    cppflags='-DPERL_USE_SAFE_PUTENV -U__STRICT_ANSI__ -D_GNU_SOURCE -fwrapv -fno-strict-aliasing -pipe -fstack-protector-strong'
    ccversion=''
    gccversion='7.4.0'
    gccosandvers=''
    intsize=4
    longsize=8
    ptrsize=8
    doublesize=8
    byteorder=12345678
    doublekind=3
    d_longlong=define
    longlongsize=8
    d_longdbl=define
    longdblsize=16
    longdblkind=3
    ivtype='long'
    ivsize=8
    nvtype='double'
    nvsize=8
    Off_t='off_t'
    lseeksize=8
    alignbytes=8
    prototype=define
  Linker and Libraries:
    ld='g++'
    ldflags =' -Wl,--enable-auto-import -Wl,--export-all-symbols -Wl,--enable-auto-image-base -fstack-protector-strong -L/usr/local/lib'
    libpth=/usr/lib /usr/lib/gcc/x86_64-pc-cygwin/7.4.0/../../../../lib/../include/w32api /usr/local/lib /lib
    libs=-lpthread -ldl
    perllibs=-lpthread -ldl
    libc=/usr/lib/libc.a
    so=dll
    useshrplib=true
    libperl=cygperl5_31_6.dll
    gnulibc_version=''
  Dynamic Linking:
    dlsrc=dl_dlopen.xs
    dlext=dll
    d_dlsymun=undef
    ccdlflags=' '
    cccdlflags=' '
    lddlflags=' --shared  -Wl,--enable-auto-import -Wl,--export-all-symbols -Wl,--enable-auto-image-base -L/usr/local/lib -fstack-protector-strong'


Characteristics of this binary (from libperl): 
  Compile-time options:
    HAS_TIMES
    MULTIPLICITY
    PERLIO_LAYERS
    PERL_COPY_ON_WRITE
    PERL_DONT_CREATE_GVSV
    PERL_IMPLICIT_CONTEXT
    PERL_MALLOC_WRAP
    PERL_OP_PARENT
    PERL_PRESERVE_IVUV
    PERL_USE_DEVEL
    PERL_USE_SAFE_PUTENV
    USE_64_BIT_ALL
    USE_64_BIT_INT
    USE_ITHREADS
    USE_LARGE_FILES
    USE_LOCALE
    USE_LOCALE_COLLATE
    USE_LOCALE_CTYPE
    USE_LOCALE_NUMERIC
    USE_LOCALE_TIME
    USE_PERLIO
    USE_PERL_ATOF
    USE_REENTRANT_API
    USE_THREAD_SAFE_LOCALE
  Built under cygwin
  Compiled at Nov  8 2019 21:01:00
  %ENV:
    PERL5LIB=""
    PERL5OPT=""
    PERL5_CPANPLUS_IS_RUNNING="51959"
    PERL5_CPAN_IS_RUNNING="51959"
    PERL_MM_USE_DEFAULT="1"
    PERL_USE_UNSAFE_INC="1"
    PERL_VERSION="blead"
  @INC:
    /home/cpan/bin/perl-blead/lib/site_perl/5.31.6/cygwin-thread-multi
    /home/cpan/bin/perl-blead/lib/site_perl/5.31.6
    /home/cpan/bin/perl-blead/lib/5.31.6/cygwin-thread-multi
    /home/cpan/bin/perl-blead/lib/5.31.6
    .