OpenERP-XMLRPC-Simple v0.25 Perl 5 v5.43.2 x86_64-linux
        
            - Status
 
            - Pass
 
            - From
 
            - Andreas J. König (ANDK)
 
            - Dist
 
            - 
                OpenERP-XMLRPC-Simple v0.25
            
 
            - Platform
 
            - Perl 5 v5.43.2 x86_64-linux
 
            - Date
 
            - 2025-09-03 15:07:22
 
            - ID
 
            - b1b1f0b8-88d7-11f0-99e1-e53940f64d75
 
        
        This distribution has been tested as part of the CPAN Testers
project, supporting the Perl programming language.  See
http://wiki.cpantesters.org/ for more information or email
questions to cpan-testers-discuss@perl.org
--
Dear Nicholas Booker,
This is a computer-generated report for OpenERP-XMLRPC-Simple-0.25
on perl 5.43.2, created by CPAN-Reporter-1.2020.
Thank you for uploading your work to CPAN.  Congratulations!
All tests were successful.
Sections of this report:
    * Tester comments
    * Program output
    * Prerequisites
    * Environment and other context
------------------------------
TESTER COMMENTS
------------------------------
Additional comments from tester:
this report is from an automated smoke testing program
and was not reviewed by a human for accuracy
------------------------------
PROGRAM OUTPUT
------------------------------
Output from '/usr/bin/make test':
PERL_DL_NONLAZY=1 "/tmp/basesmoker-reloperl-Cfju/bin/perl" "-MExtUtils::Command::MM" "-MTest::Harness" "-e" "undef *Test::Harness::Switches; test_harness(0, 'blib/lib', 'blib/arch')" t/*.t
# Testing OpenERP::XMLRPC::Client 
t/00-load.t ............ ok
# 
# Versions for all modules listed in MYMETA.json (including optional ones):
# 
# === Configure Requires ===
# 
#     Module              Want Have
#     ------------------- ---- ----
#     ExtUtils::MakeMaker  any 7.76
# 
# === Build Requires ===
# 
#     Module              Want Have
#     ------------------- ---- ----
#     ExtUtils::MakeMaker  any 7.76
# 
# === Test Requires ===
# 
#     Module              Want     Have
#     ------------------- ---- --------
#     Data::Dumper         any    2.192
#     ExtUtils::MakeMaker  any     7.76
#     File::ShareDir       any    1.118
#     File::Slurp          any  9999.32
#     File::Spec           any     3.94
#     FindBin              any     1.54
#     HTTP::Request        any     7.00
#     HTTP::Response       any     7.00
#     IO::File             any     1.55
#     Net::HTTPServer      any    1.1.1
#     Test::More          0.96 1.302214
#     XML::Simple          any     2.25
#     lib                  any     0.65
#     strict               any     1.14
#     warnings             any     1.74
# 
# === Test Recommends ===
# 
#     Module         Want     Have
#     ---------- -------- --------
#     CPAN::Meta 2.120900 2.150010
# 
# === Runtime Requires ===
# 
#     Module                       Want    Have
#     ---------------------------- ---- -------
#     MIME::Base64                  any 3.16_01
#     Moose                         any  2.4000
#     MooseX::Role::XMLRPC::Client  any    0.06
#     failures                      any   0.004
# 
t/00-report-prereqs.t .. ok
t/01-xmlrpc-client.t ... ok
# 
# #################################################################
# #                                                               #
# # The following tests are built to run against a Mock OpenERP.  #
# # (and will do, by default)                                     #
# # To run the tests against a real OpenERP please specify the    #
# # following $ENV variables                                      #
# #                                                               #
# #     OPENERP_SIMPLE_HOST - required!                           #
# #     OPENERP_SIMPLE_PORT - default = 8069                      #
# #     OPENERP_SIMPLE_NAME - default = terp                      #
# #     OPENERP_SIMPLE_USER - default = admin                     #
# #     OPENERP_SIMPLE_PASS - default = admin                     #
# #                                                               #
# #################################################################
# Testing against mock OpenERP server
t/02-xmlrpc-simple.t ... ok
t/author-critic.t ...... skipped: these tests are for testing by the author
t/pod.t ................ skipped: set TEST_POD to enable this test
All tests successful.
Files=6, Tests=26,  6 wallclock secs ( 0.03 usr  0.01 sys +  2.39 cusr  0.34 csys =  2.77 CPU)
Result: PASS
------------------------------
PREREQUISITES
------------------------------
Prerequisite modules loaded:
requires:
    Module                       Need  Have    
    ---------------------------- ----- --------
    failures                     0     0.004   
    MIME::Base64                 0     3.16_01 
    Moose                        0     2.4000  
    MooseX::Role::XMLRPC::Client 0     0.06    
    perl                         5.010 5.043002
build_requires:
    Module                       Need  Have    
    ---------------------------- ----- --------
    Data::Dumper                 0     2.192   
    ExtUtils::MakeMaker          0     7.76    
    File::ShareDir               0     1.118   
    File::Slurp                  0     9999.32 
    File::Spec                   0     3.94    
    FindBin                      0     1.54    
    HTTP::Request                0     7.00    
    HTTP::Response               0     7.00    
    IO::File                     0     1.55    
    lib                          0     0.65    
    Net::HTTPServer              0     1.1.1   
    strict                       0     1.14    
    Test::More                   0.96  1.302214
    warnings                     0     1.74    
    XML::Simple                  0     2.25    
configure_requires:
    Module                       Need  Have    
    ---------------------------- ----- --------
    ExtUtils::MakeMaker          0     7.76    
------------------------------
ENVIRONMENT AND OTHER CONTEXT
------------------------------
Environment variables:
    AUTOMATED_TESTING = 1
    LANG = en_US.UTF-8
    LC_ADDRESS = de_DE.UTF-8
    LC_IDENTIFICATION = de_DE.UTF-8
    LC_MEASUREMENT = de_DE.UTF-8
    LC_MONETARY = de_DE.UTF-8
    LC_NAME = de_DE.UTF-8
    LC_NUMERIC = de_DE.UTF-8
    LC_PAPER = de_DE.UTF-8
    LC_TELEPHONE = de_DE.UTF-8
    LC_TIME = de_DE.UTF-8
    PATH = /home/sand/bin:/usr/local/bin:/usr/local/sbin:/usr/sbin:/usr/bin:/sbin:/bin:/usr/games:/usr/local/games:/snap/bin:/usr/local/perl/bin:/usr/X11/bin
    PERL5LIB = /tmp/loop_over_bdir-1721494-QTfThW/shishi-0.0.1-0/blib/arch:/tmp/loop_over_bdir-1721494-QTfThW/shishi-0.0.1-0/blib/lib
    PERL5OPT = 
    PERL5_CPANPLUS_IS_RUNNING = 1721505
    PERL5_CPAN_IS_RUNNING = 1721505
    PERL_CANARY_STABILITY_NOPROMPT = 1
    PERL_MM_USE_DEFAULT = 1
    PERL_USE_UNSAFE_INC = 1
    SHELL = /usr/bin/zsh
    TERM = screen
Perl special variables (and OS-specific diagnostics, for MSWin32):
    $^X = /tmp/basesmoker-reloperl-Cfju/bin/perl
    $UID/$EUID = 1005 / 1005
    $GID = 1005 1005
    $EGID = 1005 1005
Perl module toolchain versions installed:
    Module              Have    
    ------------------- --------
    CPAN                2.38    
    CPAN::Meta          2.150010
    Cwd                 3.94    
    ExtUtils::CBuilder  0.280242
    ExtUtils::Command   7.76    
    ExtUtils::Install   2.22    
    ExtUtils::MakeMaker 7.76    
    ExtUtils::Manifest  1.75    
    ExtUtils::ParseXS   3.59    
    File::Spec          3.94    
    JSON                4.10    
    JSON::PP            4.16    
    Module::Build       0.4234  
    Module::Signature   0.93    
    Parse::CPAN::Meta   2.150010
    Test2               1.302214
    Test::Harness       3.52    
    Test::More          1.302214
    YAML                1.31    
    YAML::Syck          1.34    
    version             0.9933  
--
Summary of my perl5 (revision 5 version 43 subversion 2) configuration:
  Commit id: 7afd3f158f75d5730469889406f8f98c681d58c1
  Platform:
    osname=linux
    osvers=6.8.0-64-generic
    archname=x86_64-linux
    uname='linux k93jammy 6.8.0-64-generic #67~22.04.1-ubuntu smp preempt_dynamic tue jun 24 15:19:46 utc 2 x86_64 x86_64 x86_64 gnulinux '
    config_args='-Dprefix=/home/sand/src/perl/repoperls/installed-perls/host/k93jammy/v5.43.2/6567 -Dmyhostname=k93jammy -Dinstallusrbinperl=n -Uversiononly -Dusedevel -des -Ui_db -Dlibswanted=cl pthread socket inet nsl gdbm dbm malloc dl ld sun m crypt sec util c cposix posix ucb BSD gdbm_compat -Uuseithreads -Uuselongdouble -DEBUGGING=-g'
    hint=recommended
    useposix=true
    d_sigaction=define
    useithreads=undef
    usemultiplicity=undef
    use64bitint=define
    use64bitall=define
    uselongdouble=undef
    usemymalloc=n
    default_inc_excludes_dot=define
  Compiler:
    cc='cc'
    ccflags ='-fwrapv -fno-strict-aliasing -pipe -fstack-protector-strong -I/usr/local/include -D_LARGEFILE_SOURCE -D_FILE_OFFSET_BITS=64'
    optimize='-O2 -g'
    cppflags='-fwrapv -fno-strict-aliasing -pipe -fstack-protector-strong -I/usr/local/include'
    ccversion=''
    gccversion='11.4.0'
    gccosandvers=''
    intsize=4
    longsize=8
    ptrsize=8
    doublesize=8
    byteorder=12345678
    doublekind=3
    d_longlong=define
    longlongsize=8
    d_longdbl=define
    longdblsize=16
    longdblkind=3
    ivtype='long'
    ivsize=8
    nvtype='double'
    nvsize=8
    Off_t='off_t'
    lseeksize=8
    alignbytes=8
    prototype=define
  Linker and Libraries:
    ld='cc'
    ldflags =' -fstack-protector-strong -L/usr/local/lib'
    libpth=/usr/local/lib /usr/lib/x86_64-linux-gnu /usr/lib /usr/lib64
    libs=-lpthread -lnsl -ldl -lm -lcrypt -lutil -lc
    perllibs=-lpthread -lnsl -ldl -lm -lcrypt -lutil -lc
    libc=/lib/x86_64-linux-gnu/libc.so.6
    so=so
    useshrplib=false
    libperl=libperl.a
    gnulibc_version='2.35'
  Dynamic Linking:
    dlsrc=dl_dlopen.xs
    dlext=so
    d_dlsymun=undef
    ccdlflags='-Wl,-E'
    cccdlflags='-fPIC'
    lddlflags='-shared -O2 -g -L/usr/local/lib -fstack-protector-strong'
Characteristics of this binary (from libperl): 
  Compile-time options:
    HAS_LONG_DOUBLE
    HAS_STRTOLD
    HAS_TIMES
    PERLIO_LAYERS
    PERL_COPY_ON_WRITE
    PERL_DONT_CREATE_GVSV
    PERL_HASH_FUNC_SIPHASH13
    PERL_HASH_USE_SBOX32
    PERL_MALLOC_WRAP
    PERL_OP_PARENT
    PERL_PRESERVE_IVUV
    PERL_USE_DEVEL
    PERL_USE_SAFE_PUTENV
    USE_64_BIT_ALL
    USE_64_BIT_INT
    USE_LARGE_FILES
    USE_LOCALE
    USE_LOCALE_COLLATE
    USE_LOCALE_CTYPE
    USE_LOCALE_NUMERIC
    USE_LOCALE_TIME
    USE_PERLIO
    USE_PERL_ATOF
  Built under linux
  Compiled at Aug 25 2025 00:04:02
  %ENV:
    PERL5LIB="/tmp/loop_over_bdir-1721494-QTfThW/shishi-0.0.1-0/blib/arch:/tmp/loop_over_bdir-1721494-QTfThW/shishi-0.0.1-0/blib/lib"
    PERL5OPT=""
    PERL5_CPANPLUS_IS_RUNNING="1721505"
    PERL5_CPAN_IS_RUNNING="1721505"
    PERL_CANARY_STABILITY_NOPROMPT="1"
    PERL_MM_USE_DEFAULT="1"
    PERL_USE_UNSAFE_INC="1"
  @INC:
    /tmp/loop_over_bdir-1721494-QTfThW/shishi-0.0.1-0/blib/arch
    /tmp/loop_over_bdir-1721494-QTfThW/shishi-0.0.1-0/blib/lib
    /home/sand/src/perl/repoperls/installed-perls/host/k93jammy/v5.43.2/6567/lib/site_perl/5.43.2/x86_64-linux
    /home/sand/src/perl/repoperls/installed-perls/host/k93jammy/v5.43.2/6567/lib/site_perl/5.43.2
    /home/sand/src/perl/repoperls/installed-perls/host/k93jammy/v5.43.2/6567/lib/5.43.2/x86_64-linux
    /home/sand/src/perl/repoperls/installed-perls/host/k93jammy/v5.43.2/6567/lib/5.43.2
    .