Back
From: metabase:user:316470a4-2aae-11df-837a-5e0a49663a4f
Subject: PASS overload-substr-0.02 v5.12.1 GNU/Linux
Date: 2010-09-23T21:11:56Z
This distribution has been tested as part of the CPAN Testers
project, supporting the Perl programming language. See
http://wiki.cpantesters.org/ for more information or email
questions to cpan-testers-discuss@perl.org
--
Dear Paul Evans,
This is a computer-generated report for overload-substr-0.02
on perl 5.12.1, created by CPAN-Reporter-1.1801.
Thank you for uploading your work to CPAN. Congratulations!
All tests were successful.
Sections of this report:
* Tester comments
* Program output
* Prerequisites
* Environment and other context
------------------------------
TESTER COMMENTS
------------------------------
Additional comments from tester:
none provided
------------------------------
PROGRAM OUTPUT
------------------------------
Output from './Build test':
t/00use.t .......... ok
t/01plain.t ........ ok
t/02object.t ....... ok
t/03subclass.t ..... ok
t/04methodname.t ... ok
t/05defaultname.t .. ok
t/99pod.t .......... ok
All tests successful.
Files=7, Tests=26, 1 wallclock secs ( 0.05 usr 0.04 sys + 0.51 cusr 0.07 csys = 0.67 CPU)
Result: PASS
------------------------------
PREREQUISITES
------------------------------
Prerequisite modules loaded:
requires:
Module Need Have
------------------ ---- ------
XSLoader 0 0.10
build_requires:
Module Need Have
------------------ ---- ------
ExtUtils::CBuilder 0 0.2703
Test::More 0 0.94
Test::NoWarnings 0 1.02
configure_requires:
Module Need Have
------------------ ---- ------
Module::Build 0.36 0.3607
------------------------------
ENVIRONMENT AND OTHER CONTEXT
------------------------------
Environment variables:
LANG = en_US.UTF-8
PATH = /home/david/bin:/usr/local/sbin:/usr/local/bin:/usr/sbin:/usr/bin:/sbin:/bin:/usr/games
PERL5LIB =
PERL5OPT =
PERL5_CPANPLUS_IS_RUNNING = 18170
PERL5_CPAN_IS_RUNNING = 18170
SHELL = /bin/bash
TERM = xterm-color
Perl special variables (and OS-specific diagnostics, for MSWin32):
$^X = /usr/local/bin/perl
$UID/$EUID = 1000 / 1000
$GID = 1000 4 20 24 25 29 30 44 46 104 109 110 1000
$EGID = 1000 4 20 24 25 29 30 44 46 104 109 110 1000
Perl module toolchain versions installed:
Module Have
------------------- -------
CPAN 1.94_58
Cwd 3.31
ExtUtils::CBuilder 0.2703
ExtUtils::Command 1.16
ExtUtils::Install 1.55
ExtUtils::MakeMaker 6.56
ExtUtils::Manifest 1.57
ExtUtils::ParseXS 2.2206
File::Spec 3.31
Module::Build 0.3607
Module::Signature n/a
Test::Harness 3.21
Test::More 0.94
YAML 0.71
YAML::Syck 1.11
version 0.82
--
Summary of my perl5 (revision 5 version 12 subversion 1) configuration:
Platform:
osname=linux, osvers=2.6.24-19-server, archname=i686-linux-multi
uname='linux crocker 2.6.24-19-server #1 smp wed aug 20 23:54:28 utc 2008 i686 gnulinux '
config_args='-des -Duseshrplib -Dusemultiplicity -Dperladmin=david@kineticode.com -Dcf_email=david@kineticode.com'
hint=recommended, useposix=true, d_sigaction=define
useithreads=undef, usemultiplicity=define
useperlio=define, d_sfio=undef, uselargefiles=define, usesocks=undef
use64bitint=undef, use64bitall=undef, uselongdouble=undef
usemymalloc=n, bincompat5005=undef
Compiler:
cc='cc', ccflags ='-fno-strict-aliasing -pipe -fstack-protector -I/usr/local/include -D_LARGEFILE_SOURCE -D_FILE_OFFSET_BITS=64',
optimize='-O2',
cppflags='-fno-strict-aliasing -pipe -fstack-protector -I/usr/local/include'
ccversion='', gccversion='4.2.4 (Ubuntu 4.2.4-1ubuntu4)', gccosandvers=''
intsize=4, longsize=4, ptrsize=4, doublesize=8, byteorder=1234
d_longlong=define, longlongsize=8, d_longdbl=define, longdblsize=12
ivtype='long', ivsize=4, nvtype='double', nvsize=8, Off_t='off_t', lseeksize=8
alignbytes=4, prototype=define
Linker and Libraries:
ld='cc', ldflags =' -fstack-protector -L/usr/local/lib'
libpth=/usr/local/lib /lib /usr/lib /usr/lib64
libs=-lnsl -ldb -ldl -lm -lcrypt -lutil -lc
perllibs=-lnsl -ldl -lm -lcrypt -lutil -lc
libc=/lib/libc-2.7.so, so=so, useshrplib=true, libperl=libperl.so
gnulibc_version='2.7'
Dynamic Linking:
dlsrc=dl_dlopen.xs, dlext=so, d_dlsymun=undef, ccdlflags='-Wl,-E -Wl,-rpath,/usr/local/lib/perl5/5.12.1/i686-linux-multi/CORE'
cccdlflags='-fPIC', lddlflags='-shared -O2 -L/usr/local/lib -fstack-protector'
Characteristics of this binary (from libperl):
Compile-time options: MULTIPLICITY PERL_DONT_CREATE_GVSV
PERL_IMPLICIT_CONTEXT PERL_MALLOC_WRAP
USE_LARGE_FILES USE_PERLIO USE_PERL_ATOF
Built under linux
Compiled at Jun 20 2010 17:15:27
%ENV:
PERL5LIB=""
PERL5OPT=""
PERL5_CPANPLUS_IS_RUNNING="18170"
PERL5_CPAN_IS_RUNNING="18170"
@INC:
/usr/local/lib/perl5/site_perl/5.12.1/i686-linux-multi
/usr/local/lib/perl5/site_perl/5.12.1
/usr/local/lib/perl5/5.12.1/i686-linux-multi
/usr/local/lib/perl5/5.12.1
/usr/local/lib/perl5/site_perl/5.10.1
/usr/local/lib/perl5/site_perl/5.10.0
/usr/local/lib/perl5/site_perl
.