Math-GSL v0.48 Perl 5 v5.28.3 x86_64-linux

Status
Pass
From
Slaven Rezić
Dist
Math-GSL v0.48
Platform
Perl 5 v5.28.3 x86_64-linux
Date
2024-07-27 06:58:57
ID
b1b7e4d0-4be5-11ef-bfd5-bfdb6d8775ea
This distribution has been tested as part of the CPAN Testers
project, supporting the Perl programming language.  See
http://wiki.cpantesters.org/ for more information or email
questions to cpan-testers-discuss@perl.org


--
Dear Hakon Haegland,

This is a computer-generated report for Math-GSL-0.48
on perl 5.28.3, created by CPAN-Reporter-1.2019.

Thank you for uploading your work to CPAN.  Congratulations!
All tests were successful.

Sections of this report:

    * Tester comments
    * Program output
    * Prerequisites
    * Environment and other context

------------------------------
TESTER COMMENTS
------------------------------

Additional comments from tester:

none provided

------------------------------
PROGRAM OUTPUT
------------------------------

Output from './Build test':

Processing 2.5 XS files, GSL 2.5 (via gsl-config) at /usr
Compiler        = cc (Debian 8.3.0-6) 8.3.0
Copyright (C) 2018 Free Software Foundation, Inc.
This is free software; see the source for copying conditions.  There is NO
warranty; not even for MERCHANTABILITY or FITNESS FOR A PARTICULAR PURPOSE.


ccflags         = -fPIC -I/usr/include -fwrapv -fno-strict-aliasing -pipe -fstack-protector-strong -I/usr/local/include -D_LARGEFILE_SOURCE -D_FILE_OFFSET_BITS=64 -D_FORTIFY_SOURCE=2 -Wall -Wno-sometimes-uninitialized -Wno-unused-function -Wno-unused-value -Wno-unused-function -Wno-unused-variable -Wno-gnu -g -fPIC -fno-omit-frame-pointer -I/usr/include
ldflags         = -shared -L/usr/lib/x86_64-linux-gnu -lgsl -lgslcblas -lm -fPIC -fno-omit-frame-pointer
PERL5LIB        = /home/cpansand/.cpan/build/2024072706/PkgConfig-0.25026-2/blib/arch:/home/cpansand/.cpan/build/2024072706/PkgConfig-0.25026-2/blib/lib:/home/cpansand/.cpan/build/2024072706/Math-GSL-Alien-1.05-3/blib/arch:/home/cpansand/.cpan/build/2024072706/Math-GSL-Alien-1.05-3/blib/lib:/home/cpansand/.cpan/build/2024072706/Alien-Role-Dino-0.08-2/blib/arch:/home/cpansand/.cpan/build/2024072706/Alien-Role-Dino-0.08-2/blib/lib
LD_LIBRARY_PATH = 
# Testing Math::GSL 0.48 with GSL 2.5 on x86_64-linux, Perl (/opt/perl-5.28.3/bin/perl) 5.028003
t/00-load.t ........ ok
t/BLAS.t ........... ok
t/BSpline.t ........ ok
t/CBLAS.t .......... ok
t/CDF.t ............ ok
t/Chebyshev.t ...... ok
t/Combination.t .... ok
t/Complex.t ........ ok
t/Const.t .......... ok
t/DHT.t ............ ok
t/Deriv.t .......... ok
t/Diff.t ........... ok
t/Eigen.t .......... ok
t/Errno.t .......... ok
t/FFT.t ............ ok
t/Fit.t ............ ok
# 
# 	Elements start differing at index 2, delta = 0.00099999999999989
# 		$x->[2] = 3
# 		$y->[2] = 3.001
# 
# 	Elements start differing at index 2, delta = 9.99999998363421e-08
# 		$x->[2] = 3.0010001
# 		$y->[2] = 3.0010002
t/GSL.t ............ ok
t/Heapsort.t ....... ok
t/Histogram.t ...... ok
t/Histogram2D.t .... ok
t/IEEEUtils.t ...... ok
t/Integration.t .... ok
t/Interp.t ......... ok
t/Linalg.t ......... ok
t/Machine.t ........ ok
# 
# 	Elements start differing at index 1, delta = 1
# 		$x->[1] = 3
# 		$y->[1] = 2
t/Matrix.t ......... ok
# 
# 	Elements start differing at index 1, delta = 1
# 		$x->[1] = 3
# 		$y->[1] = 4
# 
# 	Elements start differing at index 1, delta = 1
# 		$x->[1] = 3
# 		$y->[1] = 2
t/MatrixComplex.t .. ok
t/Min.t ............ ok
t/Monte.t .......... ok
t/Multifit.t ....... ok
t/Multilarge.t ..... ok
t/Multimin.t ....... ok
t/Multiroots.t ..... ok
t/Multiset.t ....... ok
t/NTuple.t ......... ok
t/ODEIV.t .......... ok
t/ODEIV_evolve.t ... ok
t/Permutation.t .... ok
t/Poly.t ........... ok
t/PowInt.t ......... ok
t/QRNG.t ........... ok
t/RNG.t ............ ok
t/Randist.t ........ ok
t/Roots.t .......... ok
t/Rstat.t .......... ok
t/SF.t ............. ok
t/Siman.t .......... ok
t/Sort.t ........... ok
t/SparseMatrix.t ... ok
t/Spline.t ......... ok
t/Statistics.t ..... ok
t/Sum.t ............ ok
t/Sys.t ............ ok
# 
# 	Elements start differing at index 0, delta = 9
# 		$x->[0] = 1
# 		$y->[0] = 10
# 
# 	Elements start differing at index 0, delta = 9
# 		$x->[0] = 1
# 		$y->[0] = 10
t/Vector.t ......... ok
t/VectorComplex.t .. ok
t/Wavelet.t ........ ok
t/Wavelet2D.t ...... ok
# Testing Math::GSL with GSL 1.16.1 on x86_64-linux, Perl (/opt/perl-5.28.3/bin/perl) 5.028003
t/ver2func.t ....... ok
All tests successful.
Files=58, Tests=4193, 13 wallclock secs ( 1.18 usr  0.21 sys + 11.45 cusr  1.51 csys = 14.35 CPU)
Result: PASS

------------------------------
PREREQUISITES
------------------------------

Prerequisite modules loaded:

requires:

    Module           Need    Have    
    ---------------- ------- --------
    Math::Complex    0       1.5901  
    parent           0       0.236   
    perl             v5.8.1  5.028003
    Scalar::Util     0       1.63    
    version          0.77    0.9932  

build_requires:

    Module           Need    Have    
    ---------------- ------- --------
    Test::Class      0.12    0.52    
    Test::Exception  0.21    0.43    
    Test::More       0       1.302198
    Test::Most       0.31    0.38    
    Test::Taint      1.06    1.08    

configure_requires:

    Module           Need    Have    
    ---------------- ------- --------
    Math::GSL::Alien 1.03    1.05    
    Module::Build    0.38    0.4234  
    PkgConfig        0.07720 0.25026 


------------------------------
ENVIRONMENT AND OTHER CONTEXT
------------------------------

Environment variables:

    LANG = C
    PATH = /usr/local/bin:/usr/bin:/bin:/usr/local/sbin:/usr/sbin:/sbin:/home/cpansand/bin/linux-gnu:/home/cpansand/bin/sh:/home/cpansand/bin:/usr/games:/home/cpansand/devel:/home/eserte/src/srezic-misc/scripts
    PERL5LIB = /home/cpansand/.cpan/build/2024072706/PkgConfig-0.25026-2/blib/arch:/home/cpansand/.cpan/build/2024072706/PkgConfig-0.25026-2/blib/lib:/home/cpansand/.cpan/build/2024072706/Math-GSL-Alien-1.05-3/blib/arch:/home/cpansand/.cpan/build/2024072706/Math-GSL-Alien-1.05-3/blib/lib:/home/cpansand/.cpan/build/2024072706/Alien-Role-Dino-0.08-2/blib/arch:/home/cpansand/.cpan/build/2024072706/Alien-Role-Dino-0.08-2/blib/lib
    PERL5OPT = 
    PERL5_CPANPLUS_IS_RUNNING = 22260
    PERL5_CPAN_IS_RUNNING = 22260
    PERL5_CPAN_IS_RUNNING_IN_RECURSION = 18393,22260
    PERLDOC = -MPod::Perldoc::ToTextOverstrike
    PERL_BATCH = yes
    PERL_CANARY_STABILITY_NOPROMPT = 1
    PERL_CPAN_REPORTER_CONFIG = /var/tmp/cpansmoker-1023/2024072706/cpanreporter_000_config.ini
    PERL_EXTUTILS_AUTOINSTALL = --defaultdeps
    PERL_USE_UNSAFE_INC = 1
    SHELL = /usr/bin/zsh
    TERM = screen
    TMPDIR = /var/tmp/cpansmoker-1023/2024072706

Perl special variables (and OS-specific diagnostics, for MSWin32):

    $^X = /opt/perl-5.28.3/bin/perl
    $UID/$EUID = 1023 / 1023
    $GID = 1023 1023
    $EGID = 1023 1023

Perl module toolchain versions installed:

    Module              Have    
    ------------------- --------
    CPAN                2.20    
    CPAN::Meta          2.150010
    Cwd                 3.75    
    ExtUtils::CBuilder  0.280236
    ExtUtils::Command   7.70    
    ExtUtils::Install   2.22    
    ExtUtils::MakeMaker 7.70    
    ExtUtils::Manifest  1.75    
    ExtUtils::ParseXS   3.51    
    File::Spec          3.75    
    JSON                4.10    
    JSON::PP            4.16    
    Module::Build       0.4234  
    Module::Signature   n/a     
    Parse::CPAN::Meta   2.150010
    Test2               1.302198
    Test::Harness       3.42    
    Test::More          1.302198
    YAML                1.31    
    YAML::Syck          1.34    
    version             0.9932  


--

Summary of my perl5 (revision 5 version 28 subversion 3) configuration:
   
  Platform:
    osname=linux
    osvers=4.19.0-25-amd64
    archname=x86_64-linux
    uname='linux cloud12.bbbike.org 4.19.0-25-amd64 #1 smp debian 4.19.289-2 (2023-08-08) x86_64 gnulinux '
    config_args='-ds -e -Dprefix=/opt/perl-5.28.3 -Dcf_email=srezic@cpan.org'
    hint=recommended
    useposix=true
    d_sigaction=define
    useithreads=undef
    usemultiplicity=undef
    use64bitint=define
    use64bitall=define
    uselongdouble=undef
    usemymalloc=n
    default_inc_excludes_dot=define
    bincompat5005=undef
  Compiler:
    cc='cc'
    ccflags ='-fwrapv -fno-strict-aliasing -pipe -fstack-protector-strong -I/usr/local/include -D_LARGEFILE_SOURCE -D_FILE_OFFSET_BITS=64 -D_FORTIFY_SOURCE=2'
    optimize='-O2'
    cppflags='-fwrapv -fno-strict-aliasing -pipe -fstack-protector-strong -I/usr/local/include'
    ccversion=''
    gccversion='8.3.0'
    gccosandvers=''
    intsize=4
    longsize=8
    ptrsize=8
    doublesize=8
    byteorder=12345678
    doublekind=3
    d_longlong=define
    longlongsize=8
    d_longdbl=define
    longdblsize=16
    longdblkind=3
    ivtype='long'
    ivsize=8
    nvtype='double'
    nvsize=8
    Off_t='off_t'
    lseeksize=8
    alignbytes=8
    prototype=define
  Linker and Libraries:
    ld='cc'
    ldflags =' -fstack-protector-strong -L/usr/local/lib'
    libpth=/usr/local/lib /usr/lib/gcc/x86_64-linux-gnu/8/include-fixed /usr/include/x86_64-linux-gnu /usr/lib /lib/x86_64-linux-gnu /lib/../lib /usr/lib/x86_64-linux-gnu /usr/lib/../lib /lib /lib64 /usr/lib64
    libs=-lpthread -lnsl -lgdbm -ldb -ldl -lm -lcrypt -lutil -lc
    perllibs=-lpthread -lnsl -ldl -lm -lcrypt -lutil -lc
    libc=libc-2.28.so
    so=so
    useshrplib=false
    libperl=libperl.a
    gnulibc_version='2.28'
  Dynamic Linking:
    dlsrc=dl_dlopen.xs
    dlext=so
    d_dlsymun=undef
    ccdlflags='-Wl,-E'
    cccdlflags='-fPIC'
    lddlflags='-shared -O2 -L/usr/local/lib -fstack-protector-strong'


Characteristics of this binary (from libperl): 
  Compile-time options:
    HAS_TIMES
    PERLIO_LAYERS
    PERL_COPY_ON_WRITE
    PERL_DONT_CREATE_GVSV
    PERL_MALLOC_WRAP
    PERL_OP_PARENT
    PERL_PRESERVE_IVUV
    USE_64_BIT_ALL
    USE_64_BIT_INT
    USE_LARGE_FILES
    USE_LOCALE
    USE_LOCALE_COLLATE
    USE_LOCALE_CTYPE
    USE_LOCALE_NUMERIC
    USE_LOCALE_TIME
    USE_PERLIO
    USE_PERL_ATOF
  Locally applied patches:
    Devel::PatchPerl 2.08
  Built under linux
  Compiled at Jan  2 2024 12:52:26
  %ENV:
    PERL5LIB="/home/cpansand/.cpan/build/2024072706/PkgConfig-0.25026-2/blib/arch:/home/cpansand/.cpan/build/2024072706/PkgConfig-0.25026-2/blib/lib:/home/cpansand/.cpan/build/2024072706/Math-GSL-Alien-1.05-3/blib/arch:/home/cpansand/.cpan/build/2024072706/Math-GSL-Alien-1.05-3/blib/lib:/home/cpansand/.cpan/build/2024072706/Alien-Role-Dino-0.08-2/blib/arch:/home/cpansand/.cpan/build/2024072706/Alien-Role-Dino-0.08-2/blib/lib"
    PERL5OPT=""
    PERL5_CPANPLUS_IS_RUNNING="22260"
    PERL5_CPAN_IS_RUNNING="22260"
    PERL5_CPAN_IS_RUNNING_IN_RECURSION="18393,22260"
    PERLDOC="-MPod::Perldoc::ToTextOverstrike"
    PERL_BATCH="yes"
    PERL_CANARY_STABILITY_NOPROMPT="1"
    PERL_CPAN_REPORTER_CONFIG="/var/tmp/cpansmoker-1023/2024072706/cpanreporter_000_config.ini"
    PERL_EXTUTILS_AUTOINSTALL="--defaultdeps"
    PERL_USE_UNSAFE_INC="1"
  @INC:
    /home/cpansand/.cpan/build/2024072706/PkgConfig-0.25026-2/blib/arch
    /home/cpansand/.cpan/build/2024072706/PkgConfig-0.25026-2/blib/lib
    /home/cpansand/.cpan/build/2024072706/Math-GSL-Alien-1.05-3/blib/arch
    /home/cpansand/.cpan/build/2024072706/Math-GSL-Alien-1.05-3/blib/lib
    /home/cpansand/.cpan/build/2024072706/Alien-Role-Dino-0.08-2/blib/arch
    /home/cpansand/.cpan/build/2024072706/Alien-Role-Dino-0.08-2/blib/lib
    /opt/perl-5.28.3/lib/site_perl/5.28.3/x86_64-linux
    /opt/perl-5.28.3/lib/site_perl/5.28.3
    /opt/perl-5.28.3/lib/5.28.3/x86_64-linux
    /opt/perl-5.28.3/lib/5.28.3
    .