DBIx-RunSQL v0.25 Perl 5 v5.41.10 i86pc-solaris-64
- Status
- Pass
- From
- Carlos Guevara
- Dist
-
DBIx-RunSQL v0.25
- Platform
- Perl 5 v5.41.10 i86pc-solaris-64
- Date
- 2025-03-20 21:45:52
- ID
- b1d1cc0c-05d4-11f0-bf6e-828155cf4b0f
This distribution has been tested as part of the CPAN Testers
project, supporting the Perl programming language. See
http://wiki.cpantesters.org/ for more information or email
questions to cpan-testers-discuss@perl.org
--
Dear Max Maischein,
This is a computer-generated report for DBIx-RunSQL-0.25
on perl 5.41.10, created by CPAN-Reporter-1.2020.
Thank you for uploading your work to CPAN. Congratulations!
All tests were successful.
Sections of this report:
* Tester comments
* Program output
* Prerequisites
* Environment and other context
------------------------------
TESTER COMMENTS
------------------------------
Additional comments from tester:
this report is from an automated smoke testing program
and was not reviewed by a human for accuracy
------------------------------
PROGRAM OUTPUT
------------------------------
Output from '/usr/bin/make test':
PERL_DL_NONLAZY=1 "/export/home/cpan/bin/perl/bin/perl5.41.10" "-MExtUtils::Command::MM" "-MTest::Harness" "-e" "undef *Test::Harness::Switches; test_harness(0, 'blib/lib', 'blib/arch')" t/00-use.t t/01-force.t t/02-trigger.t t/03-comment.t t/04-handle-parameters.t t/05-output-bool.t t/05-select.t t/06-quiet.t t/formatter.t t/rt115442.t t/rt77378.t
t/00-use.t ................ ok
t/01-force.t .............. ok
t/02-trigger.t ............ ok
t/03-comment.t ............ ok
t/04-handle-parameters.t .. ok
t/05-output-bool.t ........ ok
"my" variable $sth masks earlier declaration in same scope at t/05-select.t line 55.
"my" variable $result masks earlier declaration in same scope at t/05-select.t line 59.
"my" variable $sth masks earlier declaration in same scope at t/05-select.t line 65.
"my" variable $result masks earlier declaration in same scope at t/05-select.t line 70.
t/05-select.t ............. ok
t/06-quiet.t .............. ok
t/formatter.t ............. skipped: Test prerequisite modules not installed: Can't locate Text/Table.pm in @INC (you may need to install the Text::Table module) (@INC entries checked: /export/home/cpan/.cpan/build/DBIx-RunSQL-0.25-0/blib/lib /export/home/cpan/.cpan/build/DBIx-RunSQL-0.25-0/blib/arch /export/home/cpan/bin/perl/lib/site_perl/5.41.10/i86pc-solaris-64 /export/home/cpan/bin/perl/lib/site_perl/5.41.10 /export/home/cpan/bin/perl/lib/5.41.10/i86pc-solaris-64 /export/home/cpan/bin/perl/lib/5.41.10 .) at t/formatter.t line 8.
t/rt115442.t .............. ok
t/rt77378.t ............... ok
All tests successful.
Files=11, Tests=31, 1 wallclock secs ( 0.04 usr 0.02 sys + 0.68 cusr 0.16 csys = 0.90 CPU)
Result: PASS
------------------------------
PREREQUISITES
------------------------------
Prerequisite modules loaded:
requires:
Module Need Have
------------------- ----- --------
DBI 0 1.647
Getopt::Long 2.36 2.58
Module::Load 0 0.36
perl 5.010 5.041010
strict 0 1.13
warnings 0 1.74
build_requires:
Module Need Have
------------------- ----- --------
Data::Dumper 0 2.191
ExtUtils::MakeMaker 0 7.72
Test::More 0 1.302209
configure_requires:
Module Need Have
------------------- ----- --------
ExtUtils::MakeMaker 0 7.72
------------------------------
ENVIRONMENT AND OTHER CONTEXT
------------------------------
Environment variables:
AUTOMATED_TESTING = 1
DATE_MANIP_TEST_DM5 = 1
LANG = en_US.UTF-8
LC_ALL = C
NONINTERACTIVE_TESTING = 1
NO_NETWORK_TESTING = 1
PATH = /export/home/cpan/bin/perl/bin:/usr/bin:/usr/sbin:/sbin:/opt/ooce/bin:/usr/gnu/bin
PERL5LIB =
PERL5OPT =
PERL5_CPANPLUS_IS_RUNNING = 21199
PERL5_CPAN_IS_RUNNING = 21199
PERL_MM_USE_DEFAULT = 1
PERL_USE_UNSAFE_INC = 1
SHELL = /bin/bash
TERM = screen
Perl special variables (and OS-specific diagnostics, for MSWin32):
$^X = /export/home/cpan/bin/perl/bin/perl5.41.10
$UID/$EUID = 101 / 101
$GID = 1 1
$EGID = 1 1
Perl module toolchain versions installed:
Module Have
------------------- --------
CPAN 2.38
CPAN::Meta 2.150010
Cwd 3.92
ExtUtils::CBuilder 0.280240
ExtUtils::Command 7.72
ExtUtils::Install 2.22
ExtUtils::MakeMaker 7.72
ExtUtils::Manifest 1.75
ExtUtils::ParseXS 3.57
File::Spec 3.93
JSON 4.10
JSON::PP 4.16
Module::Build 0.4234
Module::Signature n/a
Parse::CPAN::Meta 2.150010
Test2 1.302209
Test::Harness 3.50
Test::More 1.302209
YAML 1.31
YAML::Syck 1.34
version 0.9933
--
Summary of my perl5 (revision 5 version 41 subversion 10) configuration:
Commit id: 9365cdf765d479a867ee523e7593e40d72e836f3
Platform:
osname=solaris
osvers=2.11
archname=i86pc-solaris-64
uname='sunos cjg-omniosce 5.11 omnios-r151050-edfc22bf32 i86pc i386 i86pc '
config_args='-des -Dprefix=/export/home/cpan/bin/perl -Dscriptdir=/export/home/cpan/bin/perl/bin -Dusedevel -Duse64bitall -Dcc=gcc'
hint=recommended
useposix=true
d_sigaction=define
useithreads=undef
usemultiplicity=undef
use64bitint=define
use64bitall=define
uselongdouble=undef
usemymalloc=n
default_inc_excludes_dot=define
Compiler:
cc='gcc'
ccflags ='-m64 -fwrapv -fno-strict-aliasing -pipe -fstack-protector-strong -D_LARGEFILE_SOURCE -D_FILE_OFFSET_BITS=64 -D_FORTIFY_SOURCE=2'
optimize='-O'
cppflags='-m64 -fwrapv -fno-strict-aliasing -pipe -fstack-protector-strong'
ccversion=''
gccversion='13.2.0'
gccosandvers=''
intsize=4
longsize=8
ptrsize=8
doublesize=8
byteorder=12345678
doublekind=3
d_longlong=define
longlongsize=8
d_longdbl=define
longdblsize=16
longdblkind=3
ivtype='long'
ivsize=8
nvtype='double'
nvsize=8
Off_t='off_t'
lseeksize=8
alignbytes=8
prototype=define
Linker and Libraries:
ld='gcc'
ldflags =' -m64 -fstack-protector-strong -L/usr/gnu/lib '
libpth=/opt/gcc-13/lib /usr/lib /usr/gnu/lib /usr/ccs/lib
libs=-lpthread -lsocket -lnsl -ldl -lm -lc
perllibs=-lpthread -lsocket -lnsl -ldl -lm -lc
libc=/lib/libc.so
so=so
useshrplib=true
libperl=libperl.so
gnulibc_version=''
Dynamic Linking:
dlsrc=dl_dlopen.xs
dlext=so
d_dlsymun=undef
ccdlflags=' -R /export/home/cpan/bin/perl/lib/5.41.10/i86pc-solaris-64/CORE'
cccdlflags='-fPIC'
lddlflags=' -shared -m64 -L/usr/gnu/lib -fstack-protector-strong'
Characteristics of this binary (from libperl):
Compile-time options:
HAS_LONG_DOUBLE
HAS_STRTOLD
HAS_TIMES
PERLIO_LAYERS
PERL_COPY_ON_WRITE
PERL_DONT_CREATE_GVSV
PERL_HASH_FUNC_SIPHASH13
PERL_HASH_USE_SBOX32
PERL_MALLOC_WRAP
PERL_OP_PARENT
PERL_PRESERVE_IVUV
PERL_USE_DEVEL
PERL_USE_SAFE_PUTENV
USE_64_BIT_ALL
USE_64_BIT_INT
USE_LARGE_FILES
USE_LOCALE
USE_LOCALE_COLLATE
USE_LOCALE_CTYPE
USE_LOCALE_NUMERIC
USE_LOCALE_TIME
USE_PERLIO
USE_PERL_ATOF
Built under solaris
Compiled at Mar 20 2025 11:49:31
%ENV:
PERL5LIB=""
PERL5OPT=""
PERL5_CPANPLUS_IS_RUNNING="21199"
PERL5_CPAN_IS_RUNNING="21199"
PERL_MM_USE_DEFAULT="1"
PERL_USE_UNSAFE_INC="1"
@INC:
/export/home/cpan/bin/perl/lib/site_perl/5.41.10/i86pc-solaris-64
/export/home/cpan/bin/perl/lib/site_perl/5.41.10
/export/home/cpan/bin/perl/lib/5.41.10/i86pc-solaris-64
/export/home/cpan/bin/perl/lib/5.41.10
.