Back
From: metabase:user:320bfe00-2aae-11df-837a-5e0a49663a4f
Subject: PASS MaxMind-DB-Common-0.040001 v5.25.8 GNU/Linux
Date: 2016-11-23T12:59:39Z
This distribution has been tested as part of the CPAN Testers
project, supporting the Perl programming language. See
http://wiki.cpantesters.org/ for more information or email
questions to cpan-testers-discuss@perl.org
--
Dear MaxMind, Inc.,
This is a computer-generated report for MaxMind-DB-Common-0.040001
on perl 5.25.8, created by CPAN-Reporter-1.2018.
Thank you for uploading your work to CPAN. Congratulations!
All tests were successful.
Sections of this report:
* Tester comments
* Program output
* Prerequisites
* Environment and other context
------------------------------
TESTER COMMENTS
------------------------------
Additional comments from tester:
this report is from an automated smoke testing program
and was not reviewed by a human for accuracy
------------------------------
PROGRAM OUTPUT
------------------------------
Output from '/usr/bin/make test':
PERL_DL_NONLAZY=1 "/tmp/basesmoker-reloperl-J9dP/bin/perl" "-MExtUtils::Command::MM" "-MTest::Harness" "-e" "undef *Test::Harness::Switches; test_harness(0, 'blib/lib', 'blib/arch')" t/*.t t/MaxMind/DB/*.t
#
# Versions for all modules listed in MYMETA.json (including optional ones):
#
# === Configure Requires ===
#
# Module Want Have
# ------------------- ---- ----
# ExtUtils::MakeMaker any 7.24
#
# === Build Requires ===
#
# Module Want Have
# ------------------- ---- ----
# ExtUtils::MakeMaker any 7.24
#
# === Test Requires ===
#
# Module Want Have
# ------------------- ---- --------
# ExtUtils::MakeMaker any 7.24
# File::Spec any 3.66
# Test::More 0.96 1.302062
#
# === Test Recommends ===
#
# Module Want Have
# ---------- -------- --------
# CPAN::Meta 2.120900 2.150010
#
# === Runtime Requires ===
#
# Module Want Have
# ----------------------- ---- --------
# Carp any 1.42
# Data::Dumper::Concise any 2.022
# DateTime any 1.41
# Exporter any 5.72
# List::AllUtils any 0.12
# Math::BigInt any 1.999800
# Moo any 2.002005
# Moo::Role any 2.002005
# MooX::StrictConstructor any 0.008
# Scalar::Util any 1.46_02
# Sub::Quote any 2.002005
# autodie any 2.29
# constant any 1.33
# namespace::autoclean any 0.28
# overload any 1.27
# strict any 1.11
# warnings any 1.37
#
t/00-report-prereqs.t ..... ok
t/author-00-compile.t ..... skipped: these tests are for testing by the author
t/author-eol.t ............ skipped: these tests are for testing by the author
t/author-no-tabs.t ........ skipped: these tests are for testing by the author
t/author-pod-spell.t ...... skipped: these tests are for testing by the author
t/author-pod-syntax.t ..... skipped: these tests are for testing by the author
t/author-test-version.t ... skipped: these tests are for testing by the author
t/compile.t ............... ok
t/MaxMind/DB/Common.t ..... ok
t/MaxMind/DB/Metadata.t ... ok
t/release-cpan-changes.t .. skipped: these tests are for release candidate testing
t/release-portability.t ... skipped: these tests are for release candidate testing
t/release-synopsis.t ...... skipped: these tests are for release candidate testing
t/release-tidyall.t ....... skipped: these tests are for release candidate testing
All tests successful.
Files=14, Tests=8, 1 wallclock secs ( 0.03 usr 0.02 sys + 0.90 cusr 0.08 csys = 1.03 CPU)
Result: PASS
------------------------------
PREREQUISITES
------------------------------
Prerequisite modules loaded:
requires:
Module Need Have
----------------------- ----- --------
autodie 0 2.29
Carp 0 1.42
constant 0 1.33
Data::Dumper::Concise 0 2.022
DateTime 0 1.41
Exporter 0 5.72
List::AllUtils 0 0.12
Math::BigInt 0 1.999800
Moo 0 2.002005
Moo::Role 0 2.002005
MooX::StrictConstructor 0 0.008
namespace::autoclean 0 0.28
overload 0 1.27
perl 5.008 5.025008
Scalar::Util 0 1.46_02
strict 0 1.11
Sub::Quote 0 2.002005
warnings 0 1.37
build_requires:
Module Need Have
----------------------- ----- --------
ExtUtils::MakeMaker 0 7.24
File::Spec 0 3.66
Test::More 0.96 1.302062
configure_requires:
Module Need Have
----------------------- ----- --------
ExtUtils::MakeMaker 0 7.24
perl 5.008 5.025008
------------------------------
ENVIRONMENT AND OTHER CONTEXT
------------------------------
Environment variables:
AUTOMATED_TESTING = 1
LANG = en_US.UTF-8
LANGUAGE = en_US:en
PATH = /home/sand/bin:/usr/local/bin:/usr/bin:/bin:/usr/games:/usr/local/perl/bin:/usr/X11/bin:/sbin:/usr/sbin
PERL5LIB = /tmp/loop_over_bdir-11796-iLjsVp/FusionInventory-Agent-2.3.18-0/blib/arch:/tmp/loop_over_bdir-11796-iLjsVp/FusionInventory-Agent-2.3.18-0/blib/lib
PERL5OPT =
PERL5_CPANPLUS_IS_RUNNING = 23875
PERL5_CPAN_IS_RUNNING = 23875
PERL_CANARY_STABILITY_NOPROMPT = 1
PERL_MM_USE_DEFAULT = 1
SHELL = /usr/bin/zsh
TERM = screen
Perl special variables (and OS-specific diagnostics, for MSWin32):
$^X = /tmp/basesmoker-reloperl-J9dP/bin/perl
$UID/$EUID = 1005 / 1005
$GID = 1005 1005
$EGID = 1005 1005
Perl module toolchain versions installed:
Module Have
------------------- ----------
CPAN 2.15
CPAN::Meta 2.150010
Cwd 3.66
ExtUtils::CBuilder 0.280225
ExtUtils::Command 7.24
ExtUtils::Install 2.04
ExtUtils::MakeMaker 7.24
ExtUtils::Manifest 1.70
ExtUtils::ParseXS 3.33
File::Spec 3.66
JSON 2.90
JSON::PP 2.27400_02
Module::Build 0.4220
Module::Signature 0.81
Parse::CPAN::Meta 2.150010
Test::Harness 3.36_01
Test::More 1.302062
YAML 1.19
YAML::Syck 1.29
version 0.9917
--
Summary of my perl5 (revision 5 version 25 subversion 8) configuration:
Derived from: b289a0bd3e66981f9f724fb37f0f1aa6c8931ba0
Platform:
osname=linux
osvers=4.7.0-1-amd64
archname=x86_64-linux-thread-multi
uname='linux k83 4.7.0-1-amd64 #1 smp debian 4.7.8-1 (2016-10-19) x86_64 gnulinux '
config_args='-Dprefix=/home/sand/src/perl/repoperls/installed-perls/perl/v5.25.7-8-gb289a0b/f7bf -Dmyhostname=k83 -Dinstallusrbinperl=n -Uversiononly -Dusedevel -des -Ui_db -Dlibswanted=cl pthread socket inet nsl gdbm dbm malloc dl ld sun m crypt sec util c cposix posix ucb BSD gdbm_compat -Duseithreads -Uuselongdouble -DDEBUGGING=-g'
hint=recommended
useposix=true
d_sigaction=define
useithreads=define
usemultiplicity=define
use64bitint=define
use64bitall=define
uselongdouble=undef
usemymalloc=n
bincompat5005=undef
Compiler:
cc='cc'
ccflags ='-D_REENTRANT -D_GNU_SOURCE -fwrapv -fno-strict-aliasing -pipe -fstack-protector-strong -I/usr/local/include -D_LARGEFILE_SOURCE -D_FILE_OFFSET_BITS=64'
optimize='-O2 -g'
cppflags='-D_REENTRANT -D_GNU_SOURCE -fwrapv -fno-strict-aliasing -pipe -fstack-protector-strong -I/usr/local/include'
ccversion=''
gccversion='6.2.0 20160830'
gccosandvers=''
intsize=4
longsize=8
ptrsize=8
doublesize=8
byteorder=12345678
doublekind=3
d_longlong=define
longlongsize=8
d_longdbl=define
longdblsize=16
longdblkind=3
ivtype='long'
ivsize=8
nvtype='double'
nvsize=8
Off_t='off_t'
lseeksize=8
alignbytes=8
prototype=define
Linker and Libraries:
ld='cc'
ldflags =' -fstack-protector-strong -L/usr/local/lib'
libpth=/usr/local/lib /usr/lib/gcc/x86_64-linux-gnu/6/include-fixed /usr/include/x86_64-linux-gnu /usr/lib /lib/x86_64-linux-gnu /lib/../lib /usr/lib/x86_64-linux-gnu /usr/lib/../lib /lib
libs=-lpthread -lnsl -lgdbm -ldl -lm -lcrypt -lutil -lc -lgdbm_compat
perllibs=-lpthread -lnsl -ldl -lm -lcrypt -lutil -lc
libc=libc-2.24.so
so=so
useshrplib=false
libperl=libperl.a
gnulibc_version='2.24'
Dynamic Linking:
dlsrc=dl_dlopen.xs
dlext=so
d_dlsymun=undef
ccdlflags='-Wl,-E'
cccdlflags='-fPIC'
lddlflags='-shared -O2 -g -L/usr/local/lib -fstack-protector-strong'
Characteristics of this binary (from libperl):
Compile-time options:
HAS_TIMES
MULTIPLICITY
PERLIO_LAYERS
PERL_COPY_ON_WRITE
PERL_DONT_CREATE_GVSV
PERL_HASH_FUNC_ONE_AT_A_TIME_HARD
PERL_IMPLICIT_CONTEXT
PERL_MALLOC_WRAP
PERL_OP_PARENT
PERL_PRESERVE_IVUV
PERL_USE_DEVEL
USE_64_BIT_ALL
USE_64_BIT_INT
USE_ITHREADS
USE_LARGE_FILES
USE_LOCALE
USE_LOCALE_COLLATE
USE_LOCALE_CTYPE
USE_LOCALE_NUMERIC
USE_LOCALE_TIME
USE_PERLIO
USE_PERL_ATOF
USE_REENTRANT_API
Locally applied patches:
uncommitted-changes
Built under linux
Compiled at Nov 22 2016 14:47:29
%ENV:
PERL5LIB="/tmp/loop_over_bdir-11796-iLjsVp/FusionInventory-Agent-2.3.18-0/blib/arch:/tmp/loop_over_bdir-11796-iLjsVp/FusionInventory-Agent-2.3.18-0/blib/lib"
PERL5OPT=""
PERL5_CPANPLUS_IS_RUNNING="23875"
PERL5_CPAN_IS_RUNNING="23875"
PERL_CANARY_STABILITY_NOPROMPT="1"
PERL_MM_USE_DEFAULT="1"
@INC:
/tmp/loop_over_bdir-11796-iLjsVp/FusionInventory-Agent-2.3.18-0/blib/arch
/tmp/loop_over_bdir-11796-iLjsVp/FusionInventory-Agent-2.3.18-0/blib/lib
/home/sand/src/perl/repoperls/installed-perls/perl/v5.25.7-8-gb289a0b/f7bf/lib/site_perl/5.25.8/x86_64-linux-thread-multi
/home/sand/src/perl/repoperls/installed-perls/perl/v5.25.7-8-gb289a0b/f7bf/lib/site_perl/5.25.8
/home/sand/src/perl/repoperls/installed-perls/perl/v5.25.7-8-gb289a0b/f7bf/lib/5.25.8/x86_64-linux-thread-multi
/home/sand/src/perl/repoperls/installed-perls/perl/v5.25.7-8-gb289a0b/f7bf/lib/5.25.8
.